BEGIN:VCALENDAR
VERSION:2.0
PRODID:-//Norwin Public Library - ECPv6.15.20//NONSGML v1.0//EN
CALSCALE:GREGORIAN
METHOD:PUBLISH
X-WR-CALNAME:Norwin Public Library
X-ORIGINAL-URL:https://norwinpubliclibrary.net
X-WR-CALDESC:Events for Norwin Public Library
REFRESH-INTERVAL;VALUE=DURATION:PT1H
X-Robots-Tag:noindex
X-PUBLISHED-TTL:PT1H
BEGIN:VTIMEZONE
TZID:America/New_York
BEGIN:DAYLIGHT
TZOFFSETFROM:-0500
TZOFFSETTO:-0400
TZNAME:EDT
DTSTART:20220313T070000
END:DAYLIGHT
BEGIN:STANDARD
TZOFFSETFROM:-0400
TZOFFSETTO:-0500
TZNAME:EST
DTSTART:20221106T060000
END:STANDARD
BEGIN:DAYLIGHT
TZOFFSETFROM:-0500
TZOFFSETTO:-0400
TZNAME:EDT
DTSTART:20230312T070000
END:DAYLIGHT
BEGIN:STANDARD
TZOFFSETFROM:-0400
TZOFFSETTO:-0500
TZNAME:EST
DTSTART:20231105T060000
END:STANDARD
BEGIN:DAYLIGHT
TZOFFSETFROM:-0500
TZOFFSETTO:-0400
TZNAME:EDT
DTSTART:20240310T070000
END:DAYLIGHT
BEGIN:STANDARD
TZOFFSETFROM:-0400
TZOFFSETTO:-0500
TZNAME:EST
DTSTART:20241103T060000
END:STANDARD
END:VTIMEZONE
BEGIN:VEVENT
DTSTART;TZID=America/New_York:20230504T180000
DTEND;TZID=America/New_York:20230504T190000
DTSTAMP:20260420T162607
CREATED:20230328T152320Z
LAST-MODIFIED:20230328T152320Z
UID:10000168-1683223200-1683226800@norwinpubliclibrary.net
SUMMARY:Anime Manga Club
DESCRIPTION:Are you an Anime or Manga fan? Maybe both? \nJoin other fans like you once a month. Each session we will discuss and do some activity all about Anime & Manga. \nThis is for those 5th grade and up please. Register here.
URL:https://norwinpubliclibrary.net/event/anime-manga-club-3/
LOCATION:Norwin Library Young Adult Library\, 100 Caruthers Lane\, Irwin\, PA\, 15642\, United States
CATEGORIES:Just4Kids,Library Programs
ATTACH;FMTTYPE=image/jpeg:https://norwinpubliclibrary.net/wp-content/uploads/2022/12/animeclub.jpg
ORGANIZER;CN="Melanie Matthews":MAILTO:mmatthews@norwinpubliclibrary.net
END:VEVENT
BEGIN:VEVENT
DTSTART;TZID=America/New_York:20230406T180000
DTEND;TZID=America/New_York:20230406T190000
DTSTAMP:20260420T162607
CREATED:20230228T160535Z
LAST-MODIFIED:20230228T160535Z
UID:10000140-1680804000-1680807600@norwinpubliclibrary.net
SUMMARY:Anime Manga Club
DESCRIPTION:Are you an Anime or Manga fan? Maybe both? \nJoin other fans like you once a month. \nEach session we will discuss and do some activity all about Anime & Manga. \nThis is for those 5th grade and up please. Register here.
URL:https://norwinpubliclibrary.net/event/anime-manga-club-2/
LOCATION:Norwin Library Young Adult Library\, 100 Caruthers Lane\, Irwin\, PA\, 15642\, United States
CATEGORIES:Library Programs,Teens
ATTACH;FMTTYPE=image/jpeg:https://norwinpubliclibrary.net/wp-content/uploads/2022/12/animeclub.jpg
ORGANIZER;CN="Melanie Matthews":MAILTO:mmatthews@norwinpubliclibrary.net
END:VEVENT
BEGIN:VEVENT
DTSTART;TZID=America/New_York:20230327T180000
DTEND;TZID=America/New_York:20230327T190000
DTSTAMP:20260420T162607
CREATED:20230126T173936Z
LAST-MODIFIED:20230126T173936Z
UID:10000107-1679940000-1679943600@norwinpubliclibrary.net
SUMMARY:American Sign Language Class
DESCRIPTION:These classes provide an introduction to the American Sign Language. \nJoin Noah McAuley and Michele Brown as they teach the basics of signing. \nPlease register here or call the library at 724-863-4700 x 3
URL:https://norwinpubliclibrary.net/event/american-sign-language-class-4/
LOCATION:Norwin Library Young Adult Library\, 100 Caruthers Lane\, Irwin\, PA\, 15642\, United States
CATEGORIES:Library Programs
ATTACH;FMTTYPE=image/jpeg:https://norwinpubliclibrary.net/wp-content/uploads/2023/01/asl-signs-new.jpeg
END:VEVENT
BEGIN:VEVENT
DTSTART;TZID=America/New_York:20230313T180000
DTEND;TZID=America/New_York:20230313T190000
DTSTAMP:20260420T162607
CREATED:20230126T173734Z
LAST-MODIFIED:20230126T173734Z
UID:10000106-1678730400-1678734000@norwinpubliclibrary.net
SUMMARY:American Sign Language Class
DESCRIPTION:These classes provide an introduction to the American Sign Language. \nJoin Noah McAuley and Michele Brown as they teach the basics of signing. \nPlease register here or call the library at 724-863-4700 x 3
URL:https://norwinpubliclibrary.net/event/american-sign-language-class-3/
LOCATION:Norwin Library Young Adult Library\, 100 Caruthers Lane\, Irwin\, PA\, 15642\, United States
CATEGORIES:Library Programs
ATTACH;FMTTYPE=image/jpeg:https://norwinpubliclibrary.net/wp-content/uploads/2023/01/asl-signs-new.jpeg
END:VEVENT
BEGIN:VEVENT
DTSTART;TZID=America/New_York:20230227T180000
DTEND;TZID=America/New_York:20230227T190000
DTSTAMP:20260420T162607
CREATED:20230126T173520Z
LAST-MODIFIED:20230126T173520Z
UID:10000105-1677520800-1677524400@norwinpubliclibrary.net
SUMMARY:American Sign Language Class
DESCRIPTION:These classes provide an introduction to the American Sign Language. \nJoin Noah McAuley and Michele Brown as they teach the basics of signing. \nPlease register here or call the library at 724-863-4700 x 3
URL:https://norwinpubliclibrary.net/event/american-sign-language-class-2/
LOCATION:Norwin Library Young Adult Library\, 100 Caruthers Lane\, Irwin\, PA\, 15642\, United States
CATEGORIES:Library Programs
ATTACH;FMTTYPE=image/jpeg:https://norwinpubliclibrary.net/wp-content/uploads/2023/01/asl-signs-new.jpeg
END:VEVENT
BEGIN:VEVENT
DTSTART;TZID=America/New_York:20230213T180000
DTEND;TZID=America/New_York:20230213T190000
DTSTAMP:20260420T162607
CREATED:20230126T172632Z
LAST-MODIFIED:20230126T172653Z
UID:10000104-1676311200-1676314800@norwinpubliclibrary.net
SUMMARY:American Sign Language Class
DESCRIPTION:These classes provide an introduction to the American Sign Language. \nJoin Noah McAuley and Michele Brown as they teach the basics of signing. \nPlease register here or call the library at 724-863-4700 x 3
URL:https://norwinpubliclibrary.net/event/american-sign-language-class/
LOCATION:Norwin Library Young Adult Library\, 100 Caruthers Lane\, Irwin\, PA\, 15642\, United States
CATEGORIES:Library Programs
ATTACH;FMTTYPE=image/jpeg:https://norwinpubliclibrary.net/wp-content/uploads/2023/01/asl-signs-new.jpeg
END:VEVENT
BEGIN:VEVENT
DTSTART;TZID=America/New_York:20230202T180000
DTEND;TZID=America/New_York:20230202T190000
DTSTAMP:20260420T162607
CREATED:20230110T173017Z
LAST-MODIFIED:20230110T173936Z
UID:10000078-1675360800-1675364400@norwinpubliclibrary.net
SUMMARY:Anime-Manga Club
DESCRIPTION:Are you an Anime or Manga fan? Maybe both?\nJoin other fans like you once a month. Each session we will discuss and do some activity all about Anime & Manga.\nThis is for those 5th grade and up please. Register online.
URL:https://norwinpubliclibrary.net/event/anime-manga-club/
LOCATION:Norwin Library Young Adult Library\, 100 Caruthers Lane\, Irwin\, PA\, 15642\, United States
CATEGORIES:Library Programs,Teens
ATTACH;FMTTYPE=image/jpeg:https://norwinpubliclibrary.net/wp-content/uploads/2022/12/animeclub.jpg
ORGANIZER;CN="Melanie Matthews":MAILTO:mmatthews@norwinpubliclibrary.net
END:VEVENT
END:VCALENDAR