BEGIN:VCALENDAR
VERSION:2.0
PRODID:-//Norwin Public Library - ECPv6.15.20//NONSGML v1.0//EN
CALSCALE:GREGORIAN
METHOD:PUBLISH
X-WR-CALNAME:Norwin Public Library
X-ORIGINAL-URL:https://norwinpubliclibrary.net
X-WR-CALDESC:Events for Norwin Public Library
REFRESH-INTERVAL;VALUE=DURATION:PT1H
X-Robots-Tag:noindex
X-PUBLISHED-TTL:PT1H
BEGIN:VTIMEZONE
TZID:America/New_York
BEGIN:DAYLIGHT
TZOFFSETFROM:-0500
TZOFFSETTO:-0400
TZNAME:EDT
DTSTART:20210314T070000
END:DAYLIGHT
BEGIN:STANDARD
TZOFFSETFROM:-0400
TZOFFSETTO:-0500
TZNAME:EST
DTSTART:20211107T060000
END:STANDARD
BEGIN:DAYLIGHT
TZOFFSETFROM:-0500
TZOFFSETTO:-0400
TZNAME:EDT
DTSTART:20220313T070000
END:DAYLIGHT
BEGIN:STANDARD
TZOFFSETFROM:-0400
TZOFFSETTO:-0500
TZNAME:EST
DTSTART:20221106T060000
END:STANDARD
BEGIN:DAYLIGHT
TZOFFSETFROM:-0500
TZOFFSETTO:-0400
TZNAME:EDT
DTSTART:20230312T070000
END:DAYLIGHT
BEGIN:STANDARD
TZOFFSETFROM:-0400
TZOFFSETTO:-0500
TZNAME:EST
DTSTART:20231105T060000
END:STANDARD
BEGIN:DAYLIGHT
TZOFFSETFROM:-0500
TZOFFSETTO:-0400
TZNAME:EDT
DTSTART:20240310T070000
END:DAYLIGHT
BEGIN:STANDARD
TZOFFSETFROM:-0400
TZOFFSETTO:-0500
TZNAME:EST
DTSTART:20241103T060000
END:STANDARD
END:VTIMEZONE
BEGIN:VEVENT
DTSTART;TZID=America/New_York:20230522T110000
DTEND;TZID=America/New_York:20230522T113000
DTSTAMP:20260421T215544
CREATED:20230213T192934Z
LAST-MODIFIED:20230420T204136Z
UID:10000132-1684753200-1684755000@norwinpubliclibrary.net
SUMMARY:Storytime!
DESCRIPTION:Storytimes are held Monday and Wednesday at 11 AM. Our Children’s Librarian will read stories\, lead songs\, and integrate fingerplays and other stimulating activities for young children.
URL:https://norwinpubliclibrary.net/event/storytime-31/
LOCATION:Norwin Library Storybook Square\, 100 Caruthers Lane\, Irwin\, PA\, 15642\, United States
CATEGORIES:Just4Kids,Library Programs,Storytime
ATTACH;FMTTYPE=image/jpeg:https://norwinpubliclibrary.net/wp-content/uploads/2022/08/moveandgroove.jpg
ORGANIZER;CN="Barbara McKee":MAILTO:bmckee@norwinpubliclibrary.net
END:VEVENT
BEGIN:VEVENT
DTSTART;TZID=America/New_York:20230517T180000
DTEND;TZID=America/New_York:20230517T183000
DTSTAMP:20260421T215544
CREATED:20230328T180003Z
LAST-MODIFIED:20230328T180003Z
UID:10000171-1684346400-1684348200@norwinpubliclibrary.net
SUMMARY:PJs Storytime
DESCRIPTION:Snuggle up for a few bedtime stories and songs to get you ready for bed. \nEach sleepy kid will get a craft to take home too. \nFeel free to come dressed in your pajamas. \nNo registration needed.
URL:https://norwinpubliclibrary.net/event/pjs-storytime-5/
LOCATION:Norwin Library Storybook Square\, 100 Caruthers Lane\, Irwin\, PA\, 15642\, United States
CATEGORIES:Just4Kids,Library Programs,Storytime
ATTACH;FMTTYPE=image/jpeg:https://norwinpubliclibrary.net/wp-content/uploads/2022/08/pjs.jpg
ORGANIZER;CN="Melanie Matthews":MAILTO:mmatthews@norwinpubliclibrary.net
END:VEVENT
BEGIN:VEVENT
DTSTART;TZID=America/New_York:20230517T110000
DTEND;TZID=America/New_York:20230517T113000
DTSTAMP:20260421T215544
CREATED:20230213T192847Z
LAST-MODIFIED:20230420T204103Z
UID:10000131-1684321200-1684323000@norwinpubliclibrary.net
SUMMARY:Storytime!
DESCRIPTION:Storytimes are held Monday and Wednesday at 11 AM. Our Children’s Librarian will read stories\, lead songs\, and integrate fingerplays and other stimulating activities for young children.
URL:https://norwinpubliclibrary.net/event/storytime-30/
LOCATION:Norwin Library Storybook Square\, 100 Caruthers Lane\, Irwin\, PA\, 15642\, United States
CATEGORIES:Just4Kids,Library Programs,Storytime
ATTACH;FMTTYPE=image/jpeg:https://norwinpubliclibrary.net/wp-content/uploads/2022/08/moveandgroove.jpg
ORGANIZER;CN="Barbara McKee":MAILTO:bmckee@norwinpubliclibrary.net
END:VEVENT
BEGIN:VEVENT
DTSTART;TZID=America/New_York:20230515T110000
DTEND;TZID=America/New_York:20230515T113000
DTSTAMP:20260421T215544
CREATED:20230213T192721Z
LAST-MODIFIED:20230420T204038Z
UID:10000130-1684148400-1684150200@norwinpubliclibrary.net
SUMMARY:Storytime!
DESCRIPTION:Storytimes are held Monday and Wednesday at 11 AM. Our Children’s Librarian will read stories\, lead songs\, and integrate fingerplays and other stimulating activities for young children.
URL:https://norwinpubliclibrary.net/event/storytime-29/
LOCATION:Norwin Library Storybook Square\, 100 Caruthers Lane\, Irwin\, PA\, 15642\, United States
CATEGORIES:Just4Kids,Library Programs,Storytime
ATTACH;FMTTYPE=image/jpeg:https://norwinpubliclibrary.net/wp-content/uploads/2022/08/moveandgroove.jpg
ORGANIZER;CN="Barbara McKee":MAILTO:bmckee@norwinpubliclibrary.net
END:VEVENT
BEGIN:VEVENT
DTSTART;TZID=America/New_York:20230509T103000
DTEND;TZID=America/New_York:20230509T113000
DTSTAMP:20260421T215544
CREATED:20230328T152541Z
LAST-MODIFIED:20230328T152541Z
UID:10000169-1683628200-1683631800@norwinpubliclibrary.net
SUMMARY:Baby Move and Groove Lap Time
DESCRIPTION:Bring in your newborns-2 year old as we engage in songs\, fingerplays\, motion and stories. \nPlease bring your child’s favorite blanket or pillow as we will be on the floor. \nNo Registration Required.
URL:https://norwinpubliclibrary.net/event/baby-move-and-groove-lap-time-6/
LOCATION:Norwin Library Storybook Square\, 100 Caruthers Lane\, Irwin\, PA\, 15642\, United States
CATEGORIES:Just4Kids,Library Programs
ATTACH;FMTTYPE=image/jpeg:https://norwinpubliclibrary.net/wp-content/uploads/2023/02/babymove.jpg
ORGANIZER;CN="Melanie Matthews":MAILTO:mmatthews@norwinpubliclibrary.net
END:VEVENT
BEGIN:VEVENT
DTSTART;TZID=America/New_York:20230503T110000
DTEND;TZID=America/New_York:20230503T113000
DTSTAMP:20260421T215544
CREATED:20230213T192506Z
LAST-MODIFIED:20230420T203910Z
UID:10000128-1683111600-1683113400@norwinpubliclibrary.net
SUMMARY:Storytime!
DESCRIPTION:Storytimes are held Monday and Wednesday at 11 AM. Our Children’s Librarian will read stories\, lead songs\, and integrate fingerplays and other stimulating activities for young children.
URL:https://norwinpubliclibrary.net/event/storytime-27/
LOCATION:Norwin Library Storybook Square\, 100 Caruthers Lane\, Irwin\, PA\, 15642\, United States
CATEGORIES:Just4Kids,Library Programs,Storytime
ATTACH;FMTTYPE=image/jpeg:https://norwinpubliclibrary.net/wp-content/uploads/2022/08/moveandgroove.jpg
ORGANIZER;CN="Barbara McKee":MAILTO:bmckee@norwinpubliclibrary.net
END:VEVENT
BEGIN:VEVENT
DTSTART;TZID=America/New_York:20230501T110000
DTEND;TZID=America/New_York:20230501T120000
DTSTAMP:20260421T215544
CREATED:20230208T211802Z
LAST-MODIFIED:20230420T203806Z
UID:10000125-1682938800-1682942400@norwinpubliclibrary.net
SUMMARY:Storytime!
DESCRIPTION:Storytimes are held Monday and Wednesday at 11 AM. Our Children’s Librarian will read stories\, lead songs\, and integrate fingerplays and other stimulating activities for young children.
URL:https://norwinpubliclibrary.net/event/storytime-26/
LOCATION:Norwin Library Storybook Square\, 100 Caruthers Lane\, Irwin\, PA\, 15642\, United States
CATEGORIES:Just4Kids,Library Programs,Storytime
ATTACH;FMTTYPE=image/jpeg:https://norwinpubliclibrary.net/wp-content/uploads/2022/08/moveandgroove.jpg
ORGANIZER;CN="Barbara McKee":MAILTO:bmckee@norwinpubliclibrary.net
END:VEVENT
BEGIN:VEVENT
DTSTART;TZID=America/New_York:20230419T183000
DTEND;TZID=America/New_York:20230419T190000
DTSTAMP:20260421T215544
CREATED:20230228T163249Z
LAST-MODIFIED:20230228T163249Z
UID:10000143-1681929000-1681930800@norwinpubliclibrary.net
SUMMARY:PJs Storytime
DESCRIPTION:Snuggle up for a few bedtime stories and songs to get you ready for bed. \nEach sleepy kid will get a craft to take home too. \nFeel free to come dressed in your pajamas. No registration needed.
URL:https://norwinpubliclibrary.net/event/pjs-storytime-4/
LOCATION:Norwin Library Storybook Square\, 100 Caruthers Lane\, Irwin\, PA\, 15642\, United States
CATEGORIES:Just4Kids,Storytime
ATTACH;FMTTYPE=image/jpeg:https://norwinpubliclibrary.net/wp-content/uploads/2022/08/pjs.jpg
ORGANIZER;CN="Melanie Matthews":MAILTO:mmatthews@norwinpubliclibrary.net
END:VEVENT
BEGIN:VEVENT
DTSTART;TZID=America/New_York:20230315T180000
DTEND;TZID=America/New_York:20230315T183000
DTSTAMP:20260421T215544
CREATED:20230202T200058Z
LAST-MODIFIED:20230202T200131Z
UID:10000119-1678903200-1678905000@norwinpubliclibrary.net
SUMMARY:PJ Story Time
DESCRIPTION:Snuggle up for a few bedtime stories and songs to get you ready for bed. Each sleepy kid will get a craft to take home too. Feel free to come dressed in your pajamas.\nNo registration needed.
URL:https://norwinpubliclibrary.net/event/pj-story-time/
LOCATION:Norwin Library Storybook Square\, 100 Caruthers Lane\, Irwin\, PA\, 15642\, United States
CATEGORIES:Just4Kids,Library Programs,Storytime
ATTACH;FMTTYPE=image/jpeg:https://norwinpubliclibrary.net/wp-content/uploads/2022/08/pjs.jpg
ORGANIZER;CN="Melanie Matthews":MAILTO:mmatthews@norwinpubliclibrary.net
END:VEVENT
BEGIN:VEVENT
DTSTART;TZID=America/New_York:20230308T110000
DTEND;TZID=America/New_York:20230308T113000
DTSTAMP:20260421T215544
CREATED:20230213T192622Z
LAST-MODIFIED:20230213T192622Z
UID:10000129-1678273200-1678275000@norwinpubliclibrary.net
SUMMARY:Storytime!
DESCRIPTION:Storytimes are held Monday and Wednesday at 11 AM. Our Children’s Librarian will read stories\, lead songs\, and integrate fingerplays and other stimulating activities for young children.
URL:https://norwinpubliclibrary.net/event/storytime-28/
LOCATION:Norwin Library Storybook Square\, 100 Caruthers Lane\, Irwin\, PA\, 15642\, United States
CATEGORIES:Just4Kids,Library Programs,Storytime
ATTACH;FMTTYPE=image/jpeg:https://norwinpubliclibrary.net/wp-content/uploads/2022/08/moveandgroove.jpg
ORGANIZER;CN="Barbara McKee":MAILTO:bmckee@norwinpubliclibrary.net
END:VEVENT
BEGIN:VEVENT
DTSTART;TZID=America/New_York:20230301T110000
DTEND;TZID=America/New_York:20230301T113000
DTSTAMP:20260421T215544
CREATED:20230112T223732Z
LAST-MODIFIED:20230112T223732Z
UID:10000095-1677668400-1677670200@norwinpubliclibrary.net
SUMMARY:Storytime!
DESCRIPTION:Storytimes are held Monday and Wednesday at 11 AM. Our Children’s Librarian will read stories\, lead songs\, and integrate fingerplays and other stimulating activities for young children.
URL:https://norwinpubliclibrary.net/event/storytime-24/
LOCATION:Norwin Library Storybook Square\, 100 Caruthers Lane\, Irwin\, PA\, 15642\, United States
CATEGORIES:Just4Kids,Library Programs,Storytime
ATTACH;FMTTYPE=image/jpeg:https://norwinpubliclibrary.net/wp-content/uploads/2022/08/moveandgroove.jpg
ORGANIZER;CN="Barbara McKee":MAILTO:bmckee@norwinpubliclibrary.net
END:VEVENT
BEGIN:VEVENT
DTSTART;TZID=America/New_York:20230222T110000
DTEND;TZID=America/New_York:20230222T113000
DTSTAMP:20260421T215544
CREATED:20230112T223637Z
LAST-MODIFIED:20230112T223637Z
UID:10000094-1677063600-1677065400@norwinpubliclibrary.net
SUMMARY:Storytime!
DESCRIPTION:Storytimes are held Monday and Wednesday at 11 AM. Our Children’s Librarian will read stories\, lead songs\, and integrate fingerplays and other stimulating activities for young children.
URL:https://norwinpubliclibrary.net/event/storytime-23/
LOCATION:Norwin Library Storybook Square\, 100 Caruthers Lane\, Irwin\, PA\, 15642\, United States
CATEGORIES:Just4Kids,Library Programs,Storytime
ATTACH;FMTTYPE=image/jpeg:https://norwinpubliclibrary.net/wp-content/uploads/2022/08/moveandgroove.jpg
ORGANIZER;CN="Barbara McKee":MAILTO:bmckee@norwinpubliclibrary.net
END:VEVENT
BEGIN:VEVENT
DTSTART;TZID=America/New_York:20230220T110000
DTEND;TZID=America/New_York:20230220T113000
DTSTAMP:20260421T215544
CREATED:20230112T223537Z
LAST-MODIFIED:20230112T223537Z
UID:10000093-1676890800-1676892600@norwinpubliclibrary.net
SUMMARY:Storytime!
DESCRIPTION:Storytimes are held Monday and Wednesday at 11 AM. Our Children’s Librarian will read stories\, lead songs\, and integrate fingerplays and other stimulating activities for young children.
URL:https://norwinpubliclibrary.net/event/storytime-22/
LOCATION:Norwin Library Storybook Square\, 100 Caruthers Lane\, Irwin\, PA\, 15642\, United States
CATEGORIES:Just4Kids,Library Programs,Storytime
ATTACH;FMTTYPE=image/jpeg:https://norwinpubliclibrary.net/wp-content/uploads/2022/08/moveandgroove.jpg
ORGANIZER;CN="Barbara McKee":MAILTO:bmckee@norwinpubliclibrary.net
END:VEVENT
BEGIN:VEVENT
DTSTART;TZID=America/New_York:20230215T180000
DTEND;TZID=America/New_York:20230215T183000
DTSTAMP:20260421T215544
CREATED:20230110T205333Z
LAST-MODIFIED:20230110T205414Z
UID:10000080-1676484000-1676485800@norwinpubliclibrary.net
SUMMARY:PJs Storytime
DESCRIPTION:Snuggle up for a few bedtime stories and songs to get you ready for bed.\nEach sleepy kid will get a craft to take home too. Feel free to come dressed in your pajamas.\nNo registration needed.
URL:https://norwinpubliclibrary.net/event/pjs-storytime-3/
LOCATION:Norwin Library Storybook Square\, 100 Caruthers Lane\, Irwin\, PA\, 15642\, United States
CATEGORIES:Just4Kids,Library Programs
ATTACH;FMTTYPE=image/jpeg:https://norwinpubliclibrary.net/wp-content/uploads/2022/08/pjs.jpg
ORGANIZER;CN="Melanie Matthews":MAILTO:mmatthews@norwinpubliclibrary.net
END:VEVENT
BEGIN:VEVENT
DTSTART;TZID=America/New_York:20230215T110000
DTEND;TZID=America/New_York:20230215T113000
DTSTAMP:20260421T215544
CREATED:20230112T225649Z
LAST-MODIFIED:20230112T225649Z
UID:10000097-1676458800-1676460600@norwinpubliclibrary.net
SUMMARY:Storytime!
DESCRIPTION:Storytimes are held Monday and Wednesday at 11 AM. Our Children’s Librarian will read stories\, lead songs\, and integrate fingerplays and other stimulating activities for young children.
URL:https://norwinpubliclibrary.net/event/storytime-25/
LOCATION:Norwin Library Storybook Square\, 100 Caruthers Lane\, Irwin\, PA\, 15642\, United States
CATEGORIES:Just4Kids,Library Programs,Storytime
ATTACH;FMTTYPE=image/jpeg:https://norwinpubliclibrary.net/wp-content/uploads/2022/08/moveandgroove.jpg
ORGANIZER;CN="Barbara McKee":MAILTO:bmckee@norwinpubliclibrary.net
END:VEVENT
BEGIN:VEVENT
DTSTART;TZID=America/New_York:20230213T110000
DTEND;TZID=America/New_York:20230213T113000
DTSTAMP:20260421T215544
CREATED:20230112T223446Z
LAST-MODIFIED:20230112T223446Z
UID:10000092-1676286000-1676287800@norwinpubliclibrary.net
SUMMARY:Storytime!
DESCRIPTION:Storytimes are held Monday and Wednesday at 11 AM. Our Children’s Librarian will read stories\, lead songs\, and integrate fingerplays and other stimulating activities for young children.
URL:https://norwinpubliclibrary.net/event/storytime-21/
LOCATION:Norwin Library Storybook Square\, 100 Caruthers Lane\, Irwin\, PA\, 15642\, United States
CATEGORIES:Just4Kids,Library Programs,Storytime
ATTACH;FMTTYPE=image/jpeg:https://norwinpubliclibrary.net/wp-content/uploads/2022/08/moveandgroove.jpg
ORGANIZER;CN="Barbara McKee":MAILTO:bmckee@norwinpubliclibrary.net
END:VEVENT
BEGIN:VEVENT
DTSTART;TZID=America/New_York:20230208T110000
DTEND;TZID=America/New_York:20230208T113000
DTSTAMP:20260421T215544
CREATED:20230112T223338Z
LAST-MODIFIED:20230112T223338Z
UID:10000091-1675854000-1675855800@norwinpubliclibrary.net
SUMMARY:Storytime!
DESCRIPTION:Storytimes are held Monday and Wednesday at 11 AM. Our Children’s Librarian will read stories\, lead songs\, and integrate fingerplays and other stimulating activities for young children.
URL:https://norwinpubliclibrary.net/event/storytime-20/
LOCATION:Norwin Library Storybook Square\, 100 Caruthers Lane\, Irwin\, PA\, 15642\, United States
CATEGORIES:Just4Kids,Library Programs,Storytime
ATTACH;FMTTYPE=image/jpeg:https://norwinpubliclibrary.net/wp-content/uploads/2022/08/moveandgroove.jpg
ORGANIZER;CN="Barbara McKee":MAILTO:bmckee@norwinpubliclibrary.net
END:VEVENT
BEGIN:VEVENT
DTSTART;TZID=America/New_York:20230206T110000
DTEND;TZID=America/New_York:20230206T113000
DTSTAMP:20260421T215544
CREATED:20230112T223218Z
LAST-MODIFIED:20230112T223218Z
UID:10000090-1675681200-1675683000@norwinpubliclibrary.net
SUMMARY:Storytime!
DESCRIPTION:Storytimes are held Monday and Wednesday at 11 AM. Our Children’s Librarian will read stories\, lead songs\, and integrate fingerplays and other stimulating activities for young children.
URL:https://norwinpubliclibrary.net/event/storytime-19/
LOCATION:Norwin Library Storybook Square\, 100 Caruthers Lane\, Irwin\, PA\, 15642\, United States
CATEGORIES:Just4Kids,Library Programs,Storytime
ATTACH;FMTTYPE=image/jpeg:https://norwinpubliclibrary.net/wp-content/uploads/2022/08/moveandgroove.jpg
ORGANIZER;CN="Barbara McKee":MAILTO:bmckee@norwinpubliclibrary.net
END:VEVENT
BEGIN:VEVENT
DTSTART;TZID=America/New_York:20230201T110000
DTEND;TZID=America/New_York:20230201T113000
DTSTAMP:20260421T215544
CREATED:20221220T000855Z
LAST-MODIFIED:20221220T000855Z
UID:10000076-1675249200-1675251000@norwinpubliclibrary.net
SUMMARY:Storytime!
DESCRIPTION:Storytimes are held Monday and Wednesday at 11 AM. Our Children’s Librarian will read stories\, lead songs\, and integrate fingerplays and other stimulating activities for young children.
URL:https://norwinpubliclibrary.net/event/storytime-18/
LOCATION:Norwin Library Storybook Square\, 100 Caruthers Lane\, Irwin\, PA\, 15642\, United States
CATEGORIES:Just4Kids
ATTACH;FMTTYPE=image/jpeg:https://norwinpubliclibrary.net/wp-content/uploads/2022/08/moveandgroove.jpg
ORGANIZER;CN="Barbara McKee":MAILTO:bmckee@norwinpubliclibrary.net
END:VEVENT
BEGIN:VEVENT
DTSTART;TZID=America/New_York:20230130T110000
DTEND;TZID=America/New_York:20230130T113000
DTSTAMP:20260421T215544
CREATED:20221220T000350Z
LAST-MODIFIED:20221220T000420Z
UID:10000075-1675076400-1675078200@norwinpubliclibrary.net
SUMMARY:Storytime!
DESCRIPTION:Storytimes are held Monday and Wednesday at 11 AM. Our Children’s Librarian will read stories\, lead songs\, and integrate fingerplays and other stimulating activities for young children.
URL:https://norwinpubliclibrary.net/event/storytime-17/
LOCATION:Norwin Library Storybook Square\, 100 Caruthers Lane\, Irwin\, PA\, 15642\, United States
CATEGORIES:Just4Kids
ATTACH;FMTTYPE=image/jpeg:https://norwinpubliclibrary.net/wp-content/uploads/2022/08/moveandgroove.jpg
ORGANIZER;CN="Barbara McKee":MAILTO:bmckee@norwinpubliclibrary.net
END:VEVENT
BEGIN:VEVENT
DTSTART;TZID=America/New_York:20230125T110000
DTEND;TZID=America/New_York:20230125T113000
DTSTAMP:20260421T215544
CREATED:20221219T231948Z
LAST-MODIFIED:20221220T000552Z
UID:10000074-1674644400-1674646200@norwinpubliclibrary.net
SUMMARY:Storytime!
DESCRIPTION:Storytimes are held Monday and Wednesday at 11 AM. Our Children’s Librarian will read stories\, lead songs\, and integrate fingerplays and other stimulating activities for young children.
URL:https://norwinpubliclibrary.net/event/storytime-16/
LOCATION:Norwin Library Storybook Square\, 100 Caruthers Lane\, Irwin\, PA\, 15642\, United States
CATEGORIES:Just4Kids
ATTACH;FMTTYPE=image/jpeg:https://norwinpubliclibrary.net/wp-content/uploads/2022/08/moveandgroove.jpg
ORGANIZER;CN="Barbara McKee":MAILTO:bmckee@norwinpubliclibrary.net
END:VEVENT
BEGIN:VEVENT
DTSTART;TZID=America/New_York:20230123T110000
DTEND;TZID=America/New_York:20230123T113000
DTSTAMP:20260421T215544
CREATED:20221219T231658Z
LAST-MODIFIED:20221219T231658Z
UID:10000073-1674471600-1674473400@norwinpubliclibrary.net
SUMMARY:Storytime!
DESCRIPTION:Storytimes are held Monday and Wednesday at 11 AM. Our Children’s Librarian will read stories\, lead songs\, and integrate fingerplays and other stimulating activities for young children.
URL:https://norwinpubliclibrary.net/event/storytime-15/
LOCATION:Norwin Library Storybook Square\, 100 Caruthers Lane\, Irwin\, PA\, 15642\, United States
CATEGORIES:Just4Kids
ATTACH;FMTTYPE=image/jpeg:https://norwinpubliclibrary.net/wp-content/uploads/2022/08/moveandgroove.jpg
ORGANIZER;CN="Barbara McKee":MAILTO:bmckee@norwinpubliclibrary.net
END:VEVENT
BEGIN:VEVENT
DTSTART;TZID=America/New_York:20230118T110000
DTEND;TZID=America/New_York:20230118T113000
DTSTAMP:20260421T215544
CREATED:20221219T231531Z
LAST-MODIFIED:20221219T231531Z
UID:10000072-1674039600-1674041400@norwinpubliclibrary.net
SUMMARY:Storytime!
DESCRIPTION:Storytimes are held Monday and Wednesday at 11 AM. Our Children’s Librarian will read stories\, lead songs\, and integrate fingerplays and other stimulating activities for young children.
URL:https://norwinpubliclibrary.net/event/storytime-14/
LOCATION:Norwin Library Storybook Square\, 100 Caruthers Lane\, Irwin\, PA\, 15642\, United States
ATTACH;FMTTYPE=image/jpeg:https://norwinpubliclibrary.net/wp-content/uploads/2022/08/moveandgroove.jpg
ORGANIZER;CN="Barbara McKee":MAILTO:bmckee@norwinpubliclibrary.net
END:VEVENT
BEGIN:VEVENT
DTSTART;TZID=America/New_York:20230116T110000
DTEND;TZID=America/New_York:20230116T113000
DTSTAMP:20260421T215544
CREATED:20221219T230519Z
LAST-MODIFIED:20221219T230519Z
UID:10000071-1673866800-1673868600@norwinpubliclibrary.net
SUMMARY:Storytime!
DESCRIPTION:Storytimes are held Monday and Wednesday at 11 AM. Our Children’s Librarian will read stories\, lead songs\, and integrate fingerplays and other stimulating activities for young children.
URL:https://norwinpubliclibrary.net/event/storytime-13/
LOCATION:Norwin Library Storybook Square\, 100 Caruthers Lane\, Irwin\, PA\, 15642\, United States
CATEGORIES:Just4Kids
ATTACH;FMTTYPE=image/jpeg:https://norwinpubliclibrary.net/wp-content/uploads/2022/08/moveandgroove.jpg
ORGANIZER;CN="Barbara McKee":MAILTO:bmckee@norwinpubliclibrary.net
END:VEVENT
BEGIN:VEVENT
DTSTART;TZID=America/New_York:20230111T110000
DTEND;TZID=America/New_York:20230111T113000
DTSTAMP:20260421T215544
CREATED:20221219T225925Z
LAST-MODIFIED:20221219T225925Z
UID:10000070-1673434800-1673436600@norwinpubliclibrary.net
SUMMARY:Storytime!
DESCRIPTION:Storytimes are held Monday and Wednesday at 11 AM. Our Children’s Librarian will read stories\, lead songs\, and integrate fingerplays and other stimulating activities for young children.
URL:https://norwinpubliclibrary.net/event/storytime-12/
LOCATION:Norwin Library Storybook Square\, 100 Caruthers Lane\, Irwin\, PA\, 15642\, United States
ATTACH;FMTTYPE=image/jpeg:https://norwinpubliclibrary.net/wp-content/uploads/2022/08/moveandgroove.jpg
ORGANIZER;CN="Barbara McKee":MAILTO:bmckee@norwinpubliclibrary.net
END:VEVENT
BEGIN:VEVENT
DTSTART;TZID=America/New_York:20230109T110000
DTEND;TZID=America/New_York:20230109T113000
DTSTAMP:20260421T215544
CREATED:20221219T225802Z
LAST-MODIFIED:20221219T225802Z
UID:10000069-1673262000-1673263800@norwinpubliclibrary.net
SUMMARY:Storytime!
DESCRIPTION:Storytimes are held Monday and Wednesday at 11 AM. Our Children’s Librarian will read stories\, lead songs\, and integrate fingerplays and other stimulating activities for young children.
URL:https://norwinpubliclibrary.net/event/storytime-11/
LOCATION:Norwin Library Storybook Square\, 100 Caruthers Lane\, Irwin\, PA\, 15642\, United States
CATEGORIES:Just4Kids
ATTACH;FMTTYPE=image/jpeg:https://norwinpubliclibrary.net/wp-content/uploads/2022/08/moveandgroove.jpg
ORGANIZER;CN="Barbara McKee":MAILTO:bmckee@norwinpubliclibrary.net
END:VEVENT
BEGIN:VEVENT
DTSTART;TZID=America/New_York:20221221T180000
DTEND;TZID=America/New_York:20221221T183000
DTSTAMP:20260421T215544
CREATED:20220913T180615Z
LAST-MODIFIED:20221116T155134Z
UID:10000033-1671645600-1671647400@norwinpubliclibrary.net
SUMMARY:PJs Storytime
DESCRIPTION:Snuggle up with a parent or guardian and hear a few bedtime stories and songs. Each sleepy kid will receive a craft to take home as well. Feel free to come dressed in PJs.
URL:https://norwinpubliclibrary.net/event/pjs-storytime-2/
LOCATION:Norwin Library Storybook Square\, 100 Caruthers Lane\, Irwin\, PA\, 15642\, United States
CATEGORIES:Just4Kids,Library Programs
ATTACH;FMTTYPE=image/jpeg:https://norwinpubliclibrary.net/wp-content/uploads/2022/08/moveandgroove.jpg
ORGANIZER;CN="Melanie Matthews":MAILTO:mmatthews@norwinpubliclibrary.net
END:VEVENT
BEGIN:VEVENT
DTSTART;TZID=America/New_York:20221205T110000
DTEND;TZID=America/New_York:20221205T113000
DTSTAMP:20260421T215544
CREATED:20221004T235658Z
LAST-MODIFIED:20221116T160218Z
UID:10000041-1670238000-1670239800@norwinpubliclibrary.net
SUMMARY:Storytime!
DESCRIPTION:Storytimes are held Monday and Wednesday at 11 AM. Our Children’s Librarian will read stories\, lead songs\, and integrate fingerplays and other stimulating activities for young children.
URL:https://norwinpubliclibrary.net/event/storytime-8/
LOCATION:Norwin Library Storybook Square\, 100 Caruthers Lane\, Irwin\, PA\, 15642\, United States
CATEGORIES:Just4Kids,Library Programs
ATTACH;FMTTYPE=image/jpeg:https://norwinpubliclibrary.net/wp-content/uploads/2022/09/st6-scaled-e1662503535676.jpg
ORGANIZER;CN="Barbara McKee":MAILTO:bmckee@norwinpubliclibrary.net
END:VEVENT
BEGIN:VEVENT
DTSTART;TZID=America/New_York:20221129T103000
DTEND;TZID=America/New_York:20221129T110000
DTSTAMP:20260421T215544
CREATED:20220913T171349Z
LAST-MODIFIED:20221027T190340Z
UID:10000029-1669717800-1669719600@norwinpubliclibrary.net
SUMMARY:Baby Move and Groove Lap Time
DESCRIPTION:A program of songs\, fingerplays\, motion and stories for children 6 weeks to 1 year old. \nBring a blanket or pillow or anything that will make your child comfortable as the program takes place on carpet. \nWe will have toys and books available to engage older children for parents with children of varying ages.
URL:https://norwinpubliclibrary.net/event/baby-move-and-groove-lap-time-2/
LOCATION:Norwin Library Storybook Square\, 100 Caruthers Lane\, Irwin\, PA\, 15642\, United States
CATEGORIES:Just4Kids,Library Programs
ATTACH;FMTTYPE=image/jpeg:https://norwinpubliclibrary.net/wp-content/uploads/2022/08/blockparty-scaled.jpg
ORGANIZER;CN="Melanie Matthews":MAILTO:mmatthews@norwinpubliclibrary.net
END:VEVENT
BEGIN:VEVENT
DTSTART;TZID=America/New_York:20221109T110000
DTEND;TZID=America/New_York:20221109T113000
DTSTAMP:20260421T215544
CREATED:20221019T215402Z
LAST-MODIFIED:20221019T215402Z
UID:10000051-1667991600-1667993400@norwinpubliclibrary.net
SUMMARY:Storytime!
DESCRIPTION:Storytimes are held Monday and Wednesday at 11 AM. Our Children’s Librarian will read stories\, lead songs\, and integrate fingerplays and other stimulating activities for young children.
URL:https://norwinpubliclibrary.net/event/storytime-10/
LOCATION:Norwin Library Storybook Square\, 100 Caruthers Lane\, Irwin\, PA\, 15642\, United States
CATEGORIES:Just4Kids,Library Programs
ATTACH;FMTTYPE=image/jpeg:https://norwinpubliclibrary.net/wp-content/uploads/2022/08/moveandgroove.jpg
ORGANIZER;CN="Barbara McKee":MAILTO:bmckee@norwinpubliclibrary.net
END:VEVENT
END:VCALENDAR