BEGIN:VCALENDAR
VERSION:2.0
PRODID:-//Norwin Public Library - ECPv6.15.20//NONSGML v1.0//EN
CALSCALE:GREGORIAN
METHOD:PUBLISH
X-ORIGINAL-URL:https://norwinpubliclibrary.net
X-WR-CALDESC:Events for Norwin Public Library
REFRESH-INTERVAL;VALUE=DURATION:PT1H
X-Robots-Tag:noindex
X-PUBLISHED-TTL:PT1H
BEGIN:VTIMEZONE
TZID:America/New_York
BEGIN:DAYLIGHT
TZOFFSETFROM:-0500
TZOFFSETTO:-0400
TZNAME:EDT
DTSTART:20220313T070000
END:DAYLIGHT
BEGIN:STANDARD
TZOFFSETFROM:-0400
TZOFFSETTO:-0500
TZNAME:EST
DTSTART:20221106T060000
END:STANDARD
BEGIN:DAYLIGHT
TZOFFSETFROM:-0500
TZOFFSETTO:-0400
TZNAME:EDT
DTSTART:20230312T070000
END:DAYLIGHT
BEGIN:STANDARD
TZOFFSETFROM:-0400
TZOFFSETTO:-0500
TZNAME:EST
DTSTART:20231105T060000
END:STANDARD
BEGIN:DAYLIGHT
TZOFFSETFROM:-0500
TZOFFSETTO:-0400
TZNAME:EDT
DTSTART:20240310T070000
END:DAYLIGHT
BEGIN:STANDARD
TZOFFSETFROM:-0400
TZOFFSETTO:-0500
TZNAME:EST
DTSTART:20241103T060000
END:STANDARD
BEGIN:DAYLIGHT
TZOFFSETFROM:-0500
TZOFFSETTO:-0400
TZNAME:EDT
DTSTART:20250309T070000
END:DAYLIGHT
BEGIN:STANDARD
TZOFFSETFROM:-0400
TZOFFSETTO:-0500
TZNAME:EST
DTSTART:20251102T060000
END:STANDARD
END:VTIMEZONE
BEGIN:VEVENT
DTSTART;TZID=America/New_York:20240130T103000
DTEND;TZID=America/New_York:20240130T110000
DTSTAMP:20260420T155452
CREATED:20231205T213901Z
LAST-MODIFIED:20231222T000827Z
UID:10001430-1706610600-1706612400@norwinpubliclibrary.net
SUMMARY:Baby Move and Groover Lap Time
DESCRIPTION:Bring in your newborns-2 year old as we engage in songs\, fingerplays\, motion and stories. No registration is needed. Please bring your child’s favorite blanket or pillow as we will be on the floor. \nJanuary 16th Baby Move and Groove will be followed by 30 minutes of Block Time Play.
URL:https://norwinpubliclibrary.net/event/baby-move-and-groover-lap-time/2024-01-30/
LOCATION:Norwin Library Storybook Square\, 100 Caruthers Lane\, Irwin\, PA\, 15642\, United States
CATEGORIES:Educational,Just4Kids,Library Programs,Storytime
ATTACH;FMTTYPE=image/gif:https://norwinpubliclibrary.net/wp-content/uploads/2023/08/babymove.gif
ORGANIZER;CN="Melanie Matthews":MAILTO:mmatthews@norwinpubliclibrary.net
END:VEVENT
BEGIN:VEVENT
DTSTART;TZID=America/New_York:20240117T180000
DTEND;TZID=America/New_York:20240117T183000
DTSTAMP:20260420T155452
CREATED:20231206T165318Z
LAST-MODIFIED:20240111T154207Z
UID:10001434-1705514400-1705516200@norwinpubliclibrary.net
SUMMARY:Stuffies Night Out
DESCRIPTION:Bring in your favorite snuggly friend for a fun evening at the library. We will have fun games\, activities and time to read your favorite bedtime story.\nFeel free to come dressed in your pajamas. \nNo registration needed.
URL:https://norwinpubliclibrary.net/event/pj-storytime/
LOCATION:Norwin Library Storybook Square\, 100 Caruthers Lane\, Irwin\, PA\, 15642\, United States
CATEGORIES:Just4Kids,Library Programs,Storytime
ATTACH;FMTTYPE=image/jpeg:https://norwinpubliclibrary.net/wp-content/uploads/2023/12/170227145313-02-stuffed-animals-reading.jpg
ORGANIZER;CN="Melanie Matthews":MAILTO:mmatthews@norwinpubliclibrary.net
END:VEVENT
BEGIN:VEVENT
DTSTART;TZID=America/New_York:20240116T103000
DTEND;TZID=America/New_York:20240116T113000
DTSTAMP:20260420T155452
CREATED:20231205T213901Z
LAST-MODIFIED:20231222T000827Z
UID:10001429-1705401000-1705404600@norwinpubliclibrary.net
SUMMARY:Baby Move and Groover Lap Time
DESCRIPTION:Bring in your newborns-2 year old as we engage in songs\, fingerplays\, motion and stories. No registration is needed. Please bring your child’s favorite blanket or pillow as we will be on the floor. \nJanuary 16th Baby Move and Groove will be followed by 30 minutes of Block Time Play.
URL:https://norwinpubliclibrary.net/event/baby-move-and-groover-lap-time/2024-01-16/
LOCATION:Norwin Library Storybook Square\, 100 Caruthers Lane\, Irwin\, PA\, 15642\, United States
CATEGORIES:Educational,Just4Kids,Library Programs,Storytime
ATTACH;FMTTYPE=image/gif:https://norwinpubliclibrary.net/wp-content/uploads/2023/08/babymove.gif
ORGANIZER;CN="Melanie Matthews":MAILTO:mmatthews@norwinpubliclibrary.net
END:VEVENT
BEGIN:VEVENT
DTSTART;TZID=America/New_York:20240102T103000
DTEND;TZID=America/New_York:20240102T110000
DTSTAMP:20260420T155452
CREATED:20231205T213901Z
LAST-MODIFIED:20231222T000827Z
UID:10001963-1704191400-1704193200@norwinpubliclibrary.net
SUMMARY:Baby Move and Groover Lap Time
DESCRIPTION:Bring in your newborns-2 year old as we engage in songs\, fingerplays\, motion and stories. No registration is needed. Please bring your child’s favorite blanket or pillow as we will be on the floor. \nJanuary 16th Baby Move and Groove will be followed by 30 minutes of Block Time Play.
URL:https://norwinpubliclibrary.net/event/baby-move-and-groover-lap-time/2024-01-02/
LOCATION:Norwin Library Storybook Square\, 100 Caruthers Lane\, Irwin\, PA\, 15642\, United States
CATEGORIES:Educational,Just4Kids,Library Programs,Storytime
ATTACH;FMTTYPE=image/gif:https://norwinpubliclibrary.net/wp-content/uploads/2023/08/babymove.gif
ORGANIZER;CN="Melanie Matthews":MAILTO:mmatthews@norwinpubliclibrary.net
END:VEVENT
BEGIN:VEVENT
DTSTART;TZID=America/New_York:20231227T110000
DTEND;TZID=America/New_York:20231227T113000
DTSTAMP:20260420T155452
CREATED:20230926T140547Z
LAST-MODIFIED:20240716T171350Z
UID:10000360-1703674800-1703676600@norwinpubliclibrary.net
SUMMARY:Storytime!
DESCRIPTION:Storytimes are held Monday and Wednesday at 11 AM. Our Children’s Librarian will read stories\, lead songs\, and integrate fingerplays and other stimulating activities for young children.
URL:https://norwinpubliclibrary.net/event/storytime-32-2/2023-12-27/
LOCATION:Norwin Library Storybook Square\, 100 Caruthers Lane\, Irwin\, PA\, 15642\, United States
CATEGORIES:Just4Kids,Library Programs,Storytime
ATTACH;FMTTYPE=image/jpeg:https://norwinpubliclibrary.net/wp-content/uploads/2023/08/storytime.jpg
ORGANIZER;CN="Karly Kunkle":MAILTO:kkunkle@norwinpubliclibrary.net
END:VEVENT
BEGIN:VEVENT
DTSTART;TZID=America/New_York:20231225T110000
DTEND;TZID=America/New_York:20231225T113000
DTSTAMP:20260420T155452
CREATED:20230926T140547Z
LAST-MODIFIED:20240716T171350Z
UID:10003429-1703502000-1703503800@norwinpubliclibrary.net
SUMMARY:Storytime!
DESCRIPTION:Storytimes are held Monday and Wednesday at 11 AM. Our Children’s Librarian will read stories\, lead songs\, and integrate fingerplays and other stimulating activities for young children.
URL:https://norwinpubliclibrary.net/event/storytime-32-2/2023-12-25/
LOCATION:Norwin Library Storybook Square\, 100 Caruthers Lane\, Irwin\, PA\, 15642\, United States
CATEGORIES:Just4Kids,Library Programs,Storytime
ATTACH;FMTTYPE=image/jpeg:https://norwinpubliclibrary.net/wp-content/uploads/2023/08/storytime.jpg
ORGANIZER;CN="Karly Kunkle":MAILTO:kkunkle@norwinpubliclibrary.net
END:VEVENT
BEGIN:VEVENT
DTSTART;TZID=America/New_York:20231220T180000
DTEND;TZID=America/New_York:20231220T183000
DTSTAMP:20260420T155452
CREATED:20230912T174728Z
LAST-MODIFIED:20230912T175102Z
UID:10000860-1703095200-1703097000@norwinpubliclibrary.net
SUMMARY:PJs Storytime
DESCRIPTION:Snuggle up for a few bedtime stories and songs to get you ready for bed. Each sleepy kid will get a craft to take home too. Feel free to come dressed in your Halloween pajamas. No registration needed.
URL:https://norwinpubliclibrary.net/event/pjs-storytime-6/2023-12-20/
LOCATION:Norwin Library Storybook Square\, 100 Caruthers Lane\, Irwin\, PA\, 15642\, United States
CATEGORIES:Just4Kids,Library Programs,Storytime
ATTACH;FMTTYPE=image/jpeg:https://norwinpubliclibrary.net/wp-content/uploads/2022/08/pjs.jpg
ORGANIZER;CN="Melanie Matthews":MAILTO:mmatthews@norwinpubliclibrary.net
END:VEVENT
BEGIN:VEVENT
DTSTART;TZID=America/New_York:20231220T110000
DTEND;TZID=America/New_York:20231220T113000
DTSTAMP:20260420T155452
CREATED:20230926T140547Z
LAST-MODIFIED:20240716T171350Z
UID:10000358-1703070000-1703071800@norwinpubliclibrary.net
SUMMARY:Storytime!
DESCRIPTION:Storytimes are held Monday and Wednesday at 11 AM. Our Children’s Librarian will read stories\, lead songs\, and integrate fingerplays and other stimulating activities for young children.
URL:https://norwinpubliclibrary.net/event/storytime-32-2/2023-12-20/
LOCATION:Norwin Library Storybook Square\, 100 Caruthers Lane\, Irwin\, PA\, 15642\, United States
CATEGORIES:Just4Kids,Library Programs,Storytime
ATTACH;FMTTYPE=image/jpeg:https://norwinpubliclibrary.net/wp-content/uploads/2023/08/storytime.jpg
ORGANIZER;CN="Karly Kunkle":MAILTO:kkunkle@norwinpubliclibrary.net
END:VEVENT
BEGIN:VEVENT
DTSTART;TZID=America/New_York:20231218T110000
DTEND;TZID=America/New_York:20231218T113000
DTSTAMP:20260420T155452
CREATED:20230926T140547Z
LAST-MODIFIED:20240716T171350Z
UID:10000357-1702897200-1702899000@norwinpubliclibrary.net
SUMMARY:Storytime!
DESCRIPTION:Storytimes are held Monday and Wednesday at 11 AM. Our Children’s Librarian will read stories\, lead songs\, and integrate fingerplays and other stimulating activities for young children.
URL:https://norwinpubliclibrary.net/event/storytime-32-2/2023-12-18/
LOCATION:Norwin Library Storybook Square\, 100 Caruthers Lane\, Irwin\, PA\, 15642\, United States
CATEGORIES:Just4Kids,Library Programs,Storytime
ATTACH;FMTTYPE=image/jpeg:https://norwinpubliclibrary.net/wp-content/uploads/2023/08/storytime.jpg
ORGANIZER;CN="Karly Kunkle":MAILTO:kkunkle@norwinpubliclibrary.net
END:VEVENT
BEGIN:VEVENT
DTSTART;TZID=America/New_York:20231213T110000
DTEND;TZID=America/New_York:20231213T113000
DTSTAMP:20260420T155452
CREATED:20230926T140547Z
LAST-MODIFIED:20240716T171350Z
UID:10000356-1702465200-1702467000@norwinpubliclibrary.net
SUMMARY:Storytime!
DESCRIPTION:Storytimes are held Monday and Wednesday at 11 AM. Our Children’s Librarian will read stories\, lead songs\, and integrate fingerplays and other stimulating activities for young children.
URL:https://norwinpubliclibrary.net/event/storytime-32-2/2023-12-13/
LOCATION:Norwin Library Storybook Square\, 100 Caruthers Lane\, Irwin\, PA\, 15642\, United States
CATEGORIES:Just4Kids,Library Programs,Storytime
ATTACH;FMTTYPE=image/jpeg:https://norwinpubliclibrary.net/wp-content/uploads/2023/08/storytime.jpg
ORGANIZER;CN="Karly Kunkle":MAILTO:kkunkle@norwinpubliclibrary.net
END:VEVENT
BEGIN:VEVENT
DTSTART;TZID=America/New_York:20231211T110000
DTEND;TZID=America/New_York:20231211T113000
DTSTAMP:20260420T155452
CREATED:20230926T140547Z
LAST-MODIFIED:20240716T171350Z
UID:10000355-1702292400-1702294200@norwinpubliclibrary.net
SUMMARY:Storytime!
DESCRIPTION:Storytimes are held Monday and Wednesday at 11 AM. Our Children’s Librarian will read stories\, lead songs\, and integrate fingerplays and other stimulating activities for young children.
URL:https://norwinpubliclibrary.net/event/storytime-32-2/2023-12-11/
LOCATION:Norwin Library Storybook Square\, 100 Caruthers Lane\, Irwin\, PA\, 15642\, United States
CATEGORIES:Just4Kids,Library Programs,Storytime
ATTACH;FMTTYPE=image/jpeg:https://norwinpubliclibrary.net/wp-content/uploads/2023/08/storytime.jpg
ORGANIZER;CN="Karly Kunkle":MAILTO:kkunkle@norwinpubliclibrary.net
END:VEVENT
BEGIN:VEVENT
DTSTART;TZID=America/New_York:20231206T110000
DTEND;TZID=America/New_York:20231206T113000
DTSTAMP:20260420T155452
CREATED:20230926T140547Z
LAST-MODIFIED:20240716T171350Z
UID:10000354-1701860400-1701862200@norwinpubliclibrary.net
SUMMARY:Storytime!
DESCRIPTION:Storytimes are held Monday and Wednesday at 11 AM. Our Children’s Librarian will read stories\, lead songs\, and integrate fingerplays and other stimulating activities for young children.
URL:https://norwinpubliclibrary.net/event/storytime-32-2/2023-12-06/
LOCATION:Norwin Library Storybook Square\, 100 Caruthers Lane\, Irwin\, PA\, 15642\, United States
CATEGORIES:Just4Kids,Library Programs,Storytime
ATTACH;FMTTYPE=image/jpeg:https://norwinpubliclibrary.net/wp-content/uploads/2023/08/storytime.jpg
ORGANIZER;CN="Karly Kunkle":MAILTO:kkunkle@norwinpubliclibrary.net
END:VEVENT
BEGIN:VEVENT
DTSTART;TZID=America/New_York:20231205T103000
DTEND;TZID=America/New_York:20231205T110000
DTSTAMP:20260420T155452
CREATED:20231205T213901Z
LAST-MODIFIED:20231222T000827Z
UID:10001428-1701772200-1701774000@norwinpubliclibrary.net
SUMMARY:Baby Move and Groover Lap Time
DESCRIPTION:Bring in your newborns-2 year old as we engage in songs\, fingerplays\, motion and stories. No registration is needed. Please bring your child’s favorite blanket or pillow as we will be on the floor. \nJanuary 16th Baby Move and Groove will be followed by 30 minutes of Block Time Play.
URL:https://norwinpubliclibrary.net/event/baby-move-and-groover-lap-time/2023-12-05/
LOCATION:Norwin Library Storybook Square\, 100 Caruthers Lane\, Irwin\, PA\, 15642\, United States
CATEGORIES:Educational,Just4Kids,Library Programs,Storytime
ATTACH;FMTTYPE=image/gif:https://norwinpubliclibrary.net/wp-content/uploads/2023/08/babymove.gif
ORGANIZER;CN="Melanie Matthews":MAILTO:mmatthews@norwinpubliclibrary.net
END:VEVENT
BEGIN:VEVENT
DTSTART;TZID=America/New_York:20231204T110000
DTEND;TZID=America/New_York:20231204T113000
DTSTAMP:20260420T155452
CREATED:20230926T140547Z
LAST-MODIFIED:20240716T171350Z
UID:10000353-1701687600-1701689400@norwinpubliclibrary.net
SUMMARY:Storytime!
DESCRIPTION:Storytimes are held Monday and Wednesday at 11 AM. Our Children’s Librarian will read stories\, lead songs\, and integrate fingerplays and other stimulating activities for young children.
URL:https://norwinpubliclibrary.net/event/storytime-32-2/2023-12-04/
LOCATION:Norwin Library Storybook Square\, 100 Caruthers Lane\, Irwin\, PA\, 15642\, United States
CATEGORIES:Just4Kids,Library Programs,Storytime
ATTACH;FMTTYPE=image/jpeg:https://norwinpubliclibrary.net/wp-content/uploads/2023/08/storytime.jpg
ORGANIZER;CN="Karly Kunkle":MAILTO:kkunkle@norwinpubliclibrary.net
END:VEVENT
BEGIN:VEVENT
DTSTART;TZID=America/New_York:20231129T110000
DTEND;TZID=America/New_York:20231129T113000
DTSTAMP:20260420T155452
CREATED:20230926T140547Z
LAST-MODIFIED:20240716T171350Z
UID:10000352-1701255600-1701257400@norwinpubliclibrary.net
SUMMARY:Storytime!
DESCRIPTION:Storytimes are held Monday and Wednesday at 11 AM. Our Children’s Librarian will read stories\, lead songs\, and integrate fingerplays and other stimulating activities for young children.
URL:https://norwinpubliclibrary.net/event/storytime-32-2/2023-11-29/
LOCATION:Norwin Library Storybook Square\, 100 Caruthers Lane\, Irwin\, PA\, 15642\, United States
CATEGORIES:Just4Kids,Library Programs,Storytime
ATTACH;FMTTYPE=image/jpeg:https://norwinpubliclibrary.net/wp-content/uploads/2023/08/storytime.jpg
ORGANIZER;CN="Karly Kunkle":MAILTO:kkunkle@norwinpubliclibrary.net
END:VEVENT
BEGIN:VEVENT
DTSTART;TZID=America/New_York:20231127T110000
DTEND;TZID=America/New_York:20231127T113000
DTSTAMP:20260420T155452
CREATED:20230926T140547Z
LAST-MODIFIED:20240716T171350Z
UID:10000351-1701082800-1701084600@norwinpubliclibrary.net
SUMMARY:Storytime!
DESCRIPTION:Storytimes are held Monday and Wednesday at 11 AM. Our Children’s Librarian will read stories\, lead songs\, and integrate fingerplays and other stimulating activities for young children.
URL:https://norwinpubliclibrary.net/event/storytime-32-2/2023-11-27/
LOCATION:Norwin Library Storybook Square\, 100 Caruthers Lane\, Irwin\, PA\, 15642\, United States
CATEGORIES:Just4Kids,Library Programs,Storytime
ATTACH;FMTTYPE=image/jpeg:https://norwinpubliclibrary.net/wp-content/uploads/2023/08/storytime.jpg
ORGANIZER;CN="Karly Kunkle":MAILTO:kkunkle@norwinpubliclibrary.net
END:VEVENT
BEGIN:VEVENT
DTSTART;TZID=America/New_York:20231122T110000
DTEND;TZID=America/New_York:20231122T113000
DTSTAMP:20260420T155452
CREATED:20230926T140547Z
LAST-MODIFIED:20240716T171350Z
UID:10000350-1700650800-1700652600@norwinpubliclibrary.net
SUMMARY:Storytime!
DESCRIPTION:Storytimes are held Monday and Wednesday at 11 AM. Our Children’s Librarian will read stories\, lead songs\, and integrate fingerplays and other stimulating activities for young children.
URL:https://norwinpubliclibrary.net/event/storytime-32-2/2023-11-22/
LOCATION:Norwin Library Storybook Square\, 100 Caruthers Lane\, Irwin\, PA\, 15642\, United States
CATEGORIES:Just4Kids,Library Programs,Storytime
ATTACH;FMTTYPE=image/jpeg:https://norwinpubliclibrary.net/wp-content/uploads/2023/08/storytime.jpg
ORGANIZER;CN="Karly Kunkle":MAILTO:kkunkle@norwinpubliclibrary.net
END:VEVENT
BEGIN:VEVENT
DTSTART;TZID=America/New_York:20231120T110000
DTEND;TZID=America/New_York:20231120T113000
DTSTAMP:20260420T155452
CREATED:20230926T140547Z
LAST-MODIFIED:20240716T171350Z
UID:10000349-1700478000-1700479800@norwinpubliclibrary.net
SUMMARY:Storytime!
DESCRIPTION:Storytimes are held Monday and Wednesday at 11 AM. Our Children’s Librarian will read stories\, lead songs\, and integrate fingerplays and other stimulating activities for young children.
URL:https://norwinpubliclibrary.net/event/storytime-32-2/2023-11-20/
LOCATION:Norwin Library Storybook Square\, 100 Caruthers Lane\, Irwin\, PA\, 15642\, United States
CATEGORIES:Just4Kids,Library Programs,Storytime
ATTACH;FMTTYPE=image/jpeg:https://norwinpubliclibrary.net/wp-content/uploads/2023/08/storytime.jpg
ORGANIZER;CN="Karly Kunkle":MAILTO:kkunkle@norwinpubliclibrary.net
END:VEVENT
BEGIN:VEVENT
DTSTART;TZID=America/New_York:20231115T180000
DTEND;TZID=America/New_York:20231115T183000
DTSTAMP:20260420T155452
CREATED:20230912T174728Z
LAST-MODIFIED:20230912T175102Z
UID:10000859-1700071200-1700073000@norwinpubliclibrary.net
SUMMARY:PJs Storytime
DESCRIPTION:Snuggle up for a few bedtime stories and songs to get you ready for bed. Each sleepy kid will get a craft to take home too. Feel free to come dressed in your Halloween pajamas. No registration needed.
URL:https://norwinpubliclibrary.net/event/pjs-storytime-6/2023-11-15/
LOCATION:Norwin Library Storybook Square\, 100 Caruthers Lane\, Irwin\, PA\, 15642\, United States
CATEGORIES:Just4Kids,Library Programs,Storytime
ATTACH;FMTTYPE=image/jpeg:https://norwinpubliclibrary.net/wp-content/uploads/2022/08/pjs.jpg
ORGANIZER;CN="Melanie Matthews":MAILTO:mmatthews@norwinpubliclibrary.net
END:VEVENT
BEGIN:VEVENT
DTSTART;TZID=America/New_York:20231115T110000
DTEND;TZID=America/New_York:20231115T113000
DTSTAMP:20260420T155452
CREATED:20230926T140547Z
LAST-MODIFIED:20240716T171350Z
UID:10000348-1700046000-1700047800@norwinpubliclibrary.net
SUMMARY:Storytime!
DESCRIPTION:Storytimes are held Monday and Wednesday at 11 AM. Our Children’s Librarian will read stories\, lead songs\, and integrate fingerplays and other stimulating activities for young children.
URL:https://norwinpubliclibrary.net/event/storytime-32-2/2023-11-15/
LOCATION:Norwin Library Storybook Square\, 100 Caruthers Lane\, Irwin\, PA\, 15642\, United States
CATEGORIES:Just4Kids,Library Programs,Storytime
ATTACH;FMTTYPE=image/jpeg:https://norwinpubliclibrary.net/wp-content/uploads/2023/08/storytime.jpg
ORGANIZER;CN="Karly Kunkle":MAILTO:kkunkle@norwinpubliclibrary.net
END:VEVENT
BEGIN:VEVENT
DTSTART;TZID=America/New_York:20231113T110000
DTEND;TZID=America/New_York:20231113T113000
DTSTAMP:20260420T155452
CREATED:20230926T140547Z
LAST-MODIFIED:20240716T171350Z
UID:10000347-1699873200-1699875000@norwinpubliclibrary.net
SUMMARY:Storytime!
DESCRIPTION:Storytimes are held Monday and Wednesday at 11 AM. Our Children’s Librarian will read stories\, lead songs\, and integrate fingerplays and other stimulating activities for young children.
URL:https://norwinpubliclibrary.net/event/storytime-32-2/2023-11-13/
LOCATION:Norwin Library Storybook Square\, 100 Caruthers Lane\, Irwin\, PA\, 15642\, United States
CATEGORIES:Just4Kids,Library Programs,Storytime
ATTACH;FMTTYPE=image/jpeg:https://norwinpubliclibrary.net/wp-content/uploads/2023/08/storytime.jpg
ORGANIZER;CN="Karly Kunkle":MAILTO:kkunkle@norwinpubliclibrary.net
END:VEVENT
BEGIN:VEVENT
DTSTART;TZID=America/New_York:20231108T110000
DTEND;TZID=America/New_York:20231108T113000
DTSTAMP:20260420T155452
CREATED:20230926T140547Z
LAST-MODIFIED:20240716T171350Z
UID:10000346-1699441200-1699443000@norwinpubliclibrary.net
SUMMARY:Storytime!
DESCRIPTION:Storytimes are held Monday and Wednesday at 11 AM. Our Children’s Librarian will read stories\, lead songs\, and integrate fingerplays and other stimulating activities for young children.
URL:https://norwinpubliclibrary.net/event/storytime-32-2/2023-11-08/
LOCATION:Norwin Library Storybook Square\, 100 Caruthers Lane\, Irwin\, PA\, 15642\, United States
CATEGORIES:Just4Kids,Library Programs,Storytime
ATTACH;FMTTYPE=image/jpeg:https://norwinpubliclibrary.net/wp-content/uploads/2023/08/storytime.jpg
ORGANIZER;CN="Karly Kunkle":MAILTO:kkunkle@norwinpubliclibrary.net
END:VEVENT
BEGIN:VEVENT
DTSTART;TZID=America/New_York:20231106T110000
DTEND;TZID=America/New_York:20231106T113000
DTSTAMP:20260420T155452
CREATED:20230926T140547Z
LAST-MODIFIED:20240716T171350Z
UID:10000345-1699268400-1699270200@norwinpubliclibrary.net
SUMMARY:Storytime!
DESCRIPTION:Storytimes are held Monday and Wednesday at 11 AM. Our Children’s Librarian will read stories\, lead songs\, and integrate fingerplays and other stimulating activities for young children.
URL:https://norwinpubliclibrary.net/event/storytime-32-2/2023-11-06/
LOCATION:Norwin Library Storybook Square\, 100 Caruthers Lane\, Irwin\, PA\, 15642\, United States
CATEGORIES:Just4Kids,Library Programs,Storytime
ATTACH;FMTTYPE=image/jpeg:https://norwinpubliclibrary.net/wp-content/uploads/2023/08/storytime.jpg
ORGANIZER;CN="Karly Kunkle":MAILTO:kkunkle@norwinpubliclibrary.net
END:VEVENT
BEGIN:VEVENT
DTSTART;TZID=America/New_York:20231101T110000
DTEND;TZID=America/New_York:20231101T113000
DTSTAMP:20260420T155452
CREATED:20230926T140547Z
LAST-MODIFIED:20240716T171350Z
UID:10000344-1698836400-1698838200@norwinpubliclibrary.net
SUMMARY:Storytime!
DESCRIPTION:Storytimes are held Monday and Wednesday at 11 AM. Our Children’s Librarian will read stories\, lead songs\, and integrate fingerplays and other stimulating activities for young children.
URL:https://norwinpubliclibrary.net/event/storytime-32-2/2023-11-01/
LOCATION:Norwin Library Storybook Square\, 100 Caruthers Lane\, Irwin\, PA\, 15642\, United States
CATEGORIES:Just4Kids,Library Programs,Storytime
ATTACH;FMTTYPE=image/jpeg:https://norwinpubliclibrary.net/wp-content/uploads/2023/08/storytime.jpg
ORGANIZER;CN="Karly Kunkle":MAILTO:kkunkle@norwinpubliclibrary.net
END:VEVENT
BEGIN:VEVENT
DTSTART;TZID=America/New_York:20231030T110000
DTEND;TZID=America/New_York:20231030T113000
DTSTAMP:20260420T155452
CREATED:20230926T140547Z
LAST-MODIFIED:20240716T171350Z
UID:10000343-1698663600-1698665400@norwinpubliclibrary.net
SUMMARY:Storytime!
DESCRIPTION:Storytimes are held Monday and Wednesday at 11 AM. Our Children’s Librarian will read stories\, lead songs\, and integrate fingerplays and other stimulating activities for young children.
URL:https://norwinpubliclibrary.net/event/storytime-32-2/2023-10-30/
LOCATION:Norwin Library Storybook Square\, 100 Caruthers Lane\, Irwin\, PA\, 15642\, United States
CATEGORIES:Just4Kids,Library Programs,Storytime
ATTACH;FMTTYPE=image/jpeg:https://norwinpubliclibrary.net/wp-content/uploads/2023/08/storytime.jpg
ORGANIZER;CN="Karly Kunkle":MAILTO:kkunkle@norwinpubliclibrary.net
END:VEVENT
BEGIN:VEVENT
DTSTART;TZID=America/New_York:20231025T110000
DTEND;TZID=America/New_York:20231025T113000
DTSTAMP:20260420T155452
CREATED:20230926T140547Z
LAST-MODIFIED:20240716T171350Z
UID:10000342-1698231600-1698233400@norwinpubliclibrary.net
SUMMARY:Storytime!
DESCRIPTION:Storytimes are held Monday and Wednesday at 11 AM. Our Children’s Librarian will read stories\, lead songs\, and integrate fingerplays and other stimulating activities for young children.
URL:https://norwinpubliclibrary.net/event/storytime-32-2/2023-10-25/
LOCATION:Norwin Library Storybook Square\, 100 Caruthers Lane\, Irwin\, PA\, 15642\, United States
CATEGORIES:Just4Kids,Library Programs,Storytime
ATTACH;FMTTYPE=image/jpeg:https://norwinpubliclibrary.net/wp-content/uploads/2023/08/storytime.jpg
ORGANIZER;CN="Karly Kunkle":MAILTO:kkunkle@norwinpubliclibrary.net
END:VEVENT
BEGIN:VEVENT
DTSTART;TZID=America/New_York:20231023T110000
DTEND;TZID=America/New_York:20231023T113000
DTSTAMP:20260420T155452
CREATED:20230926T140547Z
LAST-MODIFIED:20240716T171350Z
UID:10000341-1698058800-1698060600@norwinpubliclibrary.net
SUMMARY:Storytime!
DESCRIPTION:Storytimes are held Monday and Wednesday at 11 AM. Our Children’s Librarian will read stories\, lead songs\, and integrate fingerplays and other stimulating activities for young children.
URL:https://norwinpubliclibrary.net/event/storytime-32-2/2023-10-23/
LOCATION:Norwin Library Storybook Square\, 100 Caruthers Lane\, Irwin\, PA\, 15642\, United States
CATEGORIES:Just4Kids,Library Programs,Storytime
ATTACH;FMTTYPE=image/jpeg:https://norwinpubliclibrary.net/wp-content/uploads/2023/08/storytime.jpg
ORGANIZER;CN="Karly Kunkle":MAILTO:kkunkle@norwinpubliclibrary.net
END:VEVENT
BEGIN:VEVENT
DTSTART;TZID=America/New_York:20231018T180000
DTEND;TZID=America/New_York:20231018T183000
DTSTAMP:20260420T155452
CREATED:20230912T174728Z
LAST-MODIFIED:20230912T175102Z
UID:10000858-1697652000-1697653800@norwinpubliclibrary.net
SUMMARY:PJs Storytime
DESCRIPTION:Snuggle up for a few bedtime stories and songs to get you ready for bed. Each sleepy kid will get a craft to take home too. Feel free to come dressed in your Halloween pajamas. No registration needed.
URL:https://norwinpubliclibrary.net/event/pjs-storytime-6/2023-10-18/
LOCATION:Norwin Library Storybook Square\, 100 Caruthers Lane\, Irwin\, PA\, 15642\, United States
CATEGORIES:Just4Kids,Library Programs,Storytime
ATTACH;FMTTYPE=image/jpeg:https://norwinpubliclibrary.net/wp-content/uploads/2022/08/pjs.jpg
ORGANIZER;CN="Melanie Matthews":MAILTO:mmatthews@norwinpubliclibrary.net
END:VEVENT
BEGIN:VEVENT
DTSTART;TZID=America/New_York:20231018T110000
DTEND;TZID=America/New_York:20231018T113000
DTSTAMP:20260420T155452
CREATED:20230926T140547Z
LAST-MODIFIED:20240716T171350Z
UID:10000340-1697626800-1697628600@norwinpubliclibrary.net
SUMMARY:Storytime!
DESCRIPTION:Storytimes are held Monday and Wednesday at 11 AM. Our Children’s Librarian will read stories\, lead songs\, and integrate fingerplays and other stimulating activities for young children.
URL:https://norwinpubliclibrary.net/event/storytime-32-2/2023-10-18/
LOCATION:Norwin Library Storybook Square\, 100 Caruthers Lane\, Irwin\, PA\, 15642\, United States
CATEGORIES:Just4Kids,Library Programs,Storytime
ATTACH;FMTTYPE=image/jpeg:https://norwinpubliclibrary.net/wp-content/uploads/2023/08/storytime.jpg
ORGANIZER;CN="Karly Kunkle":MAILTO:kkunkle@norwinpubliclibrary.net
END:VEVENT
BEGIN:VEVENT
DTSTART;TZID=America/New_York:20231016T110000
DTEND;TZID=America/New_York:20231016T113000
DTSTAMP:20260420T155452
CREATED:20230926T140547Z
LAST-MODIFIED:20240716T171350Z
UID:10000339-1697454000-1697455800@norwinpubliclibrary.net
SUMMARY:Storytime!
DESCRIPTION:Storytimes are held Monday and Wednesday at 11 AM. Our Children’s Librarian will read stories\, lead songs\, and integrate fingerplays and other stimulating activities for young children.
URL:https://norwinpubliclibrary.net/event/storytime-32-2/2023-10-16/
LOCATION:Norwin Library Storybook Square\, 100 Caruthers Lane\, Irwin\, PA\, 15642\, United States
CATEGORIES:Just4Kids,Library Programs,Storytime
ATTACH;FMTTYPE=image/jpeg:https://norwinpubliclibrary.net/wp-content/uploads/2023/08/storytime.jpg
ORGANIZER;CN="Karly Kunkle":MAILTO:kkunkle@norwinpubliclibrary.net
END:VEVENT
END:VCALENDAR