BEGIN:VCALENDAR
VERSION:2.0
PRODID:-//Norwin Public Library - ECPv6.15.20//NONSGML v1.0//EN
CALSCALE:GREGORIAN
METHOD:PUBLISH
X-ORIGINAL-URL:https://norwinpubliclibrary.net
X-WR-CALDESC:Events for Norwin Public Library
REFRESH-INTERVAL;VALUE=DURATION:PT1H
X-Robots-Tag:noindex
X-PUBLISHED-TTL:PT1H
BEGIN:VTIMEZONE
TZID:America/New_York
BEGIN:DAYLIGHT
TZOFFSETFROM:-0500
TZOFFSETTO:-0400
TZNAME:EDT
DTSTART:20220313T070000
END:DAYLIGHT
BEGIN:STANDARD
TZOFFSETFROM:-0400
TZOFFSETTO:-0500
TZNAME:EST
DTSTART:20221106T060000
END:STANDARD
BEGIN:DAYLIGHT
TZOFFSETFROM:-0500
TZOFFSETTO:-0400
TZNAME:EDT
DTSTART:20230312T070000
END:DAYLIGHT
BEGIN:STANDARD
TZOFFSETFROM:-0400
TZOFFSETTO:-0500
TZNAME:EST
DTSTART:20231105T060000
END:STANDARD
BEGIN:DAYLIGHT
TZOFFSETFROM:-0500
TZOFFSETTO:-0400
TZNAME:EDT
DTSTART:20240310T070000
END:DAYLIGHT
BEGIN:STANDARD
TZOFFSETFROM:-0400
TZOFFSETTO:-0500
TZNAME:EST
DTSTART:20241103T060000
END:STANDARD
BEGIN:DAYLIGHT
TZOFFSETFROM:-0500
TZOFFSETTO:-0400
TZNAME:EDT
DTSTART:20250309T070000
END:DAYLIGHT
BEGIN:STANDARD
TZOFFSETFROM:-0400
TZOFFSETTO:-0500
TZNAME:EST
DTSTART:20251102T060000
END:STANDARD
BEGIN:DAYLIGHT
TZOFFSETFROM:-0500
TZOFFSETTO:-0400
TZNAME:EDT
DTSTART:20260308T070000
END:DAYLIGHT
BEGIN:STANDARD
TZOFFSETFROM:-0400
TZOFFSETTO:-0500
TZNAME:EST
DTSTART:20261101T060000
END:STANDARD
END:VTIMEZONE
BEGIN:VEVENT
DTSTART;TZID=America/New_York:20251122T110000
DTEND;TZID=America/New_York:20251122T120000
DTSTAMP:20260420T110630
CREATED:20251008T184944Z
LAST-MODIFIED:20251008T184944Z
UID:10024494-1763809200-1763812800@norwinpubliclibrary.net
SUMMARY:National Aviary Amazing Adaptations
DESCRIPTION:Saturday\,  November 22nd  11AM to NOON \nCome meet a variety of live birds and learn about ways that their feet\, beaks\, and feathers help them adapt to their habitats! We will be making homemade bird feeders after the show.\n\nProgram for children in Kindergarten through 6th grade only.\n \n\nParents are asked to hang in the library while the event is going on and can pick the kids up around NOON when it is over in the Community Room.\n\n\nRegistration is required for each child coming to participate: https://forms.gle/oEzkPm3HLaFnTenV9\n  \n  \n 
URL:https://norwinpubliclibrary.net/event/national-aviary-amazing-adaptations/
LOCATION:Norwin Children’s Library
CATEGORIES:Just4Kids,Library Programs,STEM
ATTACH;FMTTYPE=image/avif:https://norwinpubliclibrary.net/wp-content/uploads/2025/10/flock-birds-white-background_1048944-18535531.avif
ORGANIZER;CN="Karly Kunkle":MAILTO:kkunkle@norwinpubliclibrary.net
END:VEVENT
BEGIN:VEVENT
DTSTART;TZID=America/New_York:20250107T180000
DTEND;TZID=America/New_York:20250107T190000
DTSTAMP:20260420T110630
CREATED:20241207T152047Z
LAST-MODIFIED:20241207T152916Z
UID:10003554-1736272800-1736276400@norwinpubliclibrary.net
SUMMARY:Teen Chess Knights
DESCRIPTION:Grades 7th-12th\, parents may join but not mandatory. \n\n\nJoin us for open chess playing for 7th-12th graders. There will be assistance from staff to help oversee playing. \n\nRegistration is required on this link: https://forms.gle/LP4ucb1Wt6uKzguH9\n\nSpace is limited due to building renovations. More room will be available in the coming months.
URL:https://norwinpubliclibrary.net/event/teen-chess-knights/
LOCATION:Norwin Library Community Room\, 100 Caruthers Lane\, Irwin\, PA\, 15642\, United States
CATEGORIES:Teens
ATTACH;FMTTYPE=image/avif:https://norwinpubliclibrary.net/wp-content/uploads/2024/12/chess-banner-with-pieces-white-pawn-queen-background-chess-playing-field-icons-figures-rectangular-web-banner-online-chess-colorful-chess-pieces-cartoon-style-vector-illustration_734900-241.avif
ORGANIZER;CN="Karly Kunkle":MAILTO:kkunkle@norwinpubliclibrary.net
END:VEVENT
BEGIN:VEVENT
DTSTART;TZID=America/New_York:20241206T140000
DTEND;TZID=America/New_York:20241206T150000
DTSTAMP:20260420T110630
CREATED:20241106T192456Z
LAST-MODIFIED:20241106T192456Z
UID:10003519-1733493600-1733497200@norwinpubliclibrary.net
SUMMARY:Norwin Show Choir Concert
DESCRIPTION:Come watch a sampling of your very own Norwin Show Choir’s Christmas show. \nAll ages are welcome. No registration needed.
URL:https://norwinpubliclibrary.net/event/norwin-show-choir-concert/
LOCATION:Norwin Library Community Room\, 100 Caruthers Lane\, Irwin\, PA\, 15642\, United States
CATEGORIES:Adult Program,Just4Kids,Library Programs,Teens,Tweens
ATTACH;FMTTYPE=image/jpeg:https://norwinpubliclibrary.net/wp-content/uploads/2023/09/istockphoto-1068359334-612x612-1.jpg
ORGANIZER;CN="Karly Kunkle":MAILTO:kkunkle@norwinpubliclibrary.net
END:VEVENT
BEGIN:VEVENT
DTSTART;TZID=America/New_York:20240814T180000
DTEND;TZID=America/New_York:20240814T190000
DTSTAMP:20260420T110630
CREATED:20240701T040059Z
LAST-MODIFIED:20240701T135249Z
UID:10003400-1723658400-1723662000@norwinpubliclibrary.net
SUMMARY:NPL Art Gala
DESCRIPTION:Come dressed in your best to see art on display that children in our Summer Reading program. Have been working on all summer long. \nAll ages welcome. \nPlease register here: https://forms.gle/1PXuE4yDeYEwakmM7
URL:https://norwinpubliclibrary.net/event/npl-art-gala/
LOCATION:Norwin Library Community Room\, 100 Caruthers Lane\, Irwin\, PA\, 15642\, United States
CATEGORIES:Just4Kids,Library Programs,Summer Reading
ATTACH;FMTTYPE=image/jpeg:https://norwinpubliclibrary.net/wp-content/uploads/2024/04/CSLP_Teen_Slogan_English_Horizontal.jpg
ORGANIZER;CN="Karly Kunkle":MAILTO:kkunkle@norwinpubliclibrary.net
END:VEVENT
BEGIN:VEVENT
DTSTART;TZID=America/New_York:20240702T100000
DTEND;TZID=America/New_York:20240702T113000
DTSTAMP:20260420T110630
CREATED:20240601T130024Z
LAST-MODIFIED:20240601T133543Z
UID:10003388-1719914400-1719919800@norwinpubliclibrary.net
SUMMARY:Nature Hike
DESCRIPTION:Naturalist April Claus will introduce us to several live reptiles and amphibians. After her presentation at the library\, we’ll meet at Tinker’s Run Park in North Huntingdon for a nature hike. Please dress appropriately for a creek stomp! \nEvent for children entering Second grade and up. \nPlease register here: https://forms.gle/75fQFuNWntNPKZg19 \nIf you have multiple kids attending\, fill form our for each kid please.
URL:https://norwinpubliclibrary.net/event/nature-hike/
LOCATION:Norwin Library Community Room\, 100 Caruthers Lane\, Irwin\, PA\, 15642\, United States
CATEGORIES:Just4Kids,Library Programs,STEM,Summer Reading
ATTACH;FMTTYPE=image/jpeg:https://norwinpubliclibrary.net/wp-content/uploads/2024/04/CSLP_Teen_Slogan_English_Horizontal.jpg
ORGANIZER;CN="Karly Kunkle":MAILTO:kkunkle@norwinpubliclibrary.net
END:VEVENT
BEGIN:VEVENT
DTSTART;TZID=America/New_York:20240312T180000
DTEND;TZID=America/New_York:20240312T190000
DTSTAMP:20260420T110630
CREATED:20240207T185747Z
LAST-MODIFIED:20240212T232251Z
UID:10002267-1710266400-1710270000@norwinpubliclibrary.net
SUMMARY:Science Adventures Presents Rocks and Minerals
DESCRIPTION:Welcome the Carnegie Museum of Natural History as they bring the museum to us. There will be a display of rocks and minerals for us to look at and learn all about. \nThis program is for those in grades Kindergarten through 4th grades only please.  \nRegistration is required\, please sign up here. Space is limited. \nWhen RSVP\, PLEASE REGISTER ONLY PARTICIPTING CHILDREN AS GUEST. We assume at least one parent will be accompanying the children.
URL:https://norwinpubliclibrary.net/event/science-adventure-presents-rock-and-minerals/
LOCATION:Norwin Library Community Room\, 100 Caruthers Lane\, Irwin\, PA\, 15642\, United States
CATEGORIES:Educational,Just4Kids,Library Programs,STEM
ATTACH;FMTTYPE=image/jpeg:https://norwinpubliclibrary.net/wp-content/uploads/2024/02/20210603_105602-1.jpg
ORGANIZER;CN="Karly Kunkle":MAILTO:kkunkle@norwinpubliclibrary.net
END:VEVENT
BEGIN:VEVENT
DTSTART;TZID=America/New_York:20240227T180000
DTEND;TZID=America/New_York:20240227T190000
DTSTAMP:20260420T110630
CREATED:20240109T201620Z
LAST-MODIFIED:20240109T201620Z
UID:10001978-1709056800-1709060400@norwinpubliclibrary.net
SUMMARY:Instrument Zoo
DESCRIPTION:Come drop by and meet Norwin High School band and orchestra students as they introduce you to the instruments they play.  You will have a chance to hear and touch the instruments. \nNo registration required.
URL:https://norwinpubliclibrary.net/event/instrument-zoo/
LOCATION:Norwin Library Community Room\, 100 Caruthers Lane\, Irwin\, PA\, 15642\, United States
CATEGORIES:Educational,Just4Kids,Library Programs
ATTACH;FMTTYPE=image/jpeg:https://norwinpubliclibrary.net/wp-content/uploads/2024/01/instrumentzoo.jpg
ORGANIZER;CN="Karly Kunkle":MAILTO:kkunkle@norwinpubliclibrary.net
END:VEVENT
BEGIN:VEVENT
DTSTART;TZID=America/New_York:20240130T180000
DTEND;TZID=America/New_York:20240130T190000
DTSTAMP:20260420T110630
CREATED:20231206T235016Z
LAST-MODIFIED:20231207T171957Z
UID:10001438-1706637600-1706641200@norwinpubliclibrary.net
SUMMARY:Young Adult Open Mic Knight
DESCRIPTION:Open Mic Night just for teens!  Grades 9-12 only please.  Musicians\, story tellers\, poets\, comedians\, singers are welcome to come and showcase their talents. \nCan share original work\, or share something you have enjoyed written by others. Snacks and light beverages will be served.
URL:https://norwinpubliclibrary.net/event/young-adult-open-mic-knight/
LOCATION:Norwin Library Community Room\, 100 Caruthers Lane\, Irwin\, PA\, 15642\, United States
CATEGORIES:Library Programs,Teens
ATTACH;FMTTYPE=image/jpeg:https://norwinpubliclibrary.net/wp-content/uploads/2023/12/OpenMic.jpg
ORGANIZER;CN="Karly Kunkle":MAILTO:kkunkle@norwinpubliclibrary.net
END:VEVENT
BEGIN:VEVENT
DTSTART;TZID=America/New_York:20231201T140000
DTEND;TZID=America/New_York:20231201T150000
DTSTAMP:20260420T110630
CREATED:20230926T141635Z
LAST-MODIFIED:20231019T221246Z
UID:10000890-1701439200-1701442800@norwinpubliclibrary.net
SUMMARY:Norwin Show Choir
DESCRIPTION:You’ll be sure to get into the holiday spirit with the award winning Norwin Show Choir singing and dancing to holiday music.
URL:https://norwinpubliclibrary.net/event/norwin-show-choir/
LOCATION:Norwin Library Community Room\, 100 Caruthers Lane\, Irwin\, PA\, 15642\, United States
CATEGORIES:Just4Kids,Library Programs
ATTACH;FMTTYPE=image/jpeg:https://norwinpubliclibrary.net/wp-content/uploads/2023/09/istockphoto-1068359334-612x612-1.jpg
ORGANIZER;CN="Karly Kunkle":MAILTO:kkunkle@norwinpubliclibrary.net
END:VEVENT
BEGIN:VEVENT
DTSTART;TZID=America/New_York:20231017T180000
DTEND;TZID=America/New_York:20231017T190000
DTSTAMP:20260420T110630
CREATED:20230912T172634Z
LAST-MODIFIED:20231002T142546Z
UID:10000857-1697565600-1697569200@norwinpubliclibrary.net
SUMMARY:Halloween Storytelling with Tim Hartman
DESCRIPTION:Storytelling with Tim Hartman at 6pm-Welcome back storyteller Tim Hartman for a family night of ghostly tales. All ages welcome. Please register your child here!
URL:https://norwinpubliclibrary.net/event/halloween-storytelling-with-tim-hartman/
LOCATION:Norwin Library Community Room\, 100 Caruthers Lane\, Irwin\, PA\, 15642\, United States
CATEGORIES:Just4Kids,Library Programs,Storytime
ATTACH;FMTTYPE=image/gif:https://norwinpubliclibrary.net/wp-content/uploads/2023/09/storytelling.gif
ORGANIZER;CN="Karly Kunkle":MAILTO:kkunkle@norwinpubliclibrary.net
END:VEVENT
BEGIN:VEVENT
DTSTART;TZID=America/New_York:20231012T180000
DTEND;TZID=America/New_York:20231012T190000
DTSTAMP:20260420T110630
CREATED:20230829T201701Z
LAST-MODIFIED:20230926T163330Z
UID:10000848-1697133600-1697137200@norwinpubliclibrary.net
SUMMARY:Mad Science Presents: Space Travel!
DESCRIPTION:Get a glimpse of the galaxy with this interactive experience brought to us from the folks at Mad Science Pittsburgh! \nSpace is limited to 23 kids from Grades K-5 only\, please. \nRegister your child here to reserve his or her spot!
URL:https://norwinpubliclibrary.net/event/mad-science-presents-space-travel/
LOCATION:Norwin Library Community Room\, 100 Caruthers Lane\, Irwin\, PA\, 15642\, United States
ATTACH;FMTTYPE=image/png:https://norwinpubliclibrary.net/wp-content/uploads/2023/08/png-transparent-illustration-outer-space-travel-outer-space-space-traveling.png
ORGANIZER;CN="Karly Kunkle":MAILTO:kkunkle@norwinpubliclibrary.net
END:VEVENT
BEGIN:VEVENT
DTSTART;TZID=America/New_York:20230830T110000
DTEND;TZID=America/New_York:20230830T113000
DTSTAMP:20260420T110630
CREATED:20230715T152606Z
LAST-MODIFIED:20230715T152606Z
UID:10000240-1693393200-1693395000@norwinpubliclibrary.net
SUMMARY:Story Time!
DESCRIPTION:Join the Children’s Library as we shares stories and songs! Each programs features 3 stories and several fingerplays and songs. All ages\, but geared toward preschool.
URL:https://norwinpubliclibrary.net/event/story-time-15/
LOCATION:Norwin Library Storybook Square\, 100 Caruthers Lane\, Irwin\, PA\, 15642\, United States
CATEGORIES:Just4Kids,Library Programs,Storytime
ATTACH;FMTTYPE=image/jpeg:https://norwinpubliclibrary.net/wp-content/uploads/2023/06/353453044_650021847170335_886623891375822359_n.jpg
ORGANIZER;CN="Karly Kunkle":MAILTO:kkunkle@norwinpubliclibrary.net
END:VEVENT
BEGIN:VEVENT
DTSTART;TZID=America/New_York:20230828T110000
DTEND;TZID=America/New_York:20230828T113000
DTSTAMP:20260420T110630
CREATED:20230715T152511Z
LAST-MODIFIED:20230715T152511Z
UID:10000239-1693220400-1693222200@norwinpubliclibrary.net
SUMMARY:Story Time!
DESCRIPTION:Join the Children’s Library as we shares stories and songs! Each programs features 3 stories and several fingerplays and songs. All ages\, but geared toward preschool.
URL:https://norwinpubliclibrary.net/event/story-time-14/
LOCATION:Norwin Library Storybook Square\, 100 Caruthers Lane\, Irwin\, PA\, 15642\, United States
CATEGORIES:Just4Kids,Library Programs,Storytime
ATTACH;FMTTYPE=image/jpeg:https://norwinpubliclibrary.net/wp-content/uploads/2023/06/353453044_650021847170335_886623891375822359_n.jpg
ORGANIZER;CN="Karly Kunkle":MAILTO:kkunkle@norwinpubliclibrary.net
END:VEVENT
BEGIN:VEVENT
DTSTART;TZID=America/New_York:20230823T110000
DTEND;TZID=America/New_York:20230823T113000
DTSTAMP:20260420T110630
CREATED:20230715T152413Z
LAST-MODIFIED:20230715T152413Z
UID:10000238-1692788400-1692790200@norwinpubliclibrary.net
SUMMARY:Story Time!
DESCRIPTION:Join the Children’s Library as we shares stories and songs! Each programs features 3 stories and several fingerplays and songs. All ages\, but geared toward preschool.
URL:https://norwinpubliclibrary.net/event/story-time-13/
LOCATION:Norwin Library Storybook Square\, 100 Caruthers Lane\, Irwin\, PA\, 15642\, United States
CATEGORIES:Just4Kids,Library Programs,Storytime
ATTACH;FMTTYPE=image/jpeg:https://norwinpubliclibrary.net/wp-content/uploads/2023/06/353453044_650021847170335_886623891375822359_n.jpg
ORGANIZER;CN="Karly Kunkle":MAILTO:kkunkle@norwinpubliclibrary.net
END:VEVENT
BEGIN:VEVENT
DTSTART;TZID=America/New_York:20230821T110000
DTEND;TZID=America/New_York:20230821T113000
DTSTAMP:20260420T110630
CREATED:20230715T152248Z
LAST-MODIFIED:20230715T152248Z
UID:10000237-1692615600-1692617400@norwinpubliclibrary.net
SUMMARY:Story Time!
DESCRIPTION:Join the Children’s Library as we shares stories and songs! Each programs features 3 stories and several fingerplays and songs. All ages\, but geared toward preschool.
URL:https://norwinpubliclibrary.net/event/story-time-12/
LOCATION:Norwin Library Storybook Square\, 100 Caruthers Lane\, Irwin\, PA\, 15642\, United States
CATEGORIES:Just4Kids,Library Programs,Storytime
ATTACH;FMTTYPE=image/jpeg:https://norwinpubliclibrary.net/wp-content/uploads/2023/06/353453044_650021847170335_886623891375822359_n.jpg
ORGANIZER;CN="Karly Kunkle":MAILTO:kkunkle@norwinpubliclibrary.net
END:VEVENT
BEGIN:VEVENT
DTSTART;TZID=America/New_York:20230703T110000
DTEND;TZID=America/New_York:20230703T113000
DTSTAMP:20260420T110630
CREATED:20230630T141452Z
LAST-MODIFIED:20230630T141452Z
UID:10000211-1688382000-1688383800@norwinpubliclibrary.net
SUMMARY:Story Time!
DESCRIPTION:Join the Children’s Library as we shares stories and songs! Each programs features 3 stories and several fingerplays and songs. All ages\, but geared toward preschool.
URL:https://norwinpubliclibrary.net/event/story-time/
LOCATION:Norwin Library Storybook Square\, 100 Caruthers Lane\, Irwin\, PA\, 15642\, United States
ATTACH;FMTTYPE=image/jpeg:https://norwinpubliclibrary.net/wp-content/uploads/2023/06/353453044_650021847170335_886623891375822359_n.jpg
ORGANIZER;CN="Karly Kunkle":MAILTO:kkunkle@norwinpubliclibrary.net
END:VEVENT
END:VCALENDAR