BEGIN:VCALENDAR
VERSION:2.0
PRODID:-//Norwin Public Library - ECPv6.15.20//NONSGML v1.0//EN
CALSCALE:GREGORIAN
METHOD:PUBLISH
X-ORIGINAL-URL:https://norwinpubliclibrary.net
X-WR-CALDESC:Events for Norwin Public Library
REFRESH-INTERVAL;VALUE=DURATION:PT1H
X-Robots-Tag:noindex
X-PUBLISHED-TTL:PT1H
BEGIN:VTIMEZONE
TZID:America/New_York
BEGIN:DAYLIGHT
TZOFFSETFROM:-0500
TZOFFSETTO:-0400
TZNAME:EDT
DTSTART:20210314T070000
END:DAYLIGHT
BEGIN:STANDARD
TZOFFSETFROM:-0400
TZOFFSETTO:-0500
TZNAME:EST
DTSTART:20211107T060000
END:STANDARD
BEGIN:DAYLIGHT
TZOFFSETFROM:-0500
TZOFFSETTO:-0400
TZNAME:EDT
DTSTART:20220313T070000
END:DAYLIGHT
BEGIN:STANDARD
TZOFFSETFROM:-0400
TZOFFSETTO:-0500
TZNAME:EST
DTSTART:20221106T060000
END:STANDARD
BEGIN:DAYLIGHT
TZOFFSETFROM:-0500
TZOFFSETTO:-0400
TZNAME:EDT
DTSTART:20230312T070000
END:DAYLIGHT
BEGIN:STANDARD
TZOFFSETFROM:-0400
TZOFFSETTO:-0500
TZNAME:EST
DTSTART:20231105T060000
END:STANDARD
END:VTIMEZONE
BEGIN:VEVENT
DTSTART;TZID=America/New_York:20221214T110000
DTEND;TZID=America/New_York:20221214T113000
DTSTAMP:20260421T053436
CREATED:20220906T211637Z
LAST-MODIFIED:20221219T225413Z
UID:10000024-1671015600-1671017400@norwinpubliclibrary.net
SUMMARY:Storytime!
DESCRIPTION:Storytimes are held Monday and Wednesday at 11 AM. Our Children’s Librarian will read stories\, lead songs\, and integrate fingerplays and other stimulating activities for young children.
URL:https://norwinpubliclibrary.net/event/storytime-3/
LOCATION:Norwin Public Library\, 100 Caruthers Lane\, Irwin\, PA\, 15642
CATEGORIES:Just4Kids,Library Programs
ATTACH;FMTTYPE=image/jpeg:https://norwinpubliclibrary.net/wp-content/uploads/2022/09/st4-scaled.jpg
ORGANIZER;CN="Barbara McKee":MAILTO:bmckee@norwinpubliclibrary.net
END:VEVENT
BEGIN:VEVENT
DTSTART;TZID=America/New_York:20221213T180000
DTEND;TZID=America/New_York:20221213T190000
DTSTAMP:20260421T053436
CREATED:20221129T191354Z
LAST-MODIFIED:20221129T191354Z
UID:10000057-1670954400-1670958000@norwinpubliclibrary.net
SUMMARY:Stage Right-North Pole Musical
DESCRIPTION:North Pole Musical! presented by Stage Right \nJoin us as we welcome Stage Right to the library for a holiday celebration. This play is for all ages to enjoy some singing and dancing. No registration is needed.
URL:https://norwinpubliclibrary.net/event/stage-right-north-pole-musical/
LOCATION:Norwin Library Community Room\, 100 Caruthers Lane\, Irwin\, PA\, 15642\, United States
CATEGORIES:Just4Kids,Library Programs
ATTACH;FMTTYPE=image/jpeg:https://norwinpubliclibrary.net/wp-content/uploads/2022/11/northpole2.jpg
ORGANIZER;CN="Barbara McKee":MAILTO:bmckee@norwinpubliclibrary.net
END:VEVENT
BEGIN:VEVENT
DTSTART;TZID=America/New_York:20221212T110000
DTEND;TZID=America/New_York:20221212T113000
DTSTAMP:20260421T053436
CREATED:20220906T195534Z
LAST-MODIFIED:20221116T170345Z
UID:10000023-1670842800-1670844600@norwinpubliclibrary.net
SUMMARY:Storytime!
DESCRIPTION:Storytimes are held Monday and Wednesday at 11 AM. Our Children’s Librarian will read stories\, lead songs\, and integrate fingerplays and other stimulating activities for young children.
URL:https://norwinpubliclibrary.net/event/storytime-2/
LOCATION:Norwin Public Library\, 100 Caruthers Lane\, Irwin\, PA\, 15642
CATEGORIES:Just4Kids,Library Programs
ATTACH;FMTTYPE=image/jpeg:https://norwinpubliclibrary.net/wp-content/uploads/2022/09/storytime2-scaled.jpg
ORGANIZER;CN="Barbara McKee":MAILTO:bmckee@norwinpubliclibrary.net
END:VEVENT
BEGIN:VEVENT
DTSTART;TZID=America/New_York:20221207T110000
DTEND;TZID=America/New_York:20221207T113000
DTSTAMP:20260421T053436
CREATED:20220906T224135Z
LAST-MODIFIED:20221116T160308Z
UID:10000028-1670410800-1670412600@norwinpubliclibrary.net
SUMMARY:Storytime!
DESCRIPTION:Storytimes are held Monday and Wednesday at 11 AM. Our Children’s Librarian will read stories\, lead songs\, and integrate fingerplays and other stimulating activities for young children.
URL:https://norwinpubliclibrary.net/event/storytime-7/
LOCATION:Norwin Public Library\, 100 Caruthers Lane\, Irwin\, PA\, 15642
CATEGORIES:Just4Kids,Library Programs
ATTACH;FMTTYPE=image/jpeg:https://norwinpubliclibrary.net/wp-content/uploads/2022/09/st7-scaled-e1662504048652.jpg
ORGANIZER;CN="Barbara McKee":MAILTO:bmckee@norwinpubliclibrary.net
END:VEVENT
BEGIN:VEVENT
DTSTART;TZID=America/New_York:20221205T110000
DTEND;TZID=America/New_York:20221205T113000
DTSTAMP:20260421T053436
CREATED:20221004T235658Z
LAST-MODIFIED:20221116T160218Z
UID:10000041-1670238000-1670239800@norwinpubliclibrary.net
SUMMARY:Storytime!
DESCRIPTION:Storytimes are held Monday and Wednesday at 11 AM. Our Children’s Librarian will read stories\, lead songs\, and integrate fingerplays and other stimulating activities for young children.
URL:https://norwinpubliclibrary.net/event/storytime-8/
LOCATION:Norwin Library Storybook Square\, 100 Caruthers Lane\, Irwin\, PA\, 15642\, United States
CATEGORIES:Just4Kids,Library Programs
ATTACH;FMTTYPE=image/jpeg:https://norwinpubliclibrary.net/wp-content/uploads/2022/09/st6-scaled-e1662503535676.jpg
ORGANIZER;CN="Barbara McKee":MAILTO:bmckee@norwinpubliclibrary.net
END:VEVENT
BEGIN:VEVENT
DTSTART;TZID=America/New_York:20221109T110000
DTEND;TZID=America/New_York:20221109T113000
DTSTAMP:20260421T053436
CREATED:20221019T215402Z
LAST-MODIFIED:20221019T215402Z
UID:10000051-1667991600-1667993400@norwinpubliclibrary.net
SUMMARY:Storytime!
DESCRIPTION:Storytimes are held Monday and Wednesday at 11 AM. Our Children’s Librarian will read stories\, lead songs\, and integrate fingerplays and other stimulating activities for young children.
URL:https://norwinpubliclibrary.net/event/storytime-10/
LOCATION:Norwin Library Storybook Square\, 100 Caruthers Lane\, Irwin\, PA\, 15642\, United States
CATEGORIES:Just4Kids,Library Programs
ATTACH;FMTTYPE=image/jpeg:https://norwinpubliclibrary.net/wp-content/uploads/2022/08/moveandgroove.jpg
ORGANIZER;CN="Barbara McKee":MAILTO:bmckee@norwinpubliclibrary.net
END:VEVENT
BEGIN:VEVENT
DTSTART;TZID=America/New_York:20221107T110000
DTEND;TZID=America/New_York:20221107T113000
DTSTAMP:20260421T053436
CREATED:20221019T202910Z
LAST-MODIFIED:20221019T202910Z
UID:10000050-1667818800-1667820600@norwinpubliclibrary.net
SUMMARY:Storytime!
DESCRIPTION:Storytimes are held Monday and Wednesday at 11 AM. Our Children’s Librarian will read stories\, lead songs\, and integrate fingerplays and other stimulating activities for young children.
URL:https://norwinpubliclibrary.net/event/storytime-9/
LOCATION:Norwin Library Storybook Square\, 100 Caruthers Lane\, Irwin\, PA\, 15642\, United States
CATEGORIES:Just4Kids,Library Programs
ATTACH;FMTTYPE=image/jpeg:https://norwinpubliclibrary.net/wp-content/uploads/2022/09/st6-scaled-e1662503535676.jpg
ORGANIZER;CN="Barbara McKee":MAILTO:bmckee@norwinpubliclibrary.net
END:VEVENT
BEGIN:VEVENT
DTSTART;TZID=America/New_York:20221031T110000
DTEND;TZID=America/New_York:20221031T233000
DTSTAMP:20260421T053436
CREATED:20220906T193944Z
LAST-MODIFIED:20221004T211141Z
UID:10000022-1667214000-1667259000@norwinpubliclibrary.net
SUMMARY:Storytime!
DESCRIPTION:Storytimes are held Monday and Wednesday at 11 AM. Our Children’s Librarian will read stories\, lead songs\, and integrate fingerplays and other stimulating activities for young children.
URL:https://norwinpubliclibrary.net/event/storytime/
LOCATION:Norwin Public Library\, 100 Caruthers Lane\, Irwin\, PA\, 15642
CATEGORIES:Just4Kids
ATTACH;FMTTYPE=image/jpeg:https://norwinpubliclibrary.net/wp-content/uploads/2022/08/blockparty-scaled.jpg
ORGANIZER;CN="Barbara McKee":MAILTO:bmckee@norwinpubliclibrary.net
END:VEVENT
BEGIN:VEVENT
DTSTART;TZID=America/New_York:20221019T110000
DTEND;TZID=America/New_York:20221019T113000
DTSTAMP:20260421T053436
CREATED:20220906T223234Z
LAST-MODIFIED:20221004T192202Z
UID:10000027-1666177200-1666179000@norwinpubliclibrary.net
SUMMARY:Storytime!
DESCRIPTION:Storytimes are held Monday and Wednesday at 11 AM. Our Children’s Librarian will read stories\, lead songs\, and integrate fingerplays and other stimulating activities for young children.
URL:https://norwinpubliclibrary.net/event/storytime-6/
LOCATION:Norwin Public Library\, 100 Caruthers Lane\, Irwin\, PA\, 15642
CATEGORIES:Just4Kids,Library Programs
ATTACH;FMTTYPE=image/jpeg:https://norwinpubliclibrary.net/wp-content/uploads/2022/09/st6-scaled-e1662503535676.jpg
ORGANIZER;CN="Barbara McKee":MAILTO:bmckee@norwinpubliclibrary.net
END:VEVENT
BEGIN:VEVENT
DTSTART;TZID=America/New_York:20221017T110000
DTEND;TZID=America/New_York:20221017T113000
DTSTAMP:20260421T053436
CREATED:20220906T220553Z
LAST-MODIFIED:20221004T192110Z
UID:10000026-1666004400-1666006200@norwinpubliclibrary.net
SUMMARY:Storytime!
DESCRIPTION:Storytimes are held Monday and Wednesday at 11 AM. Our Children’s Librarian will read stories\, lead songs\, and integrate fingerplays and other stimulating activities for young children.
URL:https://norwinpubliclibrary.net/event/storytime-5/
LOCATION:Norwin Public Library\, 100 Caruthers Lane\, Irwin\, PA\, 15642
CATEGORIES:Just4Kids,Library Programs
ATTACH;FMTTYPE=image/jpeg:https://norwinpubliclibrary.net/wp-content/uploads/2022/09/libraryrock.jpg
ORGANIZER;CN="Barbara McKee":MAILTO:bmckee@norwinpubliclibrary.net
END:VEVENT
BEGIN:VEVENT
DTSTART;TZID=America/New_York:20221012T110000
DTEND;TZID=America/New_York:20221012T233000
DTSTAMP:20260421T053436
CREATED:20220906T220323Z
LAST-MODIFIED:20221004T192032Z
UID:10000025-1665572400-1665617400@norwinpubliclibrary.net
SUMMARY:Storytime!
DESCRIPTION:Storytimes are held Monday and Wednesday at 11 AM. Our Children’s Librarian will read stories\, lead songs\, and integrate fingerplays and other stimulating activities for young children.
URL:https://norwinpubliclibrary.net/event/storytime-4/
LOCATION:Norwin Public Library\, 100 Caruthers Lane\, Irwin\, PA\, 15642
CATEGORIES:Just4Kids,Library Programs
ATTACH;FMTTYPE=image/jpeg:https://norwinpubliclibrary.net/wp-content/uploads/2022/09/st5-e1662501748133.jpg
ORGANIZER;CN="Barbara McKee":MAILTO:bmckee@norwinpubliclibrary.net
END:VEVENT
END:VCALENDAR