BEGIN:VCALENDAR
VERSION:2.0
PRODID:-//Norwin Public Library - ECPv6.15.20//NONSGML v1.0//EN
CALSCALE:GREGORIAN
METHOD:PUBLISH
X-WR-CALNAME:Norwin Public Library
X-ORIGINAL-URL:https://norwinpubliclibrary.net
X-WR-CALDESC:Events for Norwin Public Library
REFRESH-INTERVAL;VALUE=DURATION:PT1H
X-Robots-Tag:noindex
X-PUBLISHED-TTL:PT1H
BEGIN:VTIMEZONE
TZID:America/New_York
BEGIN:DAYLIGHT
TZOFFSETFROM:-0500
TZOFFSETTO:-0400
TZNAME:EDT
DTSTART:20240310T070000
END:DAYLIGHT
BEGIN:STANDARD
TZOFFSETFROM:-0400
TZOFFSETTO:-0500
TZNAME:EST
DTSTART:20241103T060000
END:STANDARD
BEGIN:DAYLIGHT
TZOFFSETFROM:-0500
TZOFFSETTO:-0400
TZNAME:EDT
DTSTART:20250309T070000
END:DAYLIGHT
BEGIN:STANDARD
TZOFFSETFROM:-0400
TZOFFSETTO:-0500
TZNAME:EST
DTSTART:20251102T060000
END:STANDARD
BEGIN:DAYLIGHT
TZOFFSETFROM:-0500
TZOFFSETTO:-0400
TZNAME:EDT
DTSTART:20260308T070000
END:DAYLIGHT
BEGIN:STANDARD
TZOFFSETFROM:-0400
TZOFFSETTO:-0500
TZNAME:EST
DTSTART:20261101T060000
END:STANDARD
BEGIN:DAYLIGHT
TZOFFSETFROM:-0500
TZOFFSETTO:-0400
TZNAME:EDT
DTSTART:20270314T070000
END:DAYLIGHT
BEGIN:STANDARD
TZOFFSETFROM:-0400
TZOFFSETTO:-0500
TZNAME:EST
DTSTART:20271107T060000
END:STANDARD
END:VTIMEZONE
BEGIN:VEVENT
DTSTART;TZID=America/New_York:20260120T103000
DTEND;TZID=America/New_York:20260120T110000
DTSTAMP:20260423T014719
CREATED:20250724T201814Z
LAST-MODIFIED:20251128T203142Z
UID:10024372-1768905000-1768906800@norwinpubliclibrary.net
SUMMARY:Move and Groove
DESCRIPTION:Bring in your babies and toddlers as we engage in songs\, stories\, fingerplays\, motion\, and play time together. \nProgram designed for children ages 0 – 2.5. \nNo registration needed. \nPlease bring your child’s favorite blanket or pillow as we will be on the floor.
URL:https://norwinpubliclibrary.net/event/move-and-groove/2026-01-20/
LOCATION:Norwin Library Community Room\, 100 Caruthers Lane\, Irwin\, PA\, 15642\, United States
CATEGORIES:Just4Kids,Storytime
ATTACH;FMTTYPE=image/jpeg:https://norwinpubliclibrary.net/wp-content/uploads/2024/01/Baby-storytime.jpeg
ORGANIZER;CN="Melanie Matthews":MAILTO:mmatthews@norwinpubliclibrary.net
END:VEVENT
BEGIN:VEVENT
DTSTART;TZID=America/New_York:20260119T110000
DTEND;TZID=America/New_York:20260119T113000
DTSTAMP:20260423T014719
CREATED:20251128T152704Z
LAST-MODIFIED:20260406T171054Z
UID:10024518-1768820400-1768822200@norwinpubliclibrary.net
SUMMARY:Story Time
DESCRIPTION:Join us for stories\, songs and fun every Monday and Thursday at 11am. \nAll ages are welcome! \nNo registration is needed.
URL:https://norwinpubliclibrary.net/event/story-time-10/2026-01-19/
LOCATION:Norwin Children’s Library
CATEGORIES:Just4Kids,Library Programs,Storytime
ATTACH;FMTTYPE=image/jpeg:https://norwinpubliclibrary.net/wp-content/uploads/2023/11/storytimeMT.jpg
ORGANIZER;CN="Melanie Matthews":MAILTO:mmatthews@norwinpubliclibrary.net
END:VEVENT
BEGIN:VEVENT
DTSTART;TZID=America/New_York:20260116T140000
DTEND;TZID=America/New_York:20260116T153000
DTSTAMP:20260423T014719
CREATED:20260105T221557Z
LAST-MODIFIED:20260105T221557Z
UID:10024627-1768572000-1768577400@norwinpubliclibrary.net
SUMMARY:No School STEM Lab
DESCRIPTION:Friday\, January 16th\, 2 PM-3:30 PM \nGrades K-8 \nNorwin is off this day. Hooray!\nStop by to engage in our STEM Kits and other building activities. \nRegistration is required for each kid participating individually here: https://forms.gle/4W846dMJxRT8nstb6
URL:https://norwinpubliclibrary.net/event/no-school-stem-lab/
LOCATION:Norwin Library Community Room\, 100 Caruthers Lane\, Irwin\, PA\, 15642\, United States
CATEGORIES:Educational,Just4Kids,Library Programs,STEM
ATTACH;FMTTYPE=image/png:https://norwinpubliclibrary.net/wp-content/uploads/2026/01/technology-canvas-banner-1.png
ORGANIZER;CN="Melanie Matthews":MAILTO:mmatthews@norwinpubliclibrary.net
END:VEVENT
BEGIN:VEVENT
DTSTART;TZID=America/New_York:20260115T110000
DTEND;TZID=America/New_York:20260115T113000
DTSTAMP:20260423T014719
CREATED:20251128T152704Z
LAST-MODIFIED:20260406T171054Z
UID:10024517-1768474800-1768476600@norwinpubliclibrary.net
SUMMARY:Story Time
DESCRIPTION:Join us for stories\, songs and fun every Monday and Thursday at 11am. \nAll ages are welcome! \nNo registration is needed.
URL:https://norwinpubliclibrary.net/event/story-time-10/2026-01-15/
LOCATION:Norwin Children’s Library
CATEGORIES:Just4Kids,Library Programs,Storytime
ATTACH;FMTTYPE=image/jpeg:https://norwinpubliclibrary.net/wp-content/uploads/2023/11/storytimeMT.jpg
ORGANIZER;CN="Melanie Matthews":MAILTO:mmatthews@norwinpubliclibrary.net
END:VEVENT
BEGIN:VEVENT
DTSTART;TZID=America/New_York:20260114T180000
DTEND;TZID=America/New_York:20260114T190000
DTSTAMP:20260423T014719
CREATED:20251208T231412Z
LAST-MODIFIED:20251214T172229Z
UID:10024617-1768413600-1768417200@norwinpubliclibrary.net
SUMMARY:K-Pop Demon Hunters Concert
DESCRIPTION:Wednesday\, January 14th 6pm \nThis program and wait list are full. Thank you for your support.
URL:https://norwinpubliclibrary.net/event/k-pop-demon-hunters-concert/
LOCATION:Norwin Library Community Room\, 100 Caruthers Lane\, Irwin\, PA\, 15642\, United States
CATEGORIES:Just4Kids,Library Programs,Tweens
ATTACH;FMTTYPE=image/png:https://norwinpubliclibrary.net/wp-content/uploads/2025/12/kpop_kaerina.png
ORGANIZER;CN="Melanie Matthews":MAILTO:mmatthews@norwinpubliclibrary.net
END:VEVENT
BEGIN:VEVENT
DTSTART;TZID=America/New_York:20260113T103000
DTEND;TZID=America/New_York:20260113T110000
DTSTAMP:20260423T014719
CREATED:20250724T201814Z
LAST-MODIFIED:20251128T203142Z
UID:10024371-1768300200-1768302000@norwinpubliclibrary.net
SUMMARY:Move and Groove
DESCRIPTION:Bring in your babies and toddlers as we engage in songs\, stories\, fingerplays\, motion\, and play time together. \nProgram designed for children ages 0 – 2.5. \nNo registration needed. \nPlease bring your child’s favorite blanket or pillow as we will be on the floor.
URL:https://norwinpubliclibrary.net/event/move-and-groove/2026-01-13/
LOCATION:Norwin Library Community Room\, 100 Caruthers Lane\, Irwin\, PA\, 15642\, United States
CATEGORIES:Just4Kids,Storytime
ATTACH;FMTTYPE=image/jpeg:https://norwinpubliclibrary.net/wp-content/uploads/2024/01/Baby-storytime.jpeg
ORGANIZER;CN="Melanie Matthews":MAILTO:mmatthews@norwinpubliclibrary.net
END:VEVENT
BEGIN:VEVENT
DTSTART;TZID=America/New_York:20260112T110000
DTEND;TZID=America/New_York:20260112T113000
DTSTAMP:20260423T014719
CREATED:20251128T152704Z
LAST-MODIFIED:20260406T171054Z
UID:10024516-1768215600-1768217400@norwinpubliclibrary.net
SUMMARY:Story Time
DESCRIPTION:Join us for stories\, songs and fun every Monday and Thursday at 11am. \nAll ages are welcome! \nNo registration is needed.
URL:https://norwinpubliclibrary.net/event/story-time-10/2026-01-12/
LOCATION:Norwin Children’s Library
CATEGORIES:Just4Kids,Library Programs,Storytime
ATTACH;FMTTYPE=image/jpeg:https://norwinpubliclibrary.net/wp-content/uploads/2023/11/storytimeMT.jpg
ORGANIZER;CN="Melanie Matthews":MAILTO:mmatthews@norwinpubliclibrary.net
END:VEVENT
BEGIN:VEVENT
DTSTART;TZID=America/New_York:20260108T180000
DTEND;TZID=America/New_York:20260108T190000
DTSTAMP:20260423T014719
CREATED:20250521T142013Z
LAST-MODIFIED:20250521T142013Z
UID:10024182-1767895200-1767898800@norwinpubliclibrary.net
SUMMARY:KnightCrawlers Horror Movie Discussion
DESCRIPTION:A Horror film discussion group. \nKnightCrawlers meets the second Thursday of each month. \nStop in the library or email Sue with any questions.
URL:https://norwinpubliclibrary.net/event/knightcrawlers-horror-movie-discussion-2/2026-01-08/
LOCATION:Norwin Public Library\, 100 Caruthers Lane\, Irwin\, PA\, 15642
CATEGORIES:Adult Program,Film Study,Library Programs
ATTACH;FMTTYPE=image/jpeg:https://norwinpubliclibrary.net/wp-content/uploads/2023/01/knightcrawlers-1-e1690490532810.jpg
ORGANIZER;CN="Sue Schultheis":MAILTO:sschultheis@norwinpubliclibrary.net
END:VEVENT
BEGIN:VEVENT
DTSTART;TZID=America/New_York:20260108T110000
DTEND;TZID=America/New_York:20260108T113000
DTSTAMP:20260423T014719
CREATED:20251128T152704Z
LAST-MODIFIED:20260406T171054Z
UID:10024515-1767870000-1767871800@norwinpubliclibrary.net
SUMMARY:Story Time
DESCRIPTION:Join us for stories\, songs and fun every Monday and Thursday at 11am. \nAll ages are welcome! \nNo registration is needed.
URL:https://norwinpubliclibrary.net/event/story-time-10/2026-01-08/
LOCATION:Norwin Children’s Library
CATEGORIES:Just4Kids,Library Programs,Storytime
ATTACH;FMTTYPE=image/jpeg:https://norwinpubliclibrary.net/wp-content/uploads/2023/11/storytimeMT.jpg
ORGANIZER;CN="Melanie Matthews":MAILTO:mmatthews@norwinpubliclibrary.net
END:VEVENT
BEGIN:VEVENT
DTSTART;TZID=America/New_York:20260106T103000
DTEND;TZID=America/New_York:20260106T110000
DTSTAMP:20260423T014719
CREATED:20250724T201814Z
LAST-MODIFIED:20251128T203142Z
UID:10024370-1767695400-1767697200@norwinpubliclibrary.net
SUMMARY:Move and Groove
DESCRIPTION:Bring in your babies and toddlers as we engage in songs\, stories\, fingerplays\, motion\, and play time together. \nProgram designed for children ages 0 – 2.5. \nNo registration needed. \nPlease bring your child’s favorite blanket or pillow as we will be on the floor.
URL:https://norwinpubliclibrary.net/event/move-and-groove/2026-01-06/
LOCATION:Norwin Library Community Room\, 100 Caruthers Lane\, Irwin\, PA\, 15642\, United States
CATEGORIES:Just4Kids,Storytime
ATTACH;FMTTYPE=image/jpeg:https://norwinpubliclibrary.net/wp-content/uploads/2024/01/Baby-storytime.jpeg
ORGANIZER;CN="Melanie Matthews":MAILTO:mmatthews@norwinpubliclibrary.net
END:VEVENT
BEGIN:VEVENT
DTSTART;TZID=America/New_York:20260105T110000
DTEND;TZID=America/New_York:20260105T113000
DTSTAMP:20260423T014719
CREATED:20251128T152704Z
LAST-MODIFIED:20260406T171054Z
UID:10024514-1767610800-1767612600@norwinpubliclibrary.net
SUMMARY:Story Time
DESCRIPTION:Join us for stories\, songs and fun every Monday and Thursday at 11am. \nAll ages are welcome! \nNo registration is needed.
URL:https://norwinpubliclibrary.net/event/story-time-10/2026-01-05/
LOCATION:Norwin Children’s Library
CATEGORIES:Just4Kids,Library Programs,Storytime
ATTACH;FMTTYPE=image/jpeg:https://norwinpubliclibrary.net/wp-content/uploads/2023/11/storytimeMT.jpg
ORGANIZER;CN="Melanie Matthews":MAILTO:mmatthews@norwinpubliclibrary.net
END:VEVENT
BEGIN:VEVENT
DTSTART;TZID=America/New_York:20251223T103000
DTEND;TZID=America/New_York:20251223T110000
DTSTAMP:20260423T014719
CREATED:20250724T201814Z
LAST-MODIFIED:20251128T203142Z
UID:10024368-1766485800-1766487600@norwinpubliclibrary.net
SUMMARY:Move and Groove
DESCRIPTION:Bring in your babies and toddlers as we engage in songs\, stories\, fingerplays\, motion\, and play time together. \nProgram designed for children ages 0 – 2.5. \nNo registration needed. \nPlease bring your child’s favorite blanket or pillow as we will be on the floor.
URL:https://norwinpubliclibrary.net/event/move-and-groove/2025-12-23/
LOCATION:Norwin Library Community Room\, 100 Caruthers Lane\, Irwin\, PA\, 15642\, United States
CATEGORIES:Just4Kids,Storytime
ATTACH;FMTTYPE=image/jpeg:https://norwinpubliclibrary.net/wp-content/uploads/2024/01/Baby-storytime.jpeg
ORGANIZER;CN="Melanie Matthews":MAILTO:mmatthews@norwinpubliclibrary.net
END:VEVENT
BEGIN:VEVENT
DTSTART;TZID=America/New_York:20251222T110000
DTEND;TZID=America/New_York:20251222T113000
DTSTAMP:20260423T014719
CREATED:20251128T152704Z
LAST-MODIFIED:20260406T171054Z
UID:10024510-1766401200-1766403000@norwinpubliclibrary.net
SUMMARY:Story Time
DESCRIPTION:Join us for stories\, songs and fun every Monday and Thursday at 11am. \nAll ages are welcome! \nNo registration is needed.
URL:https://norwinpubliclibrary.net/event/story-time-10/2025-12-22/
LOCATION:Norwin Children’s Library
CATEGORIES:Just4Kids,Library Programs,Storytime
ATTACH;FMTTYPE=image/jpeg:https://norwinpubliclibrary.net/wp-content/uploads/2023/11/storytimeMT.jpg
ORGANIZER;CN="Melanie Matthews":MAILTO:mmatthews@norwinpubliclibrary.net
END:VEVENT
BEGIN:VEVENT
DTSTART;TZID=America/New_York:20251218T110000
DTEND;TZID=America/New_York:20251218T113000
DTSTAMP:20260423T014719
CREATED:20251128T152704Z
LAST-MODIFIED:20260406T171054Z
UID:10024509-1766055600-1766057400@norwinpubliclibrary.net
SUMMARY:Story Time
DESCRIPTION:Join us for stories\, songs and fun every Monday and Thursday at 11am. \nAll ages are welcome! \nNo registration is needed.
URL:https://norwinpubliclibrary.net/event/story-time-10/2025-12-18/
LOCATION:Norwin Children’s Library
CATEGORIES:Just4Kids,Library Programs,Storytime
ATTACH;FMTTYPE=image/jpeg:https://norwinpubliclibrary.net/wp-content/uploads/2023/11/storytimeMT.jpg
ORGANIZER;CN="Melanie Matthews":MAILTO:mmatthews@norwinpubliclibrary.net
END:VEVENT
BEGIN:VEVENT
DTSTART;TZID=America/New_York:20251217T180000
DTEND;TZID=America/New_York:20251217T190000
DTSTAMP:20260423T014719
CREATED:20251119T100051Z
LAST-MODIFIED:20251115T170306Z
UID:10024502-1765994400-1765998000@norwinpubliclibrary.net
SUMMARY:Elf On A Shelf
DESCRIPTION:Wed.\, December 17th at 6pm \nYour Elf on a Shelf may cause trouble at home during the holiday season\, but this year they are also\ncausing it at the library. Join us for some mischief and fun for the evening. \nDon’t forget to bring your Elf on the Shelf to join us. \nAll ages are welcome. \n \nRegistration is required for each child coming to participate. Please sign each participating child individually here: https://forms.gle/UbzNyz4e1TB89SXUA
URL:https://norwinpubliclibrary.net/event/elf-on-a-shelf/
LOCATION:Norwin Library Community Room\, 100 Caruthers Lane\, Irwin\, PA\, 15642\, United States
CATEGORIES:Just4Kids,Library Programs
ATTACH;FMTTYPE=image/jpeg:https://norwinpubliclibrary.net/wp-content/uploads/2025/11/blog-elfontheshelf-1015_0.jpg
ORGANIZER;CN="Melanie Matthews":MAILTO:mmatthews@norwinpubliclibrary.net
END:VEVENT
BEGIN:VEVENT
DTSTART;TZID=America/New_York:20251216T103000
DTEND;TZID=America/New_York:20251216T110000
DTSTAMP:20260423T014719
CREATED:20250724T201814Z
LAST-MODIFIED:20251128T203142Z
UID:10024367-1765881000-1765882800@norwinpubliclibrary.net
SUMMARY:Move and Groove
DESCRIPTION:Bring in your babies and toddlers as we engage in songs\, stories\, fingerplays\, motion\, and play time together. \nProgram designed for children ages 0 – 2.5. \nNo registration needed. \nPlease bring your child’s favorite blanket or pillow as we will be on the floor.
URL:https://norwinpubliclibrary.net/event/move-and-groove/2025-12-16/
LOCATION:Norwin Library Community Room\, 100 Caruthers Lane\, Irwin\, PA\, 15642\, United States
CATEGORIES:Just4Kids,Storytime
ATTACH;FMTTYPE=image/jpeg:https://norwinpubliclibrary.net/wp-content/uploads/2024/01/Baby-storytime.jpeg
ORGANIZER;CN="Melanie Matthews":MAILTO:mmatthews@norwinpubliclibrary.net
END:VEVENT
BEGIN:VEVENT
DTSTART;TZID=America/New_York:20251215T110000
DTEND;TZID=America/New_York:20251215T113000
DTSTAMP:20260423T014719
CREATED:20251128T152704Z
LAST-MODIFIED:20260406T171054Z
UID:10024508-1765796400-1765798200@norwinpubliclibrary.net
SUMMARY:Story Time
DESCRIPTION:Join us for stories\, songs and fun every Monday and Thursday at 11am. \nAll ages are welcome! \nNo registration is needed.
URL:https://norwinpubliclibrary.net/event/story-time-10/2025-12-15/
LOCATION:Norwin Children’s Library
CATEGORIES:Just4Kids,Library Programs,Storytime
ATTACH;FMTTYPE=image/jpeg:https://norwinpubliclibrary.net/wp-content/uploads/2023/11/storytimeMT.jpg
ORGANIZER;CN="Melanie Matthews":MAILTO:mmatthews@norwinpubliclibrary.net
END:VEVENT
BEGIN:VEVENT
DTSTART;TZID=America/New_York:20251213T110000
DTEND;TZID=America/New_York:20251213T123000
DTSTAMP:20260423T014719
CREATED:20251119T170021Z
LAST-MODIFIED:20251115T170045Z
UID:10024501-1765623600-1765629000@norwinpubliclibrary.net
SUMMARY:Ornament Exchange
DESCRIPTION:Sat.\, December 13th 11am-12:30pm \n\nStop by to make 3 different ornaments for the holiday season: 1 to keep\, 1 to give away\, and 1 to donate to others. \nThis program is for Pre-K and up. Registration is required\, space is limited. \nRegistration is required for each child coming to participate. Please sign each participating child individually here: https://forms.gle/YGGqmQgXi7YtXAfB7
URL:https://norwinpubliclibrary.net/event/ornament-exchange/
LOCATION:Norwin Library Community Room\, 100 Caruthers Lane\, Irwin\, PA\, 15642\, United States
CATEGORIES:Just4Kids,Library Programs,STEM
ATTACH;FMTTYPE=image/jpeg:https://norwinpubliclibrary.net/wp-content/uploads/2025/11/360_F_981592715_CHwmPxtV4srbtI6SS8VFzIXiZU99r2q0.jpg
ORGANIZER;CN="Melanie Matthews":MAILTO:mmatthews@norwinpubliclibrary.net
END:VEVENT
BEGIN:VEVENT
DTSTART;TZID=America/New_York:20251211T180000
DTEND;TZID=America/New_York:20251211T190000
DTSTAMP:20260423T014719
CREATED:20250521T142013Z
LAST-MODIFIED:20250521T142013Z
UID:10024181-1765476000-1765479600@norwinpubliclibrary.net
SUMMARY:KnightCrawlers Horror Movie Discussion
DESCRIPTION:A Horror film discussion group. \nKnightCrawlers meets the second Thursday of each month. \nStop in the library or email Sue with any questions.
URL:https://norwinpubliclibrary.net/event/knightcrawlers-horror-movie-discussion-2/2025-12-11/
LOCATION:Norwin Public Library\, 100 Caruthers Lane\, Irwin\, PA\, 15642
CATEGORIES:Adult Program,Film Study,Library Programs
ATTACH;FMTTYPE=image/jpeg:https://norwinpubliclibrary.net/wp-content/uploads/2023/01/knightcrawlers-1-e1690490532810.jpg
ORGANIZER;CN="Sue Schultheis":MAILTO:sschultheis@norwinpubliclibrary.net
END:VEVENT
BEGIN:VEVENT
DTSTART;TZID=America/New_York:20251211T110000
DTEND;TZID=America/New_York:20251211T113000
DTSTAMP:20260423T014719
CREATED:20251128T152704Z
LAST-MODIFIED:20260406T171054Z
UID:10024507-1765450800-1765452600@norwinpubliclibrary.net
SUMMARY:Story Time
DESCRIPTION:Join us for stories\, songs and fun every Monday and Thursday at 11am. \nAll ages are welcome! \nNo registration is needed.
URL:https://norwinpubliclibrary.net/event/story-time-10/2025-12-11/
LOCATION:Norwin Children’s Library
CATEGORIES:Just4Kids,Library Programs,Storytime
ATTACH;FMTTYPE=image/jpeg:https://norwinpubliclibrary.net/wp-content/uploads/2023/11/storytimeMT.jpg
ORGANIZER;CN="Melanie Matthews":MAILTO:mmatthews@norwinpubliclibrary.net
END:VEVENT
BEGIN:VEVENT
DTSTART;TZID=America/New_York:20251210T173000
DTEND;TZID=America/New_York:20251210T183000
DTSTAMP:20260423T014719
CREATED:20251115T170532Z
LAST-MODIFIED:20251115T170532Z
UID:10024503-1765387800-1765391400@norwinpubliclibrary.net
SUMMARY:Evening Move and Groove
DESCRIPTION:Wed.\, December 10th at 5:30pm \nBring in your babies and toddlers as we engage in songs\, stories\, fingerplays\, motion\, and play time together. \nProgram designed for children ages 0 – 2.5. No registration needed. \nPlease bring your child’s favorite blanket or pillow as we will be on the floor.
URL:https://norwinpubliclibrary.net/event/evening-move-and-groove-2/
LOCATION:Norwin Library Community Room\, 100 Caruthers Lane\, Irwin\, PA\, 15642\, United States
CATEGORIES:Just4Kids,Library Programs,Storytime
ATTACH;FMTTYPE=image/png:https://norwinpubliclibrary.net/wp-content/uploads/2025/07/moon-bedtime-story.png
ORGANIZER;CN="Melanie Matthews":MAILTO:mmatthews@norwinpubliclibrary.net
END:VEVENT
BEGIN:VEVENT
DTSTART;TZID=America/New_York:20251209T103000
DTEND;TZID=America/New_York:20251209T110000
DTSTAMP:20260423T014719
CREATED:20250724T201814Z
LAST-MODIFIED:20251128T203142Z
UID:10024366-1765276200-1765278000@norwinpubliclibrary.net
SUMMARY:Move and Groove
DESCRIPTION:Bring in your babies and toddlers as we engage in songs\, stories\, fingerplays\, motion\, and play time together. \nProgram designed for children ages 0 – 2.5. \nNo registration needed. \nPlease bring your child’s favorite blanket or pillow as we will be on the floor.
URL:https://norwinpubliclibrary.net/event/move-and-groove/2025-12-09/
LOCATION:Norwin Library Community Room\, 100 Caruthers Lane\, Irwin\, PA\, 15642\, United States
CATEGORIES:Just4Kids,Storytime
ATTACH;FMTTYPE=image/jpeg:https://norwinpubliclibrary.net/wp-content/uploads/2024/01/Baby-storytime.jpeg
ORGANIZER;CN="Melanie Matthews":MAILTO:mmatthews@norwinpubliclibrary.net
END:VEVENT
BEGIN:VEVENT
DTSTART;TZID=America/New_York:20251208T110000
DTEND;TZID=America/New_York:20251208T113000
DTSTAMP:20260423T014719
CREATED:20251128T152704Z
LAST-MODIFIED:20260406T171054Z
UID:10024506-1765191600-1765193400@norwinpubliclibrary.net
SUMMARY:Story Time
DESCRIPTION:Join us for stories\, songs and fun every Monday and Thursday at 11am. \nAll ages are welcome! \nNo registration is needed.
URL:https://norwinpubliclibrary.net/event/story-time-10/2025-12-08/
LOCATION:Norwin Children’s Library
CATEGORIES:Just4Kids,Library Programs,Storytime
ATTACH;FMTTYPE=image/jpeg:https://norwinpubliclibrary.net/wp-content/uploads/2023/11/storytimeMT.jpg
ORGANIZER;CN="Melanie Matthews":MAILTO:mmatthews@norwinpubliclibrary.net
END:VEVENT
BEGIN:VEVENT
DTSTART;TZID=America/New_York:20251205T140000
DTEND;TZID=America/New_York:20251205T143000
DTSTAMP:20260423T014719
CREATED:20251106T165106Z
LAST-MODIFIED:20251106T165106Z
UID:10024500-1764943200-1764945000@norwinpubliclibrary.net
SUMMARY:Norwin Show Choir Concert
DESCRIPTION:Join us for a 30 minute holiday performance from our very own Norwin Show Choir. \nAll ages are welcome. \nPlease sign up for all those who will be attending\, no matter the age.
URL:https://norwinpubliclibrary.net/event/norwin-show-choir-concert-2/
LOCATION:Norwin Library Community Room\, 100 Caruthers Lane\, Irwin\, PA\, 15642\, United States
ATTACH;FMTTYPE=image/jpeg:https://norwinpubliclibrary.net/wp-content/uploads/2023/09/istockphoto-1068359334-612x612-1.jpg
ORGANIZER;CN="Melanie Matthews":MAILTO:mmatthews@norwinpubliclibrary.net
END:VEVENT
BEGIN:VEVENT
DTSTART;TZID=America/New_York:20251204T110000
DTEND;TZID=America/New_York:20251204T113000
DTSTAMP:20260423T014719
CREATED:20251128T152704Z
LAST-MODIFIED:20260406T171054Z
UID:10024505-1764846000-1764847800@norwinpubliclibrary.net
SUMMARY:Story Time
DESCRIPTION:Join us for stories\, songs and fun every Monday and Thursday at 11am. \nAll ages are welcome! \nNo registration is needed.
URL:https://norwinpubliclibrary.net/event/story-time-10/2025-12-04/
LOCATION:Norwin Children’s Library
CATEGORIES:Just4Kids,Library Programs,Storytime
ATTACH;FMTTYPE=image/jpeg:https://norwinpubliclibrary.net/wp-content/uploads/2023/11/storytimeMT.jpg
ORGANIZER;CN="Melanie Matthews":MAILTO:mmatthews@norwinpubliclibrary.net
END:VEVENT
BEGIN:VEVENT
DTSTART;TZID=America/New_York:20251202T103000
DTEND;TZID=America/New_York:20251202T110000
DTSTAMP:20260423T014719
CREATED:20250724T201814Z
LAST-MODIFIED:20251128T203142Z
UID:10024365-1764671400-1764673200@norwinpubliclibrary.net
SUMMARY:Move and Groove
DESCRIPTION:Bring in your babies and toddlers as we engage in songs\, stories\, fingerplays\, motion\, and play time together. \nProgram designed for children ages 0 – 2.5. \nNo registration needed. \nPlease bring your child’s favorite blanket or pillow as we will be on the floor.
URL:https://norwinpubliclibrary.net/event/move-and-groove/2025-12-02/
LOCATION:Norwin Library Community Room\, 100 Caruthers Lane\, Irwin\, PA\, 15642\, United States
CATEGORIES:Just4Kids,Storytime
ATTACH;FMTTYPE=image/jpeg:https://norwinpubliclibrary.net/wp-content/uploads/2024/01/Baby-storytime.jpeg
ORGANIZER;CN="Melanie Matthews":MAILTO:mmatthews@norwinpubliclibrary.net
END:VEVENT
BEGIN:VEVENT
DTSTART;TZID=America/New_York:20251201T110000
DTEND;TZID=America/New_York:20251201T113000
DTSTAMP:20260423T014719
CREATED:20251128T152704Z
LAST-MODIFIED:20260406T171054Z
UID:10024504-1764586800-1764588600@norwinpubliclibrary.net
SUMMARY:Story Time
DESCRIPTION:Join us for stories\, songs and fun every Monday and Thursday at 11am. \nAll ages are welcome! \nNo registration is needed.
URL:https://norwinpubliclibrary.net/event/story-time-10/2025-12-01/
LOCATION:Norwin Children’s Library
CATEGORIES:Just4Kids,Library Programs,Storytime
ATTACH;FMTTYPE=image/jpeg:https://norwinpubliclibrary.net/wp-content/uploads/2023/11/storytimeMT.jpg
ORGANIZER;CN="Melanie Matthews":MAILTO:mmatthews@norwinpubliclibrary.net
END:VEVENT
BEGIN:VEVENT
DTSTART;TZID=America/New_York:20251128T140000
DTEND;TZID=America/New_York:20251128T150000
DTSTAMP:20260423T014719
CREATED:20251006T222424Z
LAST-MODIFIED:20251006T222424Z
UID:10024492-1764338400-1764342000@norwinpubliclibrary.net
SUMMARY:Lego Knights
DESCRIPTION:Friday\, November 28th at 2pm \nCome in to use your imagination to build with our Legos. There will also be special engineering challenges given to allow you to pick and swap out Mini Animal Lego Figures. \nAll ages are welcome. Parents are asked to stay for kids through 4th grade. \nRegistration is required. Please sign up each child individually. Register here: https://forms.gle/M7Dw248ga3HwaDCC8
URL:https://norwinpubliclibrary.net/event/lego-knights-5/
LOCATION:Norwin Library Community Room\, 100 Caruthers Lane\, Irwin\, PA\, 15642\, United States
CATEGORIES:Just4Kids,Library Programs,STEM,Tweens
ATTACH;FMTTYPE=image/png:https://norwinpubliclibrary.net/wp-content/uploads/2024/02/pngimg.com-lego_PNG69.png
ORGANIZER;CN="Melanie Matthews":MAILTO:mmatthews@norwinpubliclibrary.net
END:VEVENT
BEGIN:VEVENT
DTSTART;TZID=America/New_York:20251127T110000
DTEND;TZID=America/New_York:20251127T113000
DTSTAMP:20260423T014719
CREATED:20251128T152704Z
LAST-MODIFIED:20260406T171054Z
UID:10024705-1764241200-1764243000@norwinpubliclibrary.net
SUMMARY:Story Time
DESCRIPTION:Join us for stories\, songs and fun every Monday and Thursday at 11am. \nAll ages are welcome! \nNo registration is needed.
URL:https://norwinpubliclibrary.net/event/story-time-10/2025-11-27/
LOCATION:Norwin Children’s Library
CATEGORIES:Just4Kids,Library Programs,Storytime
ATTACH;FMTTYPE=image/jpeg:https://norwinpubliclibrary.net/wp-content/uploads/2023/11/storytimeMT.jpg
ORGANIZER;CN="Melanie Matthews":MAILTO:mmatthews@norwinpubliclibrary.net
END:VEVENT
BEGIN:VEVENT
DTSTART;TZID=America/New_York:20251125T103000
DTEND;TZID=America/New_York:20251125T110000
DTSTAMP:20260423T014719
CREATED:20250724T201814Z
LAST-MODIFIED:20251128T203142Z
UID:10024364-1764066600-1764068400@norwinpubliclibrary.net
SUMMARY:Move and Groove
DESCRIPTION:Bring in your babies and toddlers as we engage in songs\, stories\, fingerplays\, motion\, and play time together. \nProgram designed for children ages 0 – 2.5. \nNo registration needed. \nPlease bring your child’s favorite blanket or pillow as we will be on the floor.
URL:https://norwinpubliclibrary.net/event/move-and-groove/2025-11-25/
LOCATION:Norwin Library Community Room\, 100 Caruthers Lane\, Irwin\, PA\, 15642\, United States
CATEGORIES:Just4Kids,Storytime
ATTACH;FMTTYPE=image/jpeg:https://norwinpubliclibrary.net/wp-content/uploads/2024/01/Baby-storytime.jpeg
ORGANIZER;CN="Melanie Matthews":MAILTO:mmatthews@norwinpubliclibrary.net
END:VEVENT
END:VCALENDAR