BEGIN:VCALENDAR
VERSION:2.0
PRODID:-//Norwin Public Library - ECPv6.15.20//NONSGML v1.0//EN
CALSCALE:GREGORIAN
METHOD:PUBLISH
X-WR-CALNAME:Norwin Public Library
X-ORIGINAL-URL:https://norwinpubliclibrary.net
X-WR-CALDESC:Events for Norwin Public Library
REFRESH-INTERVAL;VALUE=DURATION:PT1H
X-Robots-Tag:noindex
X-PUBLISHED-TTL:PT1H
BEGIN:VTIMEZONE
TZID:America/New_York
BEGIN:DAYLIGHT
TZOFFSETFROM:-0500
TZOFFSETTO:-0400
TZNAME:EDT
DTSTART:20270314T070000
END:DAYLIGHT
BEGIN:STANDARD
TZOFFSETFROM:-0400
TZOFFSETTO:-0500
TZNAME:EST
DTSTART:20271107T060000
END:STANDARD
BEGIN:DAYLIGHT
TZOFFSETFROM:-0500
TZOFFSETTO:-0400
TZNAME:EDT
DTSTART:20280312T070000
END:DAYLIGHT
BEGIN:STANDARD
TZOFFSETFROM:-0400
TZOFFSETTO:-0500
TZNAME:EST
DTSTART:20281105T060000
END:STANDARD
BEGIN:DAYLIGHT
TZOFFSETFROM:-0500
TZOFFSETTO:-0400
TZNAME:EDT
DTSTART:20290311T070000
END:DAYLIGHT
BEGIN:STANDARD
TZOFFSETFROM:-0400
TZOFFSETTO:-0500
TZNAME:EST
DTSTART:20291104T060000
END:STANDARD
BEGIN:DAYLIGHT
TZOFFSETFROM:-0500
TZOFFSETTO:-0400
TZNAME:EDT
DTSTART:20300310T070000
END:DAYLIGHT
BEGIN:STANDARD
TZOFFSETFROM:-0400
TZOFFSETTO:-0500
TZNAME:EST
DTSTART:20301103T060000
END:STANDARD
BEGIN:DAYLIGHT
TZOFFSETFROM:-0500
TZOFFSETTO:-0400
TZNAME:EDT
DTSTART:20310309T070000
END:DAYLIGHT
BEGIN:STANDARD
TZOFFSETFROM:-0400
TZOFFSETTO:-0500
TZNAME:EST
DTSTART:20311102T060000
END:STANDARD
END:VTIMEZONE
BEGIN:VEVENT
DTSTART;TZID=America/New_York:20280210T180000
DTEND;TZID=America/New_York:20280210T190000
DTSTAMP:20260422T080831
CREATED:20260312T221815Z
LAST-MODIFIED:20260312T221952Z
UID:10024207-1833818400-1833822000@norwinpubliclibrary.net
SUMMARY:KnightCrawlers Horror Movie Discussion
DESCRIPTION:A Horror film discussion group. \nKnightCrawlers meets the second Thursday of each month. \nStop in the library or email Sue with any questions.
URL:https://norwinpubliclibrary.net/event/knightcrawlers-horror-movie-discussion-2-2/2028-02-10/
LOCATION:Norwin Public Library\, 100 Caruthers Lane\, Irwin\, PA\, 15642
CATEGORIES:Adult Program,Film Study,Library Programs
ATTACH;FMTTYPE=image/jpeg:https://norwinpubliclibrary.net/wp-content/uploads/2023/01/knightcrawlers-1-e1690490532810.jpg
ORGANIZER;CN="Sue Schultheis":MAILTO:sschultheis@norwinpubliclibrary.net
END:VEVENT
BEGIN:VEVENT
DTSTART;TZID=America/New_York:20280309T180000
DTEND;TZID=America/New_York:20280309T190000
DTSTAMP:20260422T080831
CREATED:20260312T221815Z
LAST-MODIFIED:20260312T221952Z
UID:10024208-1836237600-1836241200@norwinpubliclibrary.net
SUMMARY:KnightCrawlers Horror Movie Discussion
DESCRIPTION:A Horror film discussion group. \nKnightCrawlers meets the second Thursday of each month. \nStop in the library or email Sue with any questions.
URL:https://norwinpubliclibrary.net/event/knightcrawlers-horror-movie-discussion-2-2/2028-03-09/
LOCATION:Norwin Public Library\, 100 Caruthers Lane\, Irwin\, PA\, 15642
CATEGORIES:Adult Program,Film Study,Library Programs
ATTACH;FMTTYPE=image/jpeg:https://norwinpubliclibrary.net/wp-content/uploads/2023/01/knightcrawlers-1-e1690490532810.jpg
ORGANIZER;CN="Sue Schultheis":MAILTO:sschultheis@norwinpubliclibrary.net
END:VEVENT
BEGIN:VEVENT
DTSTART;TZID=America/New_York:20280413T180000
DTEND;TZID=America/New_York:20280413T190000
DTSTAMP:20260422T080831
CREATED:20260312T221815Z
LAST-MODIFIED:20260312T221952Z
UID:10024209-1839261600-1839265200@norwinpubliclibrary.net
SUMMARY:KnightCrawlers Horror Movie Discussion
DESCRIPTION:A Horror film discussion group. \nKnightCrawlers meets the second Thursday of each month. \nStop in the library or email Sue with any questions.
URL:https://norwinpubliclibrary.net/event/knightcrawlers-horror-movie-discussion-2-2/2028-04-13/
LOCATION:Norwin Public Library\, 100 Caruthers Lane\, Irwin\, PA\, 15642
CATEGORIES:Adult Program,Film Study,Library Programs
ATTACH;FMTTYPE=image/jpeg:https://norwinpubliclibrary.net/wp-content/uploads/2023/01/knightcrawlers-1-e1690490532810.jpg
ORGANIZER;CN="Sue Schultheis":MAILTO:sschultheis@norwinpubliclibrary.net
END:VEVENT
BEGIN:VEVENT
DTSTART;TZID=America/New_York:20280511T180000
DTEND;TZID=America/New_York:20280511T190000
DTSTAMP:20260422T080831
CREATED:20260312T221815Z
LAST-MODIFIED:20260312T221952Z
UID:10024210-1841680800-1841684400@norwinpubliclibrary.net
SUMMARY:KnightCrawlers Horror Movie Discussion
DESCRIPTION:A Horror film discussion group. \nKnightCrawlers meets the second Thursday of each month. \nStop in the library or email Sue with any questions.
URL:https://norwinpubliclibrary.net/event/knightcrawlers-horror-movie-discussion-2-2/2028-05-11/
LOCATION:Norwin Public Library\, 100 Caruthers Lane\, Irwin\, PA\, 15642
CATEGORIES:Adult Program,Film Study,Library Programs
ATTACH;FMTTYPE=image/jpeg:https://norwinpubliclibrary.net/wp-content/uploads/2023/01/knightcrawlers-1-e1690490532810.jpg
ORGANIZER;CN="Sue Schultheis":MAILTO:sschultheis@norwinpubliclibrary.net
END:VEVENT
BEGIN:VEVENT
DTSTART;TZID=America/New_York:20280608T180000
DTEND;TZID=America/New_York:20280608T190000
DTSTAMP:20260422T080831
CREATED:20260312T221815Z
LAST-MODIFIED:20260312T221952Z
UID:10024211-1844100000-1844103600@norwinpubliclibrary.net
SUMMARY:KnightCrawlers Horror Movie Discussion
DESCRIPTION:A Horror film discussion group. \nKnightCrawlers meets the second Thursday of each month. \nStop in the library or email Sue with any questions.
URL:https://norwinpubliclibrary.net/event/knightcrawlers-horror-movie-discussion-2-2/2028-06-08/
LOCATION:Norwin Public Library\, 100 Caruthers Lane\, Irwin\, PA\, 15642
CATEGORIES:Adult Program,Film Study,Library Programs
ATTACH;FMTTYPE=image/jpeg:https://norwinpubliclibrary.net/wp-content/uploads/2023/01/knightcrawlers-1-e1690490532810.jpg
ORGANIZER;CN="Sue Schultheis":MAILTO:sschultheis@norwinpubliclibrary.net
END:VEVENT
BEGIN:VEVENT
DTSTART;TZID=America/New_York:20280713T180000
DTEND;TZID=America/New_York:20280713T190000
DTSTAMP:20260422T080831
CREATED:20260312T221815Z
LAST-MODIFIED:20260312T221952Z
UID:10024212-1847124000-1847127600@norwinpubliclibrary.net
SUMMARY:KnightCrawlers Horror Movie Discussion
DESCRIPTION:A Horror film discussion group. \nKnightCrawlers meets the second Thursday of each month. \nStop in the library or email Sue with any questions.
URL:https://norwinpubliclibrary.net/event/knightcrawlers-horror-movie-discussion-2-2/2028-07-13/
LOCATION:Norwin Public Library\, 100 Caruthers Lane\, Irwin\, PA\, 15642
CATEGORIES:Adult Program,Film Study,Library Programs
ATTACH;FMTTYPE=image/jpeg:https://norwinpubliclibrary.net/wp-content/uploads/2023/01/knightcrawlers-1-e1690490532810.jpg
ORGANIZER;CN="Sue Schultheis":MAILTO:sschultheis@norwinpubliclibrary.net
END:VEVENT
BEGIN:VEVENT
DTSTART;TZID=America/New_York:20280810T180000
DTEND;TZID=America/New_York:20280810T190000
DTSTAMP:20260422T080831
CREATED:20260312T221815Z
LAST-MODIFIED:20260312T221952Z
UID:10024213-1849543200-1849546800@norwinpubliclibrary.net
SUMMARY:KnightCrawlers Horror Movie Discussion
DESCRIPTION:A Horror film discussion group. \nKnightCrawlers meets the second Thursday of each month. \nStop in the library or email Sue with any questions.
URL:https://norwinpubliclibrary.net/event/knightcrawlers-horror-movie-discussion-2-2/2028-08-10/
LOCATION:Norwin Public Library\, 100 Caruthers Lane\, Irwin\, PA\, 15642
CATEGORIES:Adult Program,Film Study,Library Programs
ATTACH;FMTTYPE=image/jpeg:https://norwinpubliclibrary.net/wp-content/uploads/2023/01/knightcrawlers-1-e1690490532810.jpg
ORGANIZER;CN="Sue Schultheis":MAILTO:sschultheis@norwinpubliclibrary.net
END:VEVENT
BEGIN:VEVENT
DTSTART;TZID=America/New_York:20280914T180000
DTEND;TZID=America/New_York:20280914T190000
DTSTAMP:20260422T080831
CREATED:20260312T221815Z
LAST-MODIFIED:20260312T221952Z
UID:10024214-1852567200-1852570800@norwinpubliclibrary.net
SUMMARY:KnightCrawlers Horror Movie Discussion
DESCRIPTION:A Horror film discussion group. \nKnightCrawlers meets the second Thursday of each month. \nStop in the library or email Sue with any questions.
URL:https://norwinpubliclibrary.net/event/knightcrawlers-horror-movie-discussion-2-2/2028-09-14/
LOCATION:Norwin Public Library\, 100 Caruthers Lane\, Irwin\, PA\, 15642
CATEGORIES:Adult Program,Film Study,Library Programs
ATTACH;FMTTYPE=image/jpeg:https://norwinpubliclibrary.net/wp-content/uploads/2023/01/knightcrawlers-1-e1690490532810.jpg
ORGANIZER;CN="Sue Schultheis":MAILTO:sschultheis@norwinpubliclibrary.net
END:VEVENT
BEGIN:VEVENT
DTSTART;TZID=America/New_York:20281012T180000
DTEND;TZID=America/New_York:20281012T190000
DTSTAMP:20260422T080831
CREATED:20260312T221815Z
LAST-MODIFIED:20260312T221952Z
UID:10024215-1854986400-1854990000@norwinpubliclibrary.net
SUMMARY:KnightCrawlers Horror Movie Discussion
DESCRIPTION:A Horror film discussion group. \nKnightCrawlers meets the second Thursday of each month. \nStop in the library or email Sue with any questions.
URL:https://norwinpubliclibrary.net/event/knightcrawlers-horror-movie-discussion-2-2/2028-10-12/
LOCATION:Norwin Public Library\, 100 Caruthers Lane\, Irwin\, PA\, 15642
CATEGORIES:Adult Program,Film Study,Library Programs
ATTACH;FMTTYPE=image/jpeg:https://norwinpubliclibrary.net/wp-content/uploads/2023/01/knightcrawlers-1-e1690490532810.jpg
ORGANIZER;CN="Sue Schultheis":MAILTO:sschultheis@norwinpubliclibrary.net
END:VEVENT
BEGIN:VEVENT
DTSTART;TZID=America/New_York:20281109T180000
DTEND;TZID=America/New_York:20281109T190000
DTSTAMP:20260422T080831
CREATED:20260312T221815Z
LAST-MODIFIED:20260312T221952Z
UID:10024216-1857405600-1857409200@norwinpubliclibrary.net
SUMMARY:KnightCrawlers Horror Movie Discussion
DESCRIPTION:A Horror film discussion group. \nKnightCrawlers meets the second Thursday of each month. \nStop in the library or email Sue with any questions.
URL:https://norwinpubliclibrary.net/event/knightcrawlers-horror-movie-discussion-2-2/2028-11-09/
LOCATION:Norwin Public Library\, 100 Caruthers Lane\, Irwin\, PA\, 15642
CATEGORIES:Adult Program,Film Study,Library Programs
ATTACH;FMTTYPE=image/jpeg:https://norwinpubliclibrary.net/wp-content/uploads/2023/01/knightcrawlers-1-e1690490532810.jpg
ORGANIZER;CN="Sue Schultheis":MAILTO:sschultheis@norwinpubliclibrary.net
END:VEVENT
BEGIN:VEVENT
DTSTART;TZID=America/New_York:20281214T180000
DTEND;TZID=America/New_York:20281214T190000
DTSTAMP:20260422T080831
CREATED:20260312T221815Z
LAST-MODIFIED:20260312T221952Z
UID:10024217-1860429600-1860433200@norwinpubliclibrary.net
SUMMARY:KnightCrawlers Horror Movie Discussion
DESCRIPTION:A Horror film discussion group. \nKnightCrawlers meets the second Thursday of each month. \nStop in the library or email Sue with any questions.
URL:https://norwinpubliclibrary.net/event/knightcrawlers-horror-movie-discussion-2-2/2028-12-14/
LOCATION:Norwin Public Library\, 100 Caruthers Lane\, Irwin\, PA\, 15642
CATEGORIES:Adult Program,Film Study,Library Programs
ATTACH;FMTTYPE=image/jpeg:https://norwinpubliclibrary.net/wp-content/uploads/2023/01/knightcrawlers-1-e1690490532810.jpg
ORGANIZER;CN="Sue Schultheis":MAILTO:sschultheis@norwinpubliclibrary.net
END:VEVENT
BEGIN:VEVENT
DTSTART;TZID=America/New_York:20290111T180000
DTEND;TZID=America/New_York:20290111T190000
DTSTAMP:20260422T080831
CREATED:20260312T221815Z
LAST-MODIFIED:20260312T221952Z
UID:10024218-1862848800-1862852400@norwinpubliclibrary.net
SUMMARY:KnightCrawlers Horror Movie Discussion
DESCRIPTION:A Horror film discussion group. \nKnightCrawlers meets the second Thursday of each month. \nStop in the library or email Sue with any questions.
URL:https://norwinpubliclibrary.net/event/knightcrawlers-horror-movie-discussion-2-2/2029-01-11/
LOCATION:Norwin Public Library\, 100 Caruthers Lane\, Irwin\, PA\, 15642
CATEGORIES:Adult Program,Film Study,Library Programs
ATTACH;FMTTYPE=image/jpeg:https://norwinpubliclibrary.net/wp-content/uploads/2023/01/knightcrawlers-1-e1690490532810.jpg
ORGANIZER;CN="Sue Schultheis":MAILTO:sschultheis@norwinpubliclibrary.net
END:VEVENT
BEGIN:VEVENT
DTSTART;TZID=America/New_York:20290208T180000
DTEND;TZID=America/New_York:20290208T190000
DTSTAMP:20260422T080831
CREATED:20260312T221815Z
LAST-MODIFIED:20260312T221952Z
UID:10024219-1865268000-1865271600@norwinpubliclibrary.net
SUMMARY:KnightCrawlers Horror Movie Discussion
DESCRIPTION:A Horror film discussion group. \nKnightCrawlers meets the second Thursday of each month. \nStop in the library or email Sue with any questions.
URL:https://norwinpubliclibrary.net/event/knightcrawlers-horror-movie-discussion-2-2/2029-02-08/
LOCATION:Norwin Public Library\, 100 Caruthers Lane\, Irwin\, PA\, 15642
CATEGORIES:Adult Program,Film Study,Library Programs
ATTACH;FMTTYPE=image/jpeg:https://norwinpubliclibrary.net/wp-content/uploads/2023/01/knightcrawlers-1-e1690490532810.jpg
ORGANIZER;CN="Sue Schultheis":MAILTO:sschultheis@norwinpubliclibrary.net
END:VEVENT
BEGIN:VEVENT
DTSTART;TZID=America/New_York:20290308T180000
DTEND;TZID=America/New_York:20290308T190000
DTSTAMP:20260422T080831
CREATED:20260312T221815Z
LAST-MODIFIED:20260312T221952Z
UID:10024220-1867687200-1867690800@norwinpubliclibrary.net
SUMMARY:KnightCrawlers Horror Movie Discussion
DESCRIPTION:A Horror film discussion group. \nKnightCrawlers meets the second Thursday of each month. \nStop in the library or email Sue with any questions.
URL:https://norwinpubliclibrary.net/event/knightcrawlers-horror-movie-discussion-2-2/2029-03-08/
LOCATION:Norwin Public Library\, 100 Caruthers Lane\, Irwin\, PA\, 15642
CATEGORIES:Adult Program,Film Study,Library Programs
ATTACH;FMTTYPE=image/jpeg:https://norwinpubliclibrary.net/wp-content/uploads/2023/01/knightcrawlers-1-e1690490532810.jpg
ORGANIZER;CN="Sue Schultheis":MAILTO:sschultheis@norwinpubliclibrary.net
END:VEVENT
BEGIN:VEVENT
DTSTART;TZID=America/New_York:20290412T180000
DTEND;TZID=America/New_York:20290412T190000
DTSTAMP:20260422T080831
CREATED:20260312T221815Z
LAST-MODIFIED:20260312T221952Z
UID:10024221-1870711200-1870714800@norwinpubliclibrary.net
SUMMARY:KnightCrawlers Horror Movie Discussion
DESCRIPTION:A Horror film discussion group. \nKnightCrawlers meets the second Thursday of each month. \nStop in the library or email Sue with any questions.
URL:https://norwinpubliclibrary.net/event/knightcrawlers-horror-movie-discussion-2-2/2029-04-12/
LOCATION:Norwin Public Library\, 100 Caruthers Lane\, Irwin\, PA\, 15642
CATEGORIES:Adult Program,Film Study,Library Programs
ATTACH;FMTTYPE=image/jpeg:https://norwinpubliclibrary.net/wp-content/uploads/2023/01/knightcrawlers-1-e1690490532810.jpg
ORGANIZER;CN="Sue Schultheis":MAILTO:sschultheis@norwinpubliclibrary.net
END:VEVENT
BEGIN:VEVENT
DTSTART;TZID=America/New_York:20290510T180000
DTEND;TZID=America/New_York:20290510T190000
DTSTAMP:20260422T080831
CREATED:20260312T221815Z
LAST-MODIFIED:20260312T221952Z
UID:10024222-1873130400-1873134000@norwinpubliclibrary.net
SUMMARY:KnightCrawlers Horror Movie Discussion
DESCRIPTION:A Horror film discussion group. \nKnightCrawlers meets the second Thursday of each month. \nStop in the library or email Sue with any questions.
URL:https://norwinpubliclibrary.net/event/knightcrawlers-horror-movie-discussion-2-2/2029-05-10/
LOCATION:Norwin Public Library\, 100 Caruthers Lane\, Irwin\, PA\, 15642
CATEGORIES:Adult Program,Film Study,Library Programs
ATTACH;FMTTYPE=image/jpeg:https://norwinpubliclibrary.net/wp-content/uploads/2023/01/knightcrawlers-1-e1690490532810.jpg
ORGANIZER;CN="Sue Schultheis":MAILTO:sschultheis@norwinpubliclibrary.net
END:VEVENT
BEGIN:VEVENT
DTSTART;TZID=America/New_York:20290614T180000
DTEND;TZID=America/New_York:20290614T190000
DTSTAMP:20260422T080831
CREATED:20260312T221815Z
LAST-MODIFIED:20260312T221952Z
UID:10024223-1876154400-1876158000@norwinpubliclibrary.net
SUMMARY:KnightCrawlers Horror Movie Discussion
DESCRIPTION:A Horror film discussion group. \nKnightCrawlers meets the second Thursday of each month. \nStop in the library or email Sue with any questions.
URL:https://norwinpubliclibrary.net/event/knightcrawlers-horror-movie-discussion-2-2/2029-06-14/
LOCATION:Norwin Public Library\, 100 Caruthers Lane\, Irwin\, PA\, 15642
CATEGORIES:Adult Program,Film Study,Library Programs
ATTACH;FMTTYPE=image/jpeg:https://norwinpubliclibrary.net/wp-content/uploads/2023/01/knightcrawlers-1-e1690490532810.jpg
ORGANIZER;CN="Sue Schultheis":MAILTO:sschultheis@norwinpubliclibrary.net
END:VEVENT
BEGIN:VEVENT
DTSTART;TZID=America/New_York:20290712T180000
DTEND;TZID=America/New_York:20290712T190000
DTSTAMP:20260422T080831
CREATED:20260312T221815Z
LAST-MODIFIED:20260312T221952Z
UID:10024224-1878573600-1878577200@norwinpubliclibrary.net
SUMMARY:KnightCrawlers Horror Movie Discussion
DESCRIPTION:A Horror film discussion group. \nKnightCrawlers meets the second Thursday of each month. \nStop in the library or email Sue with any questions.
URL:https://norwinpubliclibrary.net/event/knightcrawlers-horror-movie-discussion-2-2/2029-07-12/
LOCATION:Norwin Public Library\, 100 Caruthers Lane\, Irwin\, PA\, 15642
CATEGORIES:Adult Program,Film Study,Library Programs
ATTACH;FMTTYPE=image/jpeg:https://norwinpubliclibrary.net/wp-content/uploads/2023/01/knightcrawlers-1-e1690490532810.jpg
ORGANIZER;CN="Sue Schultheis":MAILTO:sschultheis@norwinpubliclibrary.net
END:VEVENT
BEGIN:VEVENT
DTSTART;TZID=America/New_York:20290809T180000
DTEND;TZID=America/New_York:20290809T190000
DTSTAMP:20260422T080831
CREATED:20260312T221815Z
LAST-MODIFIED:20260312T221952Z
UID:10024225-1880992800-1880996400@norwinpubliclibrary.net
SUMMARY:KnightCrawlers Horror Movie Discussion
DESCRIPTION:A Horror film discussion group. \nKnightCrawlers meets the second Thursday of each month. \nStop in the library or email Sue with any questions.
URL:https://norwinpubliclibrary.net/event/knightcrawlers-horror-movie-discussion-2-2/2029-08-09/
LOCATION:Norwin Public Library\, 100 Caruthers Lane\, Irwin\, PA\, 15642
CATEGORIES:Adult Program,Film Study,Library Programs
ATTACH;FMTTYPE=image/jpeg:https://norwinpubliclibrary.net/wp-content/uploads/2023/01/knightcrawlers-1-e1690490532810.jpg
ORGANIZER;CN="Sue Schultheis":MAILTO:sschultheis@norwinpubliclibrary.net
END:VEVENT
BEGIN:VEVENT
DTSTART;TZID=America/New_York:20290913T180000
DTEND;TZID=America/New_York:20290913T190000
DTSTAMP:20260422T080831
CREATED:20260312T221815Z
LAST-MODIFIED:20260312T221952Z
UID:10024226-1884016800-1884020400@norwinpubliclibrary.net
SUMMARY:KnightCrawlers Horror Movie Discussion
DESCRIPTION:A Horror film discussion group. \nKnightCrawlers meets the second Thursday of each month. \nStop in the library or email Sue with any questions.
URL:https://norwinpubliclibrary.net/event/knightcrawlers-horror-movie-discussion-2-2/2029-09-13/
LOCATION:Norwin Public Library\, 100 Caruthers Lane\, Irwin\, PA\, 15642
CATEGORIES:Adult Program,Film Study,Library Programs
ATTACH;FMTTYPE=image/jpeg:https://norwinpubliclibrary.net/wp-content/uploads/2023/01/knightcrawlers-1-e1690490532810.jpg
ORGANIZER;CN="Sue Schultheis":MAILTO:sschultheis@norwinpubliclibrary.net
END:VEVENT
BEGIN:VEVENT
DTSTART;TZID=America/New_York:20291011T180000
DTEND;TZID=America/New_York:20291011T190000
DTSTAMP:20260422T080831
CREATED:20260312T221815Z
LAST-MODIFIED:20260312T221952Z
UID:10024227-1886436000-1886439600@norwinpubliclibrary.net
SUMMARY:KnightCrawlers Horror Movie Discussion
DESCRIPTION:A Horror film discussion group. \nKnightCrawlers meets the second Thursday of each month. \nStop in the library or email Sue with any questions.
URL:https://norwinpubliclibrary.net/event/knightcrawlers-horror-movie-discussion-2-2/2029-10-11/
LOCATION:Norwin Public Library\, 100 Caruthers Lane\, Irwin\, PA\, 15642
CATEGORIES:Adult Program,Film Study,Library Programs
ATTACH;FMTTYPE=image/jpeg:https://norwinpubliclibrary.net/wp-content/uploads/2023/01/knightcrawlers-1-e1690490532810.jpg
ORGANIZER;CN="Sue Schultheis":MAILTO:sschultheis@norwinpubliclibrary.net
END:VEVENT
BEGIN:VEVENT
DTSTART;TZID=America/New_York:20291108T180000
DTEND;TZID=America/New_York:20291108T190000
DTSTAMP:20260422T080831
CREATED:20260312T221815Z
LAST-MODIFIED:20260312T221952Z
UID:10024228-1888855200-1888858800@norwinpubliclibrary.net
SUMMARY:KnightCrawlers Horror Movie Discussion
DESCRIPTION:A Horror film discussion group. \nKnightCrawlers meets the second Thursday of each month. \nStop in the library or email Sue with any questions.
URL:https://norwinpubliclibrary.net/event/knightcrawlers-horror-movie-discussion-2-2/2029-11-08/
LOCATION:Norwin Public Library\, 100 Caruthers Lane\, Irwin\, PA\, 15642
CATEGORIES:Adult Program,Film Study,Library Programs
ATTACH;FMTTYPE=image/jpeg:https://norwinpubliclibrary.net/wp-content/uploads/2023/01/knightcrawlers-1-e1690490532810.jpg
ORGANIZER;CN="Sue Schultheis":MAILTO:sschultheis@norwinpubliclibrary.net
END:VEVENT
BEGIN:VEVENT
DTSTART;TZID=America/New_York:20291213T180000
DTEND;TZID=America/New_York:20291213T190000
DTSTAMP:20260422T080831
CREATED:20260312T221815Z
LAST-MODIFIED:20260312T221952Z
UID:10024229-1891879200-1891882800@norwinpubliclibrary.net
SUMMARY:KnightCrawlers Horror Movie Discussion
DESCRIPTION:A Horror film discussion group. \nKnightCrawlers meets the second Thursday of each month. \nStop in the library or email Sue with any questions.
URL:https://norwinpubliclibrary.net/event/knightcrawlers-horror-movie-discussion-2-2/2029-12-13/
LOCATION:Norwin Public Library\, 100 Caruthers Lane\, Irwin\, PA\, 15642
CATEGORIES:Adult Program,Film Study,Library Programs
ATTACH;FMTTYPE=image/jpeg:https://norwinpubliclibrary.net/wp-content/uploads/2023/01/knightcrawlers-1-e1690490532810.jpg
ORGANIZER;CN="Sue Schultheis":MAILTO:sschultheis@norwinpubliclibrary.net
END:VEVENT
BEGIN:VEVENT
DTSTART;TZID=America/New_York:20300110T180000
DTEND;TZID=America/New_York:20300110T190000
DTSTAMP:20260422T080831
CREATED:20260312T221815Z
LAST-MODIFIED:20260312T221952Z
UID:10024230-1894298400-1894302000@norwinpubliclibrary.net
SUMMARY:KnightCrawlers Horror Movie Discussion
DESCRIPTION:A Horror film discussion group. \nKnightCrawlers meets the second Thursday of each month. \nStop in the library or email Sue with any questions.
URL:https://norwinpubliclibrary.net/event/knightcrawlers-horror-movie-discussion-2-2/2030-01-10/
LOCATION:Norwin Public Library\, 100 Caruthers Lane\, Irwin\, PA\, 15642
CATEGORIES:Adult Program,Film Study,Library Programs
ATTACH;FMTTYPE=image/jpeg:https://norwinpubliclibrary.net/wp-content/uploads/2023/01/knightcrawlers-1-e1690490532810.jpg
ORGANIZER;CN="Sue Schultheis":MAILTO:sschultheis@norwinpubliclibrary.net
END:VEVENT
BEGIN:VEVENT
DTSTART;TZID=America/New_York:20300214T180000
DTEND;TZID=America/New_York:20300214T190000
DTSTAMP:20260422T080831
CREATED:20260312T221815Z
LAST-MODIFIED:20260312T221952Z
UID:10024231-1897322400-1897326000@norwinpubliclibrary.net
SUMMARY:KnightCrawlers Horror Movie Discussion
DESCRIPTION:A Horror film discussion group. \nKnightCrawlers meets the second Thursday of each month. \nStop in the library or email Sue with any questions.
URL:https://norwinpubliclibrary.net/event/knightcrawlers-horror-movie-discussion-2-2/2030-02-14/
LOCATION:Norwin Public Library\, 100 Caruthers Lane\, Irwin\, PA\, 15642
CATEGORIES:Adult Program,Film Study,Library Programs
ATTACH;FMTTYPE=image/jpeg:https://norwinpubliclibrary.net/wp-content/uploads/2023/01/knightcrawlers-1-e1690490532810.jpg
ORGANIZER;CN="Sue Schultheis":MAILTO:sschultheis@norwinpubliclibrary.net
END:VEVENT
BEGIN:VEVENT
DTSTART;TZID=America/New_York:20300314T180000
DTEND;TZID=America/New_York:20300314T190000
DTSTAMP:20260422T080831
CREATED:20260312T221815Z
LAST-MODIFIED:20260312T221952Z
UID:10024232-1899741600-1899745200@norwinpubliclibrary.net
SUMMARY:KnightCrawlers Horror Movie Discussion
DESCRIPTION:A Horror film discussion group. \nKnightCrawlers meets the second Thursday of each month. \nStop in the library or email Sue with any questions.
URL:https://norwinpubliclibrary.net/event/knightcrawlers-horror-movie-discussion-2-2/2030-03-14/
LOCATION:Norwin Public Library\, 100 Caruthers Lane\, Irwin\, PA\, 15642
CATEGORIES:Adult Program,Film Study,Library Programs
ATTACH;FMTTYPE=image/jpeg:https://norwinpubliclibrary.net/wp-content/uploads/2023/01/knightcrawlers-1-e1690490532810.jpg
ORGANIZER;CN="Sue Schultheis":MAILTO:sschultheis@norwinpubliclibrary.net
END:VEVENT
BEGIN:VEVENT
DTSTART;TZID=America/New_York:20300411T180000
DTEND;TZID=America/New_York:20300411T190000
DTSTAMP:20260422T080831
CREATED:20260312T221815Z
LAST-MODIFIED:20260312T221952Z
UID:10024233-1902160800-1902164400@norwinpubliclibrary.net
SUMMARY:KnightCrawlers Horror Movie Discussion
DESCRIPTION:A Horror film discussion group. \nKnightCrawlers meets the second Thursday of each month. \nStop in the library or email Sue with any questions.
URL:https://norwinpubliclibrary.net/event/knightcrawlers-horror-movie-discussion-2-2/2030-04-11/
LOCATION:Norwin Public Library\, 100 Caruthers Lane\, Irwin\, PA\, 15642
CATEGORIES:Adult Program,Film Study,Library Programs
ATTACH;FMTTYPE=image/jpeg:https://norwinpubliclibrary.net/wp-content/uploads/2023/01/knightcrawlers-1-e1690490532810.jpg
ORGANIZER;CN="Sue Schultheis":MAILTO:sschultheis@norwinpubliclibrary.net
END:VEVENT
BEGIN:VEVENT
DTSTART;TZID=America/New_York:20300509T180000
DTEND;TZID=America/New_York:20300509T190000
DTSTAMP:20260422T080831
CREATED:20260312T221815Z
LAST-MODIFIED:20260312T221952Z
UID:10024234-1904580000-1904583600@norwinpubliclibrary.net
SUMMARY:KnightCrawlers Horror Movie Discussion
DESCRIPTION:A Horror film discussion group. \nKnightCrawlers meets the second Thursday of each month. \nStop in the library or email Sue with any questions.
URL:https://norwinpubliclibrary.net/event/knightcrawlers-horror-movie-discussion-2-2/2030-05-09/
LOCATION:Norwin Public Library\, 100 Caruthers Lane\, Irwin\, PA\, 15642
CATEGORIES:Adult Program,Film Study,Library Programs
ATTACH;FMTTYPE=image/jpeg:https://norwinpubliclibrary.net/wp-content/uploads/2023/01/knightcrawlers-1-e1690490532810.jpg
ORGANIZER;CN="Sue Schultheis":MAILTO:sschultheis@norwinpubliclibrary.net
END:VEVENT
BEGIN:VEVENT
DTSTART;TZID=America/New_York:20300613T180000
DTEND;TZID=America/New_York:20300613T190000
DTSTAMP:20260422T080831
CREATED:20260312T221815Z
LAST-MODIFIED:20260312T221952Z
UID:10024658-1907604000-1907607600@norwinpubliclibrary.net
SUMMARY:KnightCrawlers Horror Movie Discussion
DESCRIPTION:A Horror film discussion group. \nKnightCrawlers meets the second Thursday of each month. \nStop in the library or email Sue with any questions.
URL:https://norwinpubliclibrary.net/event/knightcrawlers-horror-movie-discussion-2-2/2030-06-13/
LOCATION:Norwin Public Library\, 100 Caruthers Lane\, Irwin\, PA\, 15642
CATEGORIES:Adult Program,Film Study,Library Programs
ATTACH;FMTTYPE=image/jpeg:https://norwinpubliclibrary.net/wp-content/uploads/2023/01/knightcrawlers-1-e1690490532810.jpg
ORGANIZER;CN="Sue Schultheis":MAILTO:sschultheis@norwinpubliclibrary.net
END:VEVENT
BEGIN:VEVENT
DTSTART;TZID=America/New_York:20300711T180000
DTEND;TZID=America/New_York:20300711T190000
DTSTAMP:20260422T080831
CREATED:20260312T221815Z
LAST-MODIFIED:20260312T221952Z
UID:10024659-1910023200-1910026800@norwinpubliclibrary.net
SUMMARY:KnightCrawlers Horror Movie Discussion
DESCRIPTION:A Horror film discussion group. \nKnightCrawlers meets the second Thursday of each month. \nStop in the library or email Sue with any questions.
URL:https://norwinpubliclibrary.net/event/knightcrawlers-horror-movie-discussion-2-2/2030-07-11/
LOCATION:Norwin Public Library\, 100 Caruthers Lane\, Irwin\, PA\, 15642
CATEGORIES:Adult Program,Film Study,Library Programs
ATTACH;FMTTYPE=image/jpeg:https://norwinpubliclibrary.net/wp-content/uploads/2023/01/knightcrawlers-1-e1690490532810.jpg
ORGANIZER;CN="Sue Schultheis":MAILTO:sschultheis@norwinpubliclibrary.net
END:VEVENT
END:VCALENDAR