BEGIN:VCALENDAR
VERSION:2.0
PRODID:-//Norwin Public Library - ECPv6.15.20//NONSGML v1.0//EN
CALSCALE:GREGORIAN
METHOD:PUBLISH
X-ORIGINAL-URL:https://norwinpubliclibrary.net
X-WR-CALDESC:Events for Norwin Public Library
REFRESH-INTERVAL;VALUE=DURATION:PT1H
X-Robots-Tag:noindex
X-PUBLISHED-TTL:PT1H
BEGIN:VTIMEZONE
TZID:America/New_York
BEGIN:DAYLIGHT
TZOFFSETFROM:-0500
TZOFFSETTO:-0400
TZNAME:EDT
DTSTART:20250309T070000
END:DAYLIGHT
BEGIN:STANDARD
TZOFFSETFROM:-0400
TZOFFSETTO:-0500
TZNAME:EST
DTSTART:20251102T060000
END:STANDARD
BEGIN:DAYLIGHT
TZOFFSETFROM:-0500
TZOFFSETTO:-0400
TZNAME:EDT
DTSTART:20260308T070000
END:DAYLIGHT
BEGIN:STANDARD
TZOFFSETFROM:-0400
TZOFFSETTO:-0500
TZNAME:EST
DTSTART:20261101T060000
END:STANDARD
BEGIN:DAYLIGHT
TZOFFSETFROM:-0500
TZOFFSETTO:-0400
TZNAME:EDT
DTSTART:20270314T070000
END:DAYLIGHT
BEGIN:STANDARD
TZOFFSETFROM:-0400
TZOFFSETTO:-0500
TZNAME:EST
DTSTART:20271107T060000
END:STANDARD
BEGIN:DAYLIGHT
TZOFFSETFROM:-0500
TZOFFSETTO:-0400
TZNAME:EDT
DTSTART:20280312T070000
END:DAYLIGHT
BEGIN:STANDARD
TZOFFSETFROM:-0400
TZOFFSETTO:-0500
TZNAME:EST
DTSTART:20281105T060000
END:STANDARD
BEGIN:DAYLIGHT
TZOFFSETFROM:-0500
TZOFFSETTO:-0400
TZNAME:EDT
DTSTART:20290311T070000
END:DAYLIGHT
BEGIN:STANDARD
TZOFFSETFROM:-0400
TZOFFSETTO:-0500
TZNAME:EST
DTSTART:20291104T060000
END:STANDARD
END:VTIMEZONE
BEGIN:VEVENT
DTSTART;TZID=America/New_York:20260714T103000
DTEND;TZID=America/New_York:20260714T110000
DTSTAMP:20260421T223150
CREATED:20260406T171935Z
LAST-MODIFIED:20260406T171935Z
UID:10024771-1784025000-1784026800@norwinpubliclibrary.net
SUMMARY:Summer Time Move and Groove
DESCRIPTION:Join us every Tuesday at 10:30 am from June 9th to July 28th \nBring in your babies and toddlers as we engage in songs\, stories\, fingerplays\, motion\, and play time together. Please bring your child’s favorite blanket or pillow\, as we will be on the floor. \nProgram designed for children ages 0-3. \nNo registration needed.
URL:https://norwinpubliclibrary.net/event/summer-time-move-and-groove/2026-07-14/
LOCATION:Norwin Library Community Room\, 100 Caruthers Lane\, Irwin\, PA\, 15642\, United States
CATEGORIES:Just4Kids,Library Programs,Storytime,Summer Reading
ATTACH;FMTTYPE=image/jpeg:https://norwinpubliclibrary.net/wp-content/uploads/2024/01/Baby-storytime.jpeg
ORGANIZER;CN="Melanie Matthews":MAILTO:mmatthews@norwinpubliclibrary.net
END:VEVENT
BEGIN:VEVENT
DTSTART;TZID=America/New_York:20260716T110000
DTEND;TZID=America/New_York:20260716T113000
DTSTAMP:20260421T223150
CREATED:20260406T171414Z
LAST-MODIFIED:20260406T171453Z
UID:10024711-1784199600-1784201400@norwinpubliclibrary.net
SUMMARY:Summer Story Time
DESCRIPTION:Thursday at 11 AM from June 11th-July 30th. \nEnjoy some stories\, songs\, and activities all summer long. \nFor all ages\, with activities geared for those in Pre-K through Kindergarten. \nNo registration needed.
URL:https://norwinpubliclibrary.net/event/summer-story-time-3/2026-07-16/
LOCATION:Norwin Library Community Room\, 100 Caruthers Lane\, Irwin\, PA\, 15642\, United States
CATEGORIES:Just4Kids,Library Programs,Storytime,Summer Reading
ATTACH;FMTTYPE=image/jpeg:https://norwinpubliclibrary.net/wp-content/uploads/2025/04/summer2.jpg
ORGANIZER;CN="Melanie Matthews":MAILTO:mmatthews@norwinpubliclibrary.net
END:VEVENT
BEGIN:VEVENT
DTSTART;TZID=America/New_York:20260721T103000
DTEND;TZID=America/New_York:20260721T110000
DTSTAMP:20260421T223150
CREATED:20260406T171935Z
LAST-MODIFIED:20260406T171935Z
UID:10024772-1784629800-1784631600@norwinpubliclibrary.net
SUMMARY:Summer Time Move and Groove
DESCRIPTION:Join us every Tuesday at 10:30 am from June 9th to July 28th \nBring in your babies and toddlers as we engage in songs\, stories\, fingerplays\, motion\, and play time together. Please bring your child’s favorite blanket or pillow\, as we will be on the floor. \nProgram designed for children ages 0-3. \nNo registration needed.
URL:https://norwinpubliclibrary.net/event/summer-time-move-and-groove/2026-07-21/
LOCATION:Norwin Library Community Room\, 100 Caruthers Lane\, Irwin\, PA\, 15642\, United States
CATEGORIES:Just4Kids,Library Programs,Storytime,Summer Reading
ATTACH;FMTTYPE=image/jpeg:https://norwinpubliclibrary.net/wp-content/uploads/2024/01/Baby-storytime.jpeg
ORGANIZER;CN="Melanie Matthews":MAILTO:mmatthews@norwinpubliclibrary.net
END:VEVENT
BEGIN:VEVENT
DTSTART;TZID=America/New_York:20260723T110000
DTEND;TZID=America/New_York:20260723T113000
DTSTAMP:20260421T223150
CREATED:20260406T171414Z
LAST-MODIFIED:20260406T171453Z
UID:10024712-1784804400-1784806200@norwinpubliclibrary.net
SUMMARY:Summer Story Time
DESCRIPTION:Thursday at 11 AM from June 11th-July 30th. \nEnjoy some stories\, songs\, and activities all summer long. \nFor all ages\, with activities geared for those in Pre-K through Kindergarten. \nNo registration needed.
URL:https://norwinpubliclibrary.net/event/summer-story-time-3/2026-07-23/
LOCATION:Norwin Library Community Room\, 100 Caruthers Lane\, Irwin\, PA\, 15642\, United States
CATEGORIES:Just4Kids,Library Programs,Storytime,Summer Reading
ATTACH;FMTTYPE=image/jpeg:https://norwinpubliclibrary.net/wp-content/uploads/2025/04/summer2.jpg
ORGANIZER;CN="Melanie Matthews":MAILTO:mmatthews@norwinpubliclibrary.net
END:VEVENT
BEGIN:VEVENT
DTSTART;TZID=America/New_York:20260728T103000
DTEND;TZID=America/New_York:20260728T110000
DTSTAMP:20260421T223150
CREATED:20260406T171935Z
LAST-MODIFIED:20260406T171935Z
UID:10024773-1785234600-1785236400@norwinpubliclibrary.net
SUMMARY:Summer Time Move and Groove
DESCRIPTION:Join us every Tuesday at 10:30 am from June 9th to July 28th \nBring in your babies and toddlers as we engage in songs\, stories\, fingerplays\, motion\, and play time together. Please bring your child’s favorite blanket or pillow\, as we will be on the floor. \nProgram designed for children ages 0-3. \nNo registration needed.
URL:https://norwinpubliclibrary.net/event/summer-time-move-and-groove/2026-07-28/
LOCATION:Norwin Library Community Room\, 100 Caruthers Lane\, Irwin\, PA\, 15642\, United States
CATEGORIES:Just4Kids,Library Programs,Storytime,Summer Reading
ATTACH;FMTTYPE=image/jpeg:https://norwinpubliclibrary.net/wp-content/uploads/2024/01/Baby-storytime.jpeg
ORGANIZER;CN="Melanie Matthews":MAILTO:mmatthews@norwinpubliclibrary.net
END:VEVENT
BEGIN:VEVENT
DTSTART;TZID=America/New_York:20260730T110000
DTEND;TZID=America/New_York:20260730T113000
DTSTAMP:20260421T223150
CREATED:20260406T171414Z
LAST-MODIFIED:20260406T171453Z
UID:10024713-1785409200-1785411000@norwinpubliclibrary.net
SUMMARY:Summer Story Time
DESCRIPTION:Thursday at 11 AM from June 11th-July 30th. \nEnjoy some stories\, songs\, and activities all summer long. \nFor all ages\, with activities geared for those in Pre-K through Kindergarten. \nNo registration needed.
URL:https://norwinpubliclibrary.net/event/summer-story-time-3/2026-07-30/
LOCATION:Norwin Library Community Room\, 100 Caruthers Lane\, Irwin\, PA\, 15642\, United States
CATEGORIES:Just4Kids,Library Programs,Storytime,Summer Reading
ATTACH;FMTTYPE=image/jpeg:https://norwinpubliclibrary.net/wp-content/uploads/2025/04/summer2.jpg
ORGANIZER;CN="Melanie Matthews":MAILTO:mmatthews@norwinpubliclibrary.net
END:VEVENT
BEGIN:VEVENT
DTSTART;TZID=America/New_York:20260813T180000
DTEND;TZID=America/New_York:20260813T190000
DTSTAMP:20260421T223150
CREATED:20260312T221815Z
LAST-MODIFIED:20260312T221952Z
UID:10024189-1786644000-1786647600@norwinpubliclibrary.net
SUMMARY:KnightCrawlers Horror Movie Discussion
DESCRIPTION:A Horror film discussion group. \nKnightCrawlers meets the second Thursday of each month. \nStop in the library or email Sue with any questions.
URL:https://norwinpubliclibrary.net/event/knightcrawlers-horror-movie-discussion-2-2/2026-08-13/
LOCATION:Norwin Public Library\, 100 Caruthers Lane\, Irwin\, PA\, 15642
CATEGORIES:Adult Program,Film Study,Library Programs
ATTACH;FMTTYPE=image/jpeg:https://norwinpubliclibrary.net/wp-content/uploads/2023/01/knightcrawlers-1-e1690490532810.jpg
ORGANIZER;CN="Sue Schultheis":MAILTO:sschultheis@norwinpubliclibrary.net
END:VEVENT
BEGIN:VEVENT
DTSTART;TZID=America/New_York:20260910T180000
DTEND;TZID=America/New_York:20260910T190000
DTSTAMP:20260421T223150
CREATED:20260312T221815Z
LAST-MODIFIED:20260312T221952Z
UID:10024190-1789063200-1789066800@norwinpubliclibrary.net
SUMMARY:KnightCrawlers Horror Movie Discussion
DESCRIPTION:A Horror film discussion group. \nKnightCrawlers meets the second Thursday of each month. \nStop in the library or email Sue with any questions.
URL:https://norwinpubliclibrary.net/event/knightcrawlers-horror-movie-discussion-2-2/2026-09-10/
LOCATION:Norwin Public Library\, 100 Caruthers Lane\, Irwin\, PA\, 15642
CATEGORIES:Adult Program,Film Study,Library Programs
ATTACH;FMTTYPE=image/jpeg:https://norwinpubliclibrary.net/wp-content/uploads/2023/01/knightcrawlers-1-e1690490532810.jpg
ORGANIZER;CN="Sue Schultheis":MAILTO:sschultheis@norwinpubliclibrary.net
END:VEVENT
BEGIN:VEVENT
DTSTART;TZID=America/New_York:20261008T180000
DTEND;TZID=America/New_York:20261008T190000
DTSTAMP:20260421T223150
CREATED:20260312T221815Z
LAST-MODIFIED:20260312T221952Z
UID:10024191-1791482400-1791486000@norwinpubliclibrary.net
SUMMARY:KnightCrawlers Horror Movie Discussion
DESCRIPTION:A Horror film discussion group. \nKnightCrawlers meets the second Thursday of each month. \nStop in the library or email Sue with any questions.
URL:https://norwinpubliclibrary.net/event/knightcrawlers-horror-movie-discussion-2-2/2026-10-08/
LOCATION:Norwin Public Library\, 100 Caruthers Lane\, Irwin\, PA\, 15642
CATEGORIES:Adult Program,Film Study,Library Programs
ATTACH;FMTTYPE=image/jpeg:https://norwinpubliclibrary.net/wp-content/uploads/2023/01/knightcrawlers-1-e1690490532810.jpg
ORGANIZER;CN="Sue Schultheis":MAILTO:sschultheis@norwinpubliclibrary.net
END:VEVENT
BEGIN:VEVENT
DTSTART;TZID=America/New_York:20261112T180000
DTEND;TZID=America/New_York:20261112T190000
DTSTAMP:20260421T223150
CREATED:20260312T221815Z
LAST-MODIFIED:20260312T221952Z
UID:10024192-1794506400-1794510000@norwinpubliclibrary.net
SUMMARY:KnightCrawlers Horror Movie Discussion
DESCRIPTION:A Horror film discussion group. \nKnightCrawlers meets the second Thursday of each month. \nStop in the library or email Sue with any questions.
URL:https://norwinpubliclibrary.net/event/knightcrawlers-horror-movie-discussion-2-2/2026-11-12/
LOCATION:Norwin Public Library\, 100 Caruthers Lane\, Irwin\, PA\, 15642
CATEGORIES:Adult Program,Film Study,Library Programs
ATTACH;FMTTYPE=image/jpeg:https://norwinpubliclibrary.net/wp-content/uploads/2023/01/knightcrawlers-1-e1690490532810.jpg
ORGANIZER;CN="Sue Schultheis":MAILTO:sschultheis@norwinpubliclibrary.net
END:VEVENT
BEGIN:VEVENT
DTSTART;TZID=America/New_York:20261210T180000
DTEND;TZID=America/New_York:20261210T190000
DTSTAMP:20260421T223150
CREATED:20260312T221815Z
LAST-MODIFIED:20260312T221952Z
UID:10024193-1796925600-1796929200@norwinpubliclibrary.net
SUMMARY:KnightCrawlers Horror Movie Discussion
DESCRIPTION:A Horror film discussion group. \nKnightCrawlers meets the second Thursday of each month. \nStop in the library or email Sue with any questions.
URL:https://norwinpubliclibrary.net/event/knightcrawlers-horror-movie-discussion-2-2/2026-12-10/
LOCATION:Norwin Public Library\, 100 Caruthers Lane\, Irwin\, PA\, 15642
CATEGORIES:Adult Program,Film Study,Library Programs
ATTACH;FMTTYPE=image/jpeg:https://norwinpubliclibrary.net/wp-content/uploads/2023/01/knightcrawlers-1-e1690490532810.jpg
ORGANIZER;CN="Sue Schultheis":MAILTO:sschultheis@norwinpubliclibrary.net
END:VEVENT
BEGIN:VEVENT
DTSTART;TZID=America/New_York:20270114T180000
DTEND;TZID=America/New_York:20270114T190000
DTSTAMP:20260421T223150
CREATED:20260312T221815Z
LAST-MODIFIED:20260312T221952Z
UID:10024194-1799949600-1799953200@norwinpubliclibrary.net
SUMMARY:KnightCrawlers Horror Movie Discussion
DESCRIPTION:A Horror film discussion group. \nKnightCrawlers meets the second Thursday of each month. \nStop in the library or email Sue with any questions.
URL:https://norwinpubliclibrary.net/event/knightcrawlers-horror-movie-discussion-2-2/2027-01-14/
LOCATION:Norwin Public Library\, 100 Caruthers Lane\, Irwin\, PA\, 15642
CATEGORIES:Adult Program,Film Study,Library Programs
ATTACH;FMTTYPE=image/jpeg:https://norwinpubliclibrary.net/wp-content/uploads/2023/01/knightcrawlers-1-e1690490532810.jpg
ORGANIZER;CN="Sue Schultheis":MAILTO:sschultheis@norwinpubliclibrary.net
END:VEVENT
BEGIN:VEVENT
DTSTART;TZID=America/New_York:20270211T180000
DTEND;TZID=America/New_York:20270211T190000
DTSTAMP:20260421T223150
CREATED:20260312T221815Z
LAST-MODIFIED:20260312T221952Z
UID:10024195-1802368800-1802372400@norwinpubliclibrary.net
SUMMARY:KnightCrawlers Horror Movie Discussion
DESCRIPTION:A Horror film discussion group. \nKnightCrawlers meets the second Thursday of each month. \nStop in the library or email Sue with any questions.
URL:https://norwinpubliclibrary.net/event/knightcrawlers-horror-movie-discussion-2-2/2027-02-11/
LOCATION:Norwin Public Library\, 100 Caruthers Lane\, Irwin\, PA\, 15642
CATEGORIES:Adult Program,Film Study,Library Programs
ATTACH;FMTTYPE=image/jpeg:https://norwinpubliclibrary.net/wp-content/uploads/2023/01/knightcrawlers-1-e1690490532810.jpg
ORGANIZER;CN="Sue Schultheis":MAILTO:sschultheis@norwinpubliclibrary.net
END:VEVENT
BEGIN:VEVENT
DTSTART;TZID=America/New_York:20270311T180000
DTEND;TZID=America/New_York:20270311T190000
DTSTAMP:20260421T223150
CREATED:20260312T221815Z
LAST-MODIFIED:20260312T221952Z
UID:10024196-1804788000-1804791600@norwinpubliclibrary.net
SUMMARY:KnightCrawlers Horror Movie Discussion
DESCRIPTION:A Horror film discussion group. \nKnightCrawlers meets the second Thursday of each month. \nStop in the library or email Sue with any questions.
URL:https://norwinpubliclibrary.net/event/knightcrawlers-horror-movie-discussion-2-2/2027-03-11/
LOCATION:Norwin Public Library\, 100 Caruthers Lane\, Irwin\, PA\, 15642
CATEGORIES:Adult Program,Film Study,Library Programs
ATTACH;FMTTYPE=image/jpeg:https://norwinpubliclibrary.net/wp-content/uploads/2023/01/knightcrawlers-1-e1690490532810.jpg
ORGANIZER;CN="Sue Schultheis":MAILTO:sschultheis@norwinpubliclibrary.net
END:VEVENT
BEGIN:VEVENT
DTSTART;TZID=America/New_York:20270408T180000
DTEND;TZID=America/New_York:20270408T190000
DTSTAMP:20260421T223150
CREATED:20260312T221815Z
LAST-MODIFIED:20260312T221952Z
UID:10024197-1807207200-1807210800@norwinpubliclibrary.net
SUMMARY:KnightCrawlers Horror Movie Discussion
DESCRIPTION:A Horror film discussion group. \nKnightCrawlers meets the second Thursday of each month. \nStop in the library or email Sue with any questions.
URL:https://norwinpubliclibrary.net/event/knightcrawlers-horror-movie-discussion-2-2/2027-04-08/
LOCATION:Norwin Public Library\, 100 Caruthers Lane\, Irwin\, PA\, 15642
CATEGORIES:Adult Program,Film Study,Library Programs
ATTACH;FMTTYPE=image/jpeg:https://norwinpubliclibrary.net/wp-content/uploads/2023/01/knightcrawlers-1-e1690490532810.jpg
ORGANIZER;CN="Sue Schultheis":MAILTO:sschultheis@norwinpubliclibrary.net
END:VEVENT
BEGIN:VEVENT
DTSTART;TZID=America/New_York:20270513T180000
DTEND;TZID=America/New_York:20270513T190000
DTSTAMP:20260421T223150
CREATED:20260312T221815Z
LAST-MODIFIED:20260312T221952Z
UID:10024198-1810231200-1810234800@norwinpubliclibrary.net
SUMMARY:KnightCrawlers Horror Movie Discussion
DESCRIPTION:A Horror film discussion group. \nKnightCrawlers meets the second Thursday of each month. \nStop in the library or email Sue with any questions.
URL:https://norwinpubliclibrary.net/event/knightcrawlers-horror-movie-discussion-2-2/2027-05-13/
LOCATION:Norwin Public Library\, 100 Caruthers Lane\, Irwin\, PA\, 15642
CATEGORIES:Adult Program,Film Study,Library Programs
ATTACH;FMTTYPE=image/jpeg:https://norwinpubliclibrary.net/wp-content/uploads/2023/01/knightcrawlers-1-e1690490532810.jpg
ORGANIZER;CN="Sue Schultheis":MAILTO:sschultheis@norwinpubliclibrary.net
END:VEVENT
BEGIN:VEVENT
DTSTART;TZID=America/New_York:20270610T180000
DTEND;TZID=America/New_York:20270610T190000
DTSTAMP:20260421T223150
CREATED:20260312T221815Z
LAST-MODIFIED:20260312T221952Z
UID:10024199-1812650400-1812654000@norwinpubliclibrary.net
SUMMARY:KnightCrawlers Horror Movie Discussion
DESCRIPTION:A Horror film discussion group. \nKnightCrawlers meets the second Thursday of each month. \nStop in the library or email Sue with any questions.
URL:https://norwinpubliclibrary.net/event/knightcrawlers-horror-movie-discussion-2-2/2027-06-10/
LOCATION:Norwin Public Library\, 100 Caruthers Lane\, Irwin\, PA\, 15642
CATEGORIES:Adult Program,Film Study,Library Programs
ATTACH;FMTTYPE=image/jpeg:https://norwinpubliclibrary.net/wp-content/uploads/2023/01/knightcrawlers-1-e1690490532810.jpg
ORGANIZER;CN="Sue Schultheis":MAILTO:sschultheis@norwinpubliclibrary.net
END:VEVENT
BEGIN:VEVENT
DTSTART;TZID=America/New_York:20270708T180000
DTEND;TZID=America/New_York:20270708T190000
DTSTAMP:20260421T223150
CREATED:20260312T221815Z
LAST-MODIFIED:20260312T221952Z
UID:10024200-1815069600-1815073200@norwinpubliclibrary.net
SUMMARY:KnightCrawlers Horror Movie Discussion
DESCRIPTION:A Horror film discussion group. \nKnightCrawlers meets the second Thursday of each month. \nStop in the library or email Sue with any questions.
URL:https://norwinpubliclibrary.net/event/knightcrawlers-horror-movie-discussion-2-2/2027-07-08/
LOCATION:Norwin Public Library\, 100 Caruthers Lane\, Irwin\, PA\, 15642
CATEGORIES:Adult Program,Film Study,Library Programs
ATTACH;FMTTYPE=image/jpeg:https://norwinpubliclibrary.net/wp-content/uploads/2023/01/knightcrawlers-1-e1690490532810.jpg
ORGANIZER;CN="Sue Schultheis":MAILTO:sschultheis@norwinpubliclibrary.net
END:VEVENT
BEGIN:VEVENT
DTSTART;TZID=America/New_York:20270812T180000
DTEND;TZID=America/New_York:20270812T190000
DTSTAMP:20260421T223150
CREATED:20260312T221815Z
LAST-MODIFIED:20260312T221952Z
UID:10024201-1818093600-1818097200@norwinpubliclibrary.net
SUMMARY:KnightCrawlers Horror Movie Discussion
DESCRIPTION:A Horror film discussion group. \nKnightCrawlers meets the second Thursday of each month. \nStop in the library or email Sue with any questions.
URL:https://norwinpubliclibrary.net/event/knightcrawlers-horror-movie-discussion-2-2/2027-08-12/
LOCATION:Norwin Public Library\, 100 Caruthers Lane\, Irwin\, PA\, 15642
CATEGORIES:Adult Program,Film Study,Library Programs
ATTACH;FMTTYPE=image/jpeg:https://norwinpubliclibrary.net/wp-content/uploads/2023/01/knightcrawlers-1-e1690490532810.jpg
ORGANIZER;CN="Sue Schultheis":MAILTO:sschultheis@norwinpubliclibrary.net
END:VEVENT
BEGIN:VEVENT
DTSTART;TZID=America/New_York:20270909T180000
DTEND;TZID=America/New_York:20270909T190000
DTSTAMP:20260421T223150
CREATED:20260312T221815Z
LAST-MODIFIED:20260312T221952Z
UID:10024202-1820512800-1820516400@norwinpubliclibrary.net
SUMMARY:KnightCrawlers Horror Movie Discussion
DESCRIPTION:A Horror film discussion group. \nKnightCrawlers meets the second Thursday of each month. \nStop in the library or email Sue with any questions.
URL:https://norwinpubliclibrary.net/event/knightcrawlers-horror-movie-discussion-2-2/2027-09-09/
LOCATION:Norwin Public Library\, 100 Caruthers Lane\, Irwin\, PA\, 15642
CATEGORIES:Adult Program,Film Study,Library Programs
ATTACH;FMTTYPE=image/jpeg:https://norwinpubliclibrary.net/wp-content/uploads/2023/01/knightcrawlers-1-e1690490532810.jpg
ORGANIZER;CN="Sue Schultheis":MAILTO:sschultheis@norwinpubliclibrary.net
END:VEVENT
BEGIN:VEVENT
DTSTART;TZID=America/New_York:20271014T180000
DTEND;TZID=America/New_York:20271014T190000
DTSTAMP:20260421T223150
CREATED:20260312T221815Z
LAST-MODIFIED:20260312T221952Z
UID:10024203-1823536800-1823540400@norwinpubliclibrary.net
SUMMARY:KnightCrawlers Horror Movie Discussion
DESCRIPTION:A Horror film discussion group. \nKnightCrawlers meets the second Thursday of each month. \nStop in the library or email Sue with any questions.
URL:https://norwinpubliclibrary.net/event/knightcrawlers-horror-movie-discussion-2-2/2027-10-14/
LOCATION:Norwin Public Library\, 100 Caruthers Lane\, Irwin\, PA\, 15642
CATEGORIES:Adult Program,Film Study,Library Programs
ATTACH;FMTTYPE=image/jpeg:https://norwinpubliclibrary.net/wp-content/uploads/2023/01/knightcrawlers-1-e1690490532810.jpg
ORGANIZER;CN="Sue Schultheis":MAILTO:sschultheis@norwinpubliclibrary.net
END:VEVENT
BEGIN:VEVENT
DTSTART;TZID=America/New_York:20271111T180000
DTEND;TZID=America/New_York:20271111T190000
DTSTAMP:20260421T223150
CREATED:20260312T221815Z
LAST-MODIFIED:20260312T221952Z
UID:10024204-1825956000-1825959600@norwinpubliclibrary.net
SUMMARY:KnightCrawlers Horror Movie Discussion
DESCRIPTION:A Horror film discussion group. \nKnightCrawlers meets the second Thursday of each month. \nStop in the library or email Sue with any questions.
URL:https://norwinpubliclibrary.net/event/knightcrawlers-horror-movie-discussion-2-2/2027-11-11/
LOCATION:Norwin Public Library\, 100 Caruthers Lane\, Irwin\, PA\, 15642
CATEGORIES:Adult Program,Film Study,Library Programs
ATTACH;FMTTYPE=image/jpeg:https://norwinpubliclibrary.net/wp-content/uploads/2023/01/knightcrawlers-1-e1690490532810.jpg
ORGANIZER;CN="Sue Schultheis":MAILTO:sschultheis@norwinpubliclibrary.net
END:VEVENT
BEGIN:VEVENT
DTSTART;TZID=America/New_York:20271209T180000
DTEND;TZID=America/New_York:20271209T190000
DTSTAMP:20260421T223150
CREATED:20260312T221815Z
LAST-MODIFIED:20260312T221952Z
UID:10024205-1828375200-1828378800@norwinpubliclibrary.net
SUMMARY:KnightCrawlers Horror Movie Discussion
DESCRIPTION:A Horror film discussion group. \nKnightCrawlers meets the second Thursday of each month. \nStop in the library or email Sue with any questions.
URL:https://norwinpubliclibrary.net/event/knightcrawlers-horror-movie-discussion-2-2/2027-12-09/
LOCATION:Norwin Public Library\, 100 Caruthers Lane\, Irwin\, PA\, 15642
CATEGORIES:Adult Program,Film Study,Library Programs
ATTACH;FMTTYPE=image/jpeg:https://norwinpubliclibrary.net/wp-content/uploads/2023/01/knightcrawlers-1-e1690490532810.jpg
ORGANIZER;CN="Sue Schultheis":MAILTO:sschultheis@norwinpubliclibrary.net
END:VEVENT
BEGIN:VEVENT
DTSTART;TZID=America/New_York:20280113T180000
DTEND;TZID=America/New_York:20280113T190000
DTSTAMP:20260421T223150
CREATED:20260312T221815Z
LAST-MODIFIED:20260312T221952Z
UID:10024206-1831399200-1831402800@norwinpubliclibrary.net
SUMMARY:KnightCrawlers Horror Movie Discussion
DESCRIPTION:A Horror film discussion group. \nKnightCrawlers meets the second Thursday of each month. \nStop in the library or email Sue with any questions.
URL:https://norwinpubliclibrary.net/event/knightcrawlers-horror-movie-discussion-2-2/2028-01-13/
LOCATION:Norwin Public Library\, 100 Caruthers Lane\, Irwin\, PA\, 15642
CATEGORIES:Adult Program,Film Study,Library Programs
ATTACH;FMTTYPE=image/jpeg:https://norwinpubliclibrary.net/wp-content/uploads/2023/01/knightcrawlers-1-e1690490532810.jpg
ORGANIZER;CN="Sue Schultheis":MAILTO:sschultheis@norwinpubliclibrary.net
END:VEVENT
BEGIN:VEVENT
DTSTART;TZID=America/New_York:20280210T180000
DTEND;TZID=America/New_York:20280210T190000
DTSTAMP:20260421T223150
CREATED:20260312T221815Z
LAST-MODIFIED:20260312T221952Z
UID:10024207-1833818400-1833822000@norwinpubliclibrary.net
SUMMARY:KnightCrawlers Horror Movie Discussion
DESCRIPTION:A Horror film discussion group. \nKnightCrawlers meets the second Thursday of each month. \nStop in the library or email Sue with any questions.
URL:https://norwinpubliclibrary.net/event/knightcrawlers-horror-movie-discussion-2-2/2028-02-10/
LOCATION:Norwin Public Library\, 100 Caruthers Lane\, Irwin\, PA\, 15642
CATEGORIES:Adult Program,Film Study,Library Programs
ATTACH;FMTTYPE=image/jpeg:https://norwinpubliclibrary.net/wp-content/uploads/2023/01/knightcrawlers-1-e1690490532810.jpg
ORGANIZER;CN="Sue Schultheis":MAILTO:sschultheis@norwinpubliclibrary.net
END:VEVENT
BEGIN:VEVENT
DTSTART;TZID=America/New_York:20280309T180000
DTEND;TZID=America/New_York:20280309T190000
DTSTAMP:20260421T223150
CREATED:20260312T221815Z
LAST-MODIFIED:20260312T221952Z
UID:10024208-1836237600-1836241200@norwinpubliclibrary.net
SUMMARY:KnightCrawlers Horror Movie Discussion
DESCRIPTION:A Horror film discussion group. \nKnightCrawlers meets the second Thursday of each month. \nStop in the library or email Sue with any questions.
URL:https://norwinpubliclibrary.net/event/knightcrawlers-horror-movie-discussion-2-2/2028-03-09/
LOCATION:Norwin Public Library\, 100 Caruthers Lane\, Irwin\, PA\, 15642
CATEGORIES:Adult Program,Film Study,Library Programs
ATTACH;FMTTYPE=image/jpeg:https://norwinpubliclibrary.net/wp-content/uploads/2023/01/knightcrawlers-1-e1690490532810.jpg
ORGANIZER;CN="Sue Schultheis":MAILTO:sschultheis@norwinpubliclibrary.net
END:VEVENT
BEGIN:VEVENT
DTSTART;TZID=America/New_York:20280413T180000
DTEND;TZID=America/New_York:20280413T190000
DTSTAMP:20260421T223150
CREATED:20260312T221815Z
LAST-MODIFIED:20260312T221952Z
UID:10024209-1839261600-1839265200@norwinpubliclibrary.net
SUMMARY:KnightCrawlers Horror Movie Discussion
DESCRIPTION:A Horror film discussion group. \nKnightCrawlers meets the second Thursday of each month. \nStop in the library or email Sue with any questions.
URL:https://norwinpubliclibrary.net/event/knightcrawlers-horror-movie-discussion-2-2/2028-04-13/
LOCATION:Norwin Public Library\, 100 Caruthers Lane\, Irwin\, PA\, 15642
CATEGORIES:Adult Program,Film Study,Library Programs
ATTACH;FMTTYPE=image/jpeg:https://norwinpubliclibrary.net/wp-content/uploads/2023/01/knightcrawlers-1-e1690490532810.jpg
ORGANIZER;CN="Sue Schultheis":MAILTO:sschultheis@norwinpubliclibrary.net
END:VEVENT
BEGIN:VEVENT
DTSTART;TZID=America/New_York:20280511T180000
DTEND;TZID=America/New_York:20280511T190000
DTSTAMP:20260421T223150
CREATED:20260312T221815Z
LAST-MODIFIED:20260312T221952Z
UID:10024210-1841680800-1841684400@norwinpubliclibrary.net
SUMMARY:KnightCrawlers Horror Movie Discussion
DESCRIPTION:A Horror film discussion group. \nKnightCrawlers meets the second Thursday of each month. \nStop in the library or email Sue with any questions.
URL:https://norwinpubliclibrary.net/event/knightcrawlers-horror-movie-discussion-2-2/2028-05-11/
LOCATION:Norwin Public Library\, 100 Caruthers Lane\, Irwin\, PA\, 15642
CATEGORIES:Adult Program,Film Study,Library Programs
ATTACH;FMTTYPE=image/jpeg:https://norwinpubliclibrary.net/wp-content/uploads/2023/01/knightcrawlers-1-e1690490532810.jpg
ORGANIZER;CN="Sue Schultheis":MAILTO:sschultheis@norwinpubliclibrary.net
END:VEVENT
BEGIN:VEVENT
DTSTART;TZID=America/New_York:20280608T180000
DTEND;TZID=America/New_York:20280608T190000
DTSTAMP:20260421T223150
CREATED:20260312T221815Z
LAST-MODIFIED:20260312T221952Z
UID:10024211-1844100000-1844103600@norwinpubliclibrary.net
SUMMARY:KnightCrawlers Horror Movie Discussion
DESCRIPTION:A Horror film discussion group. \nKnightCrawlers meets the second Thursday of each month. \nStop in the library or email Sue with any questions.
URL:https://norwinpubliclibrary.net/event/knightcrawlers-horror-movie-discussion-2-2/2028-06-08/
LOCATION:Norwin Public Library\, 100 Caruthers Lane\, Irwin\, PA\, 15642
CATEGORIES:Adult Program,Film Study,Library Programs
ATTACH;FMTTYPE=image/jpeg:https://norwinpubliclibrary.net/wp-content/uploads/2023/01/knightcrawlers-1-e1690490532810.jpg
ORGANIZER;CN="Sue Schultheis":MAILTO:sschultheis@norwinpubliclibrary.net
END:VEVENT
BEGIN:VEVENT
DTSTART;TZID=America/New_York:20280713T180000
DTEND;TZID=America/New_York:20280713T190000
DTSTAMP:20260421T223150
CREATED:20260312T221815Z
LAST-MODIFIED:20260312T221952Z
UID:10024212-1847124000-1847127600@norwinpubliclibrary.net
SUMMARY:KnightCrawlers Horror Movie Discussion
DESCRIPTION:A Horror film discussion group. \nKnightCrawlers meets the second Thursday of each month. \nStop in the library or email Sue with any questions.
URL:https://norwinpubliclibrary.net/event/knightcrawlers-horror-movie-discussion-2-2/2028-07-13/
LOCATION:Norwin Public Library\, 100 Caruthers Lane\, Irwin\, PA\, 15642
CATEGORIES:Adult Program,Film Study,Library Programs
ATTACH;FMTTYPE=image/jpeg:https://norwinpubliclibrary.net/wp-content/uploads/2023/01/knightcrawlers-1-e1690490532810.jpg
ORGANIZER;CN="Sue Schultheis":MAILTO:sschultheis@norwinpubliclibrary.net
END:VEVENT
END:VCALENDAR