BEGIN:VCALENDAR
VERSION:2.0
PRODID:-//Norwin Public Library - ECPv6.15.20//NONSGML v1.0//EN
CALSCALE:GREGORIAN
METHOD:PUBLISH
X-WR-CALNAME:Norwin Public Library
X-ORIGINAL-URL:https://norwinpubliclibrary.net
X-WR-CALDESC:Events for Norwin Public Library
REFRESH-INTERVAL;VALUE=DURATION:PT1H
X-Robots-Tag:noindex
X-PUBLISHED-TTL:PT1H
BEGIN:VTIMEZONE
TZID:America/New_York
BEGIN:DAYLIGHT
TZOFFSETFROM:-0500
TZOFFSETTO:-0400
TZNAME:EDT
DTSTART:20250309T070000
END:DAYLIGHT
BEGIN:STANDARD
TZOFFSETFROM:-0400
TZOFFSETTO:-0500
TZNAME:EST
DTSTART:20251102T060000
END:STANDARD
BEGIN:DAYLIGHT
TZOFFSETFROM:-0500
TZOFFSETTO:-0400
TZNAME:EDT
DTSTART:20260308T070000
END:DAYLIGHT
BEGIN:STANDARD
TZOFFSETFROM:-0400
TZOFFSETTO:-0500
TZNAME:EST
DTSTART:20261101T060000
END:STANDARD
BEGIN:DAYLIGHT
TZOFFSETFROM:-0500
TZOFFSETTO:-0400
TZNAME:EDT
DTSTART:20270314T070000
END:DAYLIGHT
BEGIN:STANDARD
TZOFFSETFROM:-0400
TZOFFSETTO:-0500
TZNAME:EST
DTSTART:20271107T060000
END:STANDARD
END:VTIMEZONE
BEGIN:VEVENT
DTSTART;TZID=America/New_York:20260319T110000
DTEND;TZID=America/New_York:20260319T113000
DTSTAMP:20260422T061619
CREATED:20251128T152704Z
LAST-MODIFIED:20260406T171054Z
UID:10024535-1773918000-1773919800@norwinpubliclibrary.net
SUMMARY:Story Time
DESCRIPTION:Join us for stories\, songs and fun every Monday and Thursday at 11am. \nAll ages are welcome! \nNo registration is needed.
URL:https://norwinpubliclibrary.net/event/story-time-10/2026-03-19/
LOCATION:Norwin Children’s Library
CATEGORIES:Just4Kids,Library Programs,Storytime
ATTACH;FMTTYPE=image/jpeg:https://norwinpubliclibrary.net/wp-content/uploads/2023/11/storytimeMT.jpg
ORGANIZER;CN="Melanie Matthews":MAILTO:mmatthews@norwinpubliclibrary.net
END:VEVENT
BEGIN:VEVENT
DTSTART;TZID=America/New_York:20260317T103000
DTEND;TZID=America/New_York:20260317T110000
DTSTAMP:20260422T061619
CREATED:20250724T201814Z
LAST-MODIFIED:20251128T203142Z
UID:10024380-1773743400-1773745200@norwinpubliclibrary.net
SUMMARY:Move and Groove
DESCRIPTION:Bring in your babies and toddlers as we engage in songs\, stories\, fingerplays\, motion\, and play time together. \nProgram designed for children ages 0 – 2.5. \nNo registration needed. \nPlease bring your child’s favorite blanket or pillow as we will be on the floor.
URL:https://norwinpubliclibrary.net/event/move-and-groove/2026-03-17/
LOCATION:Norwin Library Community Room\, 100 Caruthers Lane\, Irwin\, PA\, 15642\, United States
CATEGORIES:Just4Kids,Storytime
ATTACH;FMTTYPE=image/jpeg:https://norwinpubliclibrary.net/wp-content/uploads/2024/01/Baby-storytime.jpeg
ORGANIZER;CN="Melanie Matthews":MAILTO:mmatthews@norwinpubliclibrary.net
END:VEVENT
BEGIN:VEVENT
DTSTART;TZID=America/New_York:20260316T110000
DTEND;TZID=America/New_York:20260316T113000
DTSTAMP:20260422T061619
CREATED:20251128T152704Z
LAST-MODIFIED:20260406T171054Z
UID:10024534-1773658800-1773660600@norwinpubliclibrary.net
SUMMARY:Story Time
DESCRIPTION:Join us for stories\, songs and fun every Monday and Thursday at 11am. \nAll ages are welcome! \nNo registration is needed.
URL:https://norwinpubliclibrary.net/event/story-time-10/2026-03-16/
LOCATION:Norwin Children’s Library
CATEGORIES:Just4Kids,Library Programs,Storytime
ATTACH;FMTTYPE=image/jpeg:https://norwinpubliclibrary.net/wp-content/uploads/2023/11/storytimeMT.jpg
ORGANIZER;CN="Melanie Matthews":MAILTO:mmatthews@norwinpubliclibrary.net
END:VEVENT
BEGIN:VEVENT
DTSTART;TZID=America/New_York:20260312T180000
DTEND;TZID=America/New_York:20260312T190000
DTSTAMP:20260422T061619
CREATED:20260312T221815Z
LAST-MODIFIED:20260312T221952Z
UID:10024184-1773338400-1773342000@norwinpubliclibrary.net
SUMMARY:KnightCrawlers Horror Movie Discussion
DESCRIPTION:A Horror film discussion group. \nKnightCrawlers meets the second Thursday of each month. \nStop in the library or email Sue with any questions.
URL:https://norwinpubliclibrary.net/event/knightcrawlers-horror-movie-discussion-2-2/2026-03-12/
LOCATION:Norwin Public Library\, 100 Caruthers Lane\, Irwin\, PA\, 15642
CATEGORIES:Adult Program,Film Study,Library Programs
ATTACH;FMTTYPE=image/jpeg:https://norwinpubliclibrary.net/wp-content/uploads/2023/01/knightcrawlers-1-e1690490532810.jpg
ORGANIZER;CN="Sue Schultheis":MAILTO:sschultheis@norwinpubliclibrary.net
END:VEVENT
BEGIN:VEVENT
DTSTART;TZID=America/New_York:20260312T110000
DTEND;TZID=America/New_York:20260312T113000
DTSTAMP:20260422T061620
CREATED:20251128T152704Z
LAST-MODIFIED:20260406T171054Z
UID:10024533-1773313200-1773315000@norwinpubliclibrary.net
SUMMARY:Story Time
DESCRIPTION:Join us for stories\, songs and fun every Monday and Thursday at 11am. \nAll ages are welcome! \nNo registration is needed.
URL:https://norwinpubliclibrary.net/event/story-time-10/2026-03-12/
LOCATION:Norwin Children’s Library
CATEGORIES:Just4Kids,Library Programs,Storytime
ATTACH;FMTTYPE=image/jpeg:https://norwinpubliclibrary.net/wp-content/uploads/2023/11/storytimeMT.jpg
ORGANIZER;CN="Melanie Matthews":MAILTO:mmatthews@norwinpubliclibrary.net
END:VEVENT
BEGIN:VEVENT
DTSTART;TZID=America/New_York:20260311T180000
DTEND;TZID=America/New_York:20260311T190000
DTSTAMP:20260422T061620
CREATED:20260212T001417Z
LAST-MODIFIED:20260212T152902Z
UID:10024643-1773252000-1773255600@norwinpubliclibrary.net
SUMMARY:Book Solid: A literary book discussion group
DESCRIPTION:Our new book discussion group is called Book Solid\, and will be reading more “serious” literary fiction. Think Margaret Atwood rather than Danielle Steele.
URL:https://norwinpubliclibrary.net/event/book-solid-a-literary-book-discussion-group-2/
LOCATION:Norwin Library Community Room\, 100 Caruthers Lane\, Irwin\, PA\, 15642\, United States
CATEGORIES:Book Clubs,Educational,Library Programs
ATTACH;FMTTYPE=image/jpeg:https://norwinpubliclibrary.net/wp-content/uploads/2026/01/booksolid2.jpg
ORGANIZER;CN="Krista Brown":MAILTO:kbrown@norwinpubliclibrary.net
END:VEVENT
BEGIN:VEVENT
DTSTART;TZID=America/New_York:20260311T100000
DTEND;TZID=America/New_York:20260311T180000
DTSTAMP:20260422T061620
CREATED:20260309T175715Z
LAST-MODIFIED:20260309T175805Z
UID:10024655-1773223200-1773252000@norwinpubliclibrary.net
SUMMARY:Book Sale Wednesday\, March 11th
DESCRIPTION:The Friends of the Norwin Library will be holding a book sale on Wednesday\, March 11th from 10 AM to 6 PM. Please park on the lower level of the building.
URL:https://norwinpubliclibrary.net/event/book-sale-wednesday-march11th/
LOCATION:Norwin Library Lower Level\, 100 Caruthers Lane\, Irwin\, PA\, 15642\, United States
CATEGORIES:Book Sales
ATTACH;FMTTYPE=image/jpeg:https://norwinpubliclibrary.net/wp-content/uploads/2026/03/booksale_mar.jpg
END:VEVENT
BEGIN:VEVENT
DTSTART;TZID=America/New_York:20260310T180000
DTEND;TZID=America/New_York:20260310T193000
DTSTAMP:20260422T061620
CREATED:20260128T145034Z
LAST-MODIFIED:20260128T145034Z
UID:10024637-1773165600-1773171000@norwinpubliclibrary.net
SUMMARY:Discover Your Shamrock Roots: Genealogy Program
DESCRIPTION:Do you have Irish ancestry?  One in nine Americans do!\n“Shamrock Roots” is an Irish heritage/genealogy program that explains the rich Irish culture and its impact on American history.\nIt will demonstrate how Irish- Americans can begin to trace their ancestral “roots” from home\, and plan a heritage trip to Ireland.\nParticipants will receive take-home materials to begin searches for their Shamrock Roots.
URL:https://norwinpubliclibrary.net/event/discover-your-shamrock-roots-genealogy-program/
LOCATION:Norwin Library Community Room\, 100 Caruthers Lane\, Irwin\, PA\, 15642\, United States
CATEGORIES:Adult Program,Educational,Genealogy,Library Programs
ATTACH;FMTTYPE=image/png:https://norwinpubliclibrary.net/wp-content/uploads/2022/08/geneaology.png
ORGANIZER;CN="Krista Brown":MAILTO:kbrown@norwinpubliclibrary.net
END:VEVENT
BEGIN:VEVENT
DTSTART;TZID=America/New_York:20260310T103000
DTEND;TZID=America/New_York:20260310T110000
DTSTAMP:20260422T061620
CREATED:20250724T201814Z
LAST-MODIFIED:20251128T203142Z
UID:10024379-1773138600-1773140400@norwinpubliclibrary.net
SUMMARY:Move and Groove
DESCRIPTION:Bring in your babies and toddlers as we engage in songs\, stories\, fingerplays\, motion\, and play time together. \nProgram designed for children ages 0 – 2.5. \nNo registration needed. \nPlease bring your child’s favorite blanket or pillow as we will be on the floor.
URL:https://norwinpubliclibrary.net/event/move-and-groove/2026-03-10/
LOCATION:Norwin Library Community Room\, 100 Caruthers Lane\, Irwin\, PA\, 15642\, United States
CATEGORIES:Just4Kids,Storytime
ATTACH;FMTTYPE=image/jpeg:https://norwinpubliclibrary.net/wp-content/uploads/2024/01/Baby-storytime.jpeg
ORGANIZER;CN="Melanie Matthews":MAILTO:mmatthews@norwinpubliclibrary.net
END:VEVENT
BEGIN:VEVENT
DTSTART;TZID=America/New_York:20260309T180000
DTEND;TZID=America/New_York:20260309T190000
DTSTAMP:20260422T061620
CREATED:20260127T194525Z
LAST-MODIFIED:20260127T194525Z
UID:10024633-1773079200-1773082800@norwinpubliclibrary.net
SUMMARY:Craft Knights
DESCRIPTION:MONDAY\, MARCH 9TH AT 6 PM \nFOR 5TH GRADE AND UP\n\nGet crafty at the library. All supplies will be provided.\nProject: AIR DRY CLAY DESIGNS \nRegistration is required for each kid participating individually here:https://forms.gle/zB2ns4K2GZktj3Wq8
URL:https://norwinpubliclibrary.net/event/craft-knights/
LOCATION:Norwin Library Community Room\, 100 Caruthers Lane\, Irwin\, PA\, 15642\, United States
CATEGORIES:Just4Kids,Library Programs,Teens,Tweens
ATTACH;FMTTYPE=image/jpeg:https://norwinpubliclibrary.net/wp-content/uploads/2024/12/istockphoto-487617902-612x612-1.jpg
ORGANIZER;CN="Melanie Matthews":MAILTO:mmatthews@norwinpubliclibrary.net
END:VEVENT
BEGIN:VEVENT
DTSTART;TZID=America/New_York:20260309T110000
DTEND;TZID=America/New_York:20260309T113000
DTSTAMP:20260422T061620
CREATED:20251128T152704Z
LAST-MODIFIED:20260406T171054Z
UID:10024532-1773054000-1773055800@norwinpubliclibrary.net
SUMMARY:Story Time
DESCRIPTION:Join us for stories\, songs and fun every Monday and Thursday at 11am. \nAll ages are welcome! \nNo registration is needed.
URL:https://norwinpubliclibrary.net/event/story-time-10/2026-03-09/
LOCATION:Norwin Children’s Library
CATEGORIES:Just4Kids,Library Programs,Storytime
ATTACH;FMTTYPE=image/jpeg:https://norwinpubliclibrary.net/wp-content/uploads/2023/11/storytimeMT.jpg
ORGANIZER;CN="Melanie Matthews":MAILTO:mmatthews@norwinpubliclibrary.net
END:VEVENT
BEGIN:VEVENT
DTSTART;TZID=America/New_York:20260305T110000
DTEND;TZID=America/New_York:20260305T113000
DTSTAMP:20260422T061620
CREATED:20251128T152704Z
LAST-MODIFIED:20260406T171054Z
UID:10024531-1772708400-1772710200@norwinpubliclibrary.net
SUMMARY:Story Time
DESCRIPTION:Join us for stories\, songs and fun every Monday and Thursday at 11am. \nAll ages are welcome! \nNo registration is needed.
URL:https://norwinpubliclibrary.net/event/story-time-10/2026-03-05/
LOCATION:Norwin Children’s Library
CATEGORIES:Just4Kids,Library Programs,Storytime
ATTACH;FMTTYPE=image/jpeg:https://norwinpubliclibrary.net/wp-content/uploads/2023/11/storytimeMT.jpg
ORGANIZER;CN="Melanie Matthews":MAILTO:mmatthews@norwinpubliclibrary.net
END:VEVENT
BEGIN:VEVENT
DTSTART;TZID=America/New_York:20260304T183000
DTEND;TZID=America/New_York:20260304T193000
DTSTAMP:20260422T061620
CREATED:20260128T190033Z
LAST-MODIFIED:20260302T192823Z
UID:10024641-1772649000-1772652600@norwinpubliclibrary.net
SUMMARY:Native Wildflowers of Braddock's Trail
DESCRIPTION:Guides from the Braddock’s Trail Wildflower walks will explain which flowers are blooming on Braddock’s Trail\, how to identify them and how to enjoy all that Braddock’s Trail has to offer.
URL:https://norwinpubliclibrary.net/event/native-wildflowers-of-braddocks-trail/
LOCATION:Norwin Library Community Room\, 100 Caruthers Lane\, Irwin\, PA\, 15642\, United States
CATEGORIES:Adult Program,Educational,Library Programs
ATTACH;FMTTYPE=image/jpeg:https://norwinpubliclibrary.net/wp-content/uploads/2026/01/braddock.jpg
ORGANIZER;CN="Krista Brown":MAILTO:kbrown@norwinpubliclibrary.net
END:VEVENT
BEGIN:VEVENT
DTSTART;TZID=America/New_York:20260303T180000
DTEND;TZID=America/New_York:20260303T190000
DTSTAMP:20260422T061620
CREATED:20260128T162517Z
LAST-MODIFIED:20260302T150621Z
UID:10024640-1772560800-1772564400@norwinpubliclibrary.net
SUMMARY:Pushing the Limits: Science Book Club
DESCRIPTION:Our Science book club\, Pushing the Limits\, meets the first Tuesday of every month.  \nFor more information or to reserve a copy of the book\, please contact Diana at dfalk@norwinpubliclibrary.net
URL:https://norwinpubliclibrary.net/event/pushing-the-limits-science-book-club-2/
LOCATION:Norwin Library Community Room\, 100 Caruthers Lane\, Irwin\, PA\, 15642\, United States
CATEGORIES:Adult Program,Book Clubs,Library Programs
ATTACH;FMTTYPE=image/jpeg:https://norwinpubliclibrary.net/wp-content/uploads/2026/01/pushing_event.jpg
ORGANIZER;CN="Diana Falk":MAILTO:dfalk@norwinpubliclibrary.net
END:VEVENT
BEGIN:VEVENT
DTSTART;TZID=America/New_York:20260303T103000
DTEND;TZID=America/New_York:20260303T110000
DTSTAMP:20260422T061620
CREATED:20250724T201814Z
LAST-MODIFIED:20251128T203142Z
UID:10024378-1772533800-1772535600@norwinpubliclibrary.net
SUMMARY:Move and Groove
DESCRIPTION:Bring in your babies and toddlers as we engage in songs\, stories\, fingerplays\, motion\, and play time together. \nProgram designed for children ages 0 – 2.5. \nNo registration needed. \nPlease bring your child’s favorite blanket or pillow as we will be on the floor.
URL:https://norwinpubliclibrary.net/event/move-and-groove/2026-03-03/
LOCATION:Norwin Library Community Room\, 100 Caruthers Lane\, Irwin\, PA\, 15642\, United States
CATEGORIES:Just4Kids,Storytime
ATTACH;FMTTYPE=image/jpeg:https://norwinpubliclibrary.net/wp-content/uploads/2024/01/Baby-storytime.jpeg
ORGANIZER;CN="Melanie Matthews":MAILTO:mmatthews@norwinpubliclibrary.net
END:VEVENT
BEGIN:VEVENT
DTSTART;TZID=America/New_York:20260302T180000
DTEND;TZID=America/New_York:20260302T190000
DTSTAMP:20260422T061620
CREATED:20260127T195134Z
LAST-MODIFIED:20260218T113003Z
UID:10024635-1772474400-1772478000@norwinpubliclibrary.net
SUMMARY:Dr. Seuss By The Books
DESCRIPTION:Monday\, March 2nd at 6pm \n\nIn honor of Dr. Seuss’ birthday and Read Across America week\, join us for some Seuss-themed fun. There will be activities based on a few of his books. \nThis program is for those in Pre K-4th grade. \nRegistration is required for each kid participating individually here: https://forms.gle/2q5L5EHbknpcam5c6
URL:https://norwinpubliclibrary.net/event/dr-seuss-by-the-books/
LOCATION:Norwin Library Community Room\, 100 Caruthers Lane\, Irwin\, PA\, 15642\, United States
CATEGORIES:Just4Kids,Library Programs
ATTACH;FMTTYPE=image/png:https://norwinpubliclibrary.net/wp-content/uploads/2023/02/drseuss-birthday-logo.png
ORGANIZER;CN="Melanie Matthews":MAILTO:mmatthews@norwinpubliclibrary.net
END:VEVENT
BEGIN:VEVENT
DTSTART;TZID=America/New_York:20260302T110000
DTEND;TZID=America/New_York:20260302T113000
DTSTAMP:20260422T061620
CREATED:20251128T152704Z
LAST-MODIFIED:20260406T171054Z
UID:10024530-1772449200-1772451000@norwinpubliclibrary.net
SUMMARY:Story Time
DESCRIPTION:Join us for stories\, songs and fun every Monday and Thursday at 11am. \nAll ages are welcome! \nNo registration is needed.
URL:https://norwinpubliclibrary.net/event/story-time-10/2026-03-02/
LOCATION:Norwin Children’s Library
CATEGORIES:Just4Kids,Library Programs,Storytime
ATTACH;FMTTYPE=image/jpeg:https://norwinpubliclibrary.net/wp-content/uploads/2023/11/storytimeMT.jpg
ORGANIZER;CN="Melanie Matthews":MAILTO:mmatthews@norwinpubliclibrary.net
END:VEVENT
BEGIN:VEVENT
DTSTART;TZID=America/New_York:20260228T140000
DTEND;TZID=America/New_York:20260228T150000
DTSTAMP:20260422T061620
CREATED:20251210T204859Z
LAST-MODIFIED:20251211T204847Z
UID:10024623-1772287200-1772290800@norwinpubliclibrary.net
SUMMARY:Knight Writers
DESCRIPTION:February 28th at 2pm \nWith Westmoreland Writers Wolf Pack \n\nFor Ages 5-7 \nPlease join us in exploring the art of storytelling. We will explore the elements of a story and focus on building oral storytelling skills through various creative activities. Participants do not need to attend all 3 sessions\, but it will be more beneficial if they can. \nSpace is very limited. Registration is required for each participant here: https://forms.gle/egwMdXaoFJLxyaW6A
URL:https://norwinpubliclibrary.net/event/knight-writers-3/
LOCATION:Norwin Library Community Room\, 100 Caruthers Lane\, Irwin\, PA\, 15642\, United States
CATEGORIES:Just4Kids,Library Programs
ATTACH;FMTTYPE=image/webp:https://norwinpubliclibrary.net/wp-content/uploads/2025/12/writing-school-kids-text-banner-260nw-2001577175.webp
ORGANIZER;CN="Melanie Matthews":MAILTO:mmatthews@norwinpubliclibrary.net
END:VEVENT
BEGIN:VEVENT
DTSTART;TZID=America/New_York:20260226T180000
DTEND;TZID=America/New_York:20260226T190000
DTSTAMP:20260422T061620
CREATED:20260102T191558Z
LAST-MODIFIED:20260102T191558Z
UID:10024626-1772128800-1772132400@norwinpubliclibrary.net
SUMMARY:Lego Knights
DESCRIPTION:Thursday\, Feb 26th at 6 pm \n\nCome in to use your imagination to build with our Legos. We will be focusing on each kiddo making a Lego maze. \nAll ages are welcome. Parents are asked to stay with kids through 4th grade. \nRegistration is required for each kid participating individually here: https://forms.gle/XBdVJBkJSBj8bqN57
URL:https://norwinpubliclibrary.net/event/lego-knights-6/
LOCATION:Norwin Library Community Room\, 100 Caruthers Lane\, Irwin\, PA\, 15642\, United States
CATEGORIES:Just4Kids,Library Programs,Storytime
ATTACH;FMTTYPE=image/png:https://norwinpubliclibrary.net/wp-content/uploads/2024/02/pngimg.com-lego_PNG69.png
ORGANIZER;CN="Melanie Matthews":MAILTO:mmatthews@norwinpubliclibrary.net
END:VEVENT
BEGIN:VEVENT
DTSTART;TZID=America/New_York:20260226T110000
DTEND;TZID=America/New_York:20260226T113000
DTSTAMP:20260422T061620
CREATED:20251128T152704Z
LAST-MODIFIED:20260406T171054Z
UID:10024529-1772103600-1772105400@norwinpubliclibrary.net
SUMMARY:Story Time
DESCRIPTION:Join us for stories\, songs and fun every Monday and Thursday at 11am. \nAll ages are welcome! \nNo registration is needed.
URL:https://norwinpubliclibrary.net/event/story-time-10/2026-02-26/
LOCATION:Norwin Children’s Library
CATEGORIES:Just4Kids,Library Programs,Storytime
ATTACH;FMTTYPE=image/jpeg:https://norwinpubliclibrary.net/wp-content/uploads/2023/11/storytimeMT.jpg
ORGANIZER;CN="Melanie Matthews":MAILTO:mmatthews@norwinpubliclibrary.net
END:VEVENT
BEGIN:VEVENT
DTSTART;TZID=America/New_York:20260225T173000
DTEND;TZID=America/New_York:20260225T183000
DTSTAMP:20260422T061620
CREATED:20260122T211443Z
LAST-MODIFIED:20260122T211626Z
UID:10024632-1772040600-1772044200@norwinpubliclibrary.net
SUMMARY:Block Party
DESCRIPTION:Wed.\, Feb. 25th at 5:30 PM \nOpen play for littles aged 1-6 to come and create with their imagination and a variety of our toys. \nParents and older siblings stay & play! \nNo Registration needed.
URL:https://norwinpubliclibrary.net/event/block-party-13/
LOCATION:Norwin Library Community Room\, 100 Caruthers Lane\, Irwin\, PA\, 15642\, United States
CATEGORIES:Just4Kids,Library Programs
ATTACH;FMTTYPE=image/jpeg:https://norwinpubliclibrary.net/wp-content/uploads/2023/09/images.jpeg
ORGANIZER;CN="Melanie Matthews":MAILTO:mmatthews@norwinpubliclibrary.net
END:VEVENT
BEGIN:VEVENT
DTSTART;TZID=America/New_York:20260224T103000
DTEND;TZID=America/New_York:20260224T110000
DTSTAMP:20260422T061620
CREATED:20250724T201814Z
LAST-MODIFIED:20251128T203142Z
UID:10024377-1771929000-1771930800@norwinpubliclibrary.net
SUMMARY:Move and Groove
DESCRIPTION:Bring in your babies and toddlers as we engage in songs\, stories\, fingerplays\, motion\, and play time together. \nProgram designed for children ages 0 – 2.5. \nNo registration needed. \nPlease bring your child’s favorite blanket or pillow as we will be on the floor.
URL:https://norwinpubliclibrary.net/event/move-and-groove/2026-02-24/
LOCATION:Norwin Library Community Room\, 100 Caruthers Lane\, Irwin\, PA\, 15642\, United States
CATEGORIES:Just4Kids,Storytime
ATTACH;FMTTYPE=image/jpeg:https://norwinpubliclibrary.net/wp-content/uploads/2024/01/Baby-storytime.jpeg
ORGANIZER;CN="Melanie Matthews":MAILTO:mmatthews@norwinpubliclibrary.net
END:VEVENT
BEGIN:VEVENT
DTSTART;TZID=America/New_York:20260223T110000
DTEND;TZID=America/New_York:20260223T113000
DTSTAMP:20260422T061620
CREATED:20251128T152704Z
LAST-MODIFIED:20260406T171054Z
UID:10024528-1771844400-1771846200@norwinpubliclibrary.net
SUMMARY:Story Time
DESCRIPTION:Join us for stories\, songs and fun every Monday and Thursday at 11am. \nAll ages are welcome! \nNo registration is needed.
URL:https://norwinpubliclibrary.net/event/story-time-10/2026-02-23/
LOCATION:Norwin Children’s Library
CATEGORIES:Just4Kids,Library Programs,Storytime
ATTACH;FMTTYPE=image/jpeg:https://norwinpubliclibrary.net/wp-content/uploads/2023/11/storytimeMT.jpg
ORGANIZER;CN="Melanie Matthews":MAILTO:mmatthews@norwinpubliclibrary.net
END:VEVENT
BEGIN:VEVENT
DTSTART;TZID=America/New_York:20260221T140000
DTEND;TZID=America/New_York:20260221T150000
DTSTAMP:20260422T061620
CREATED:20251210T204742Z
LAST-MODIFIED:20251211T204931Z
UID:10024622-1771682400-1771686000@norwinpubliclibrary.net
SUMMARY:Knight Writers
DESCRIPTION:February 21st at 2pm \nWith Westmoreland Writers Wolf Pack \n\nFor Ages 5-7 \nPlease join us in exploring the art of storytelling. We will explore the elements of a story and focus on building oral storytelling skills through various creative activities. Participants do not need to attend all 3 sessions\, but it will be more beneficial if they can. \n\nLast session for 5-7 year old will be on 2/28/26. \n\nSpace is very limited. Registration is required for each participant here:https://forms.gle/QDqsUgr53Lr5o8XAA
URL:https://norwinpubliclibrary.net/event/knight-writers-2/
LOCATION:Norwin Library Community Room\, 100 Caruthers Lane\, Irwin\, PA\, 15642\, United States
CATEGORIES:Just4Kids,Library Programs
ATTACH;FMTTYPE=image/webp:https://norwinpubliclibrary.net/wp-content/uploads/2025/12/writing-school-kids-text-banner-260nw-2001577175.webp
ORGANIZER;CN="Melanie Matthews":MAILTO:mmatthews@norwinpubliclibrary.net
END:VEVENT
BEGIN:VEVENT
DTSTART;TZID=America/New_York:20260221T110000
DTEND;TZID=America/New_York:20260221T123000
DTSTAMP:20260422T061620
CREATED:20260102T191327Z
LAST-MODIFIED:20260102T191327Z
UID:10024625-1771671600-1771677000@norwinpubliclibrary.net
SUMMARY:NPL Chess Knights
DESCRIPTION:Saturday\, February 21st at 11am \nGrades K-12th \nJoin us for open chess playing for K-12 graders and their families. There will be volunteers present to answer your chess questions. \n\nBasic chess knowledge is needed.\n \nRegistration is required for each kid participating individually here: https://forms.gle/B8iYpHRj9okicaMs6
URL:https://norwinpubliclibrary.net/event/npl-chess-knights-4/
LOCATION:Norwin Library Community Room\, 100 Caruthers Lane\, Irwin\, PA\, 15642\, United States
CATEGORIES:Educational,Just4Kids,Library Programs,STEM
ATTACH;FMTTYPE=image/webp:https://norwinpubliclibrary.net/wp-content/uploads/2025/12/chess-banner-chess-tournament-poster-international-chess-day-illustration-ai-generated-chess-banner-chess-383331139.webp
ORGANIZER;CN="Melanie Matthews":MAILTO:mmatthews@norwinpubliclibrary.net
END:VEVENT
BEGIN:VEVENT
DTSTART;TZID=America/New_York:20260219T110000
DTEND;TZID=America/New_York:20260219T113000
DTSTAMP:20260422T061620
CREATED:20251128T152704Z
LAST-MODIFIED:20260406T171054Z
UID:10024527-1771498800-1771500600@norwinpubliclibrary.net
SUMMARY:Story Time
DESCRIPTION:Join us for stories\, songs and fun every Monday and Thursday at 11am. \nAll ages are welcome! \nNo registration is needed.
URL:https://norwinpubliclibrary.net/event/story-time-10/2026-02-19/
LOCATION:Norwin Children’s Library
CATEGORIES:Just4Kids,Library Programs,Storytime
ATTACH;FMTTYPE=image/jpeg:https://norwinpubliclibrary.net/wp-content/uploads/2023/11/storytimeMT.jpg
ORGANIZER;CN="Melanie Matthews":MAILTO:mmatthews@norwinpubliclibrary.net
END:VEVENT
BEGIN:VEVENT
DTSTART;TZID=America/New_York:20260218T180000
DTEND;TZID=America/New_York:20260218T190000
DTSTAMP:20260422T061620
CREATED:20260102T191105Z
LAST-MODIFIED:20260102T191105Z
UID:10024624-1771437600-1771441200@norwinpubliclibrary.net
SUMMARY:Love of Reading
DESCRIPTION:Wed.\, February 18th at 6pm \n\nStop by for phonics-themed activities that will help increase your child’s reading abilities. \nThis is a family-oriented event designed for kiddos who are just starting to read or may need a little extra phonics help. Basic phonics understanding is necessary. \nRegistration is required for each kid participating individually here: https://forms.gle/HDxJES3C8jZdU4NYA
URL:https://norwinpubliclibrary.net/event/love-of-reading/
LOCATION:Norwin Library Community Room\, 100 Caruthers Lane\, Irwin\, PA\, 15642\, United States
CATEGORIES:Educational,Just4Kids,Library Programs
ATTACH;FMTTYPE=image/png:https://norwinpubliclibrary.net/wp-content/uploads/2026/01/phonics-1024x342-1.png
ORGANIZER;CN="Melanie Matthews":MAILTO:mmatthews@norwinpubliclibrary.net
END:VEVENT
BEGIN:VEVENT
DTSTART;TZID=America/New_York:20260217T103000
DTEND;TZID=America/New_York:20260217T110000
DTSTAMP:20260422T061620
CREATED:20250724T201814Z
LAST-MODIFIED:20251128T203142Z
UID:10024376-1771324200-1771326000@norwinpubliclibrary.net
SUMMARY:Move and Groove
DESCRIPTION:Bring in your babies and toddlers as we engage in songs\, stories\, fingerplays\, motion\, and play time together. \nProgram designed for children ages 0 – 2.5. \nNo registration needed. \nPlease bring your child’s favorite blanket or pillow as we will be on the floor.
URL:https://norwinpubliclibrary.net/event/move-and-groove/2026-02-17/
LOCATION:Norwin Library Community Room\, 100 Caruthers Lane\, Irwin\, PA\, 15642\, United States
CATEGORIES:Just4Kids,Storytime
ATTACH;FMTTYPE=image/jpeg:https://norwinpubliclibrary.net/wp-content/uploads/2024/01/Baby-storytime.jpeg
ORGANIZER;CN="Melanie Matthews":MAILTO:mmatthews@norwinpubliclibrary.net
END:VEVENT
BEGIN:VEVENT
DTSTART;TZID=America/New_York:20260216T140000
DTEND;TZID=America/New_York:20260216T150000
DTSTAMP:20260422T061620
CREATED:20260206T180027Z
LAST-MODIFIED:20260112T223841Z
UID:10024629-1771250400-1771254000@norwinpubliclibrary.net
SUMMARY:No School Maze Pop-Up
DESCRIPTION:Monday\, Feb. 16 2pm-3pm \n\nGrades K-8 \nNorwin is off this day. \nStop in to get lost in a maze. There will be mazes to build and solve. \nRegistration is required for each kid participating individually here https://forms.gle/tb7N69E6QpTor2YW6
URL:https://norwinpubliclibrary.net/event/no-school-maze-pop-up/
LOCATION:Norwin Library Community Room\, 100 Caruthers Lane\, Irwin\, PA\, 15642\, United States
CATEGORIES:Just4Kids,Library Programs,STEM,Tweens
ATTACH;FMTTYPE=image/webp:https://norwinpubliclibrary.net/wp-content/uploads/2026/01/abstract-seamless-pattern-horizontal-vertical-260nw-2588812833.webp
ORGANIZER;CN="Melanie Matthews":MAILTO:mmatthews@norwinpubliclibrary.net
END:VEVENT
BEGIN:VEVENT
DTSTART;TZID=America/New_York:20260216T110000
DTEND;TZID=America/New_York:20260216T113000
DTSTAMP:20260422T061620
CREATED:20251128T152704Z
LAST-MODIFIED:20260406T171054Z
UID:10024526-1771239600-1771241400@norwinpubliclibrary.net
SUMMARY:Story Time
DESCRIPTION:Join us for stories\, songs and fun every Monday and Thursday at 11am. \nAll ages are welcome! \nNo registration is needed.
URL:https://norwinpubliclibrary.net/event/story-time-10/2026-02-16/
LOCATION:Norwin Children’s Library
CATEGORIES:Just4Kids,Library Programs,Storytime
ATTACH;FMTTYPE=image/jpeg:https://norwinpubliclibrary.net/wp-content/uploads/2023/11/storytimeMT.jpg
ORGANIZER;CN="Melanie Matthews":MAILTO:mmatthews@norwinpubliclibrary.net
END:VEVENT
END:VCALENDAR