BEGIN:VCALENDAR
VERSION:2.0
PRODID:-//Norwin Public Library - ECPv6.15.20//NONSGML v1.0//EN
CALSCALE:GREGORIAN
METHOD:PUBLISH
X-WR-CALNAME:Norwin Public Library
X-ORIGINAL-URL:https://norwinpubliclibrary.net
X-WR-CALDESC:Events for Norwin Public Library
REFRESH-INTERVAL;VALUE=DURATION:PT1H
X-Robots-Tag:noindex
X-PUBLISHED-TTL:PT1H
BEGIN:VTIMEZONE
TZID:America/New_York
BEGIN:DAYLIGHT
TZOFFSETFROM:-0500
TZOFFSETTO:-0400
TZNAME:EDT
DTSTART:20240310T070000
END:DAYLIGHT
BEGIN:STANDARD
TZOFFSETFROM:-0400
TZOFFSETTO:-0500
TZNAME:EST
DTSTART:20241103T060000
END:STANDARD
BEGIN:DAYLIGHT
TZOFFSETFROM:-0500
TZOFFSETTO:-0400
TZNAME:EDT
DTSTART:20250309T070000
END:DAYLIGHT
BEGIN:STANDARD
TZOFFSETFROM:-0400
TZOFFSETTO:-0500
TZNAME:EST
DTSTART:20251102T060000
END:STANDARD
BEGIN:DAYLIGHT
TZOFFSETFROM:-0500
TZOFFSETTO:-0400
TZNAME:EDT
DTSTART:20260308T070000
END:DAYLIGHT
BEGIN:STANDARD
TZOFFSETFROM:-0400
TZOFFSETTO:-0500
TZNAME:EST
DTSTART:20261101T060000
END:STANDARD
END:VTIMEZONE
BEGIN:VEVENT
DTSTART;TZID=America/New_York:20251104T103000
DTEND;TZID=America/New_York:20251104T110000
DTSTAMP:20260423T205748
CREATED:20250724T201814Z
LAST-MODIFIED:20251128T203142Z
UID:10024361-1762252200-1762254000@norwinpubliclibrary.net
SUMMARY:Move and Groove
DESCRIPTION:Bring in your babies and toddlers as we engage in songs\, stories\, fingerplays\, motion\, and play time together. \nProgram designed for children ages 0 – 2.5. \nNo registration needed. \nPlease bring your child’s favorite blanket or pillow as we will be on the floor.
URL:https://norwinpubliclibrary.net/event/move-and-groove/2025-11-04/
LOCATION:Norwin Library Community Room\, 100 Caruthers Lane\, Irwin\, PA\, 15642\, United States
CATEGORIES:Just4Kids,Storytime
ATTACH;FMTTYPE=image/jpeg:https://norwinpubliclibrary.net/wp-content/uploads/2024/01/Baby-storytime.jpeg
ORGANIZER;CN="Melanie Matthews":MAILTO:mmatthews@norwinpubliclibrary.net
END:VEVENT
BEGIN:VEVENT
DTSTART;TZID=America/New_York:20251103T110000
DTEND;TZID=America/New_York:20251103T113000
DTSTAMP:20260423T205748
CREATED:20251128T152704Z
LAST-MODIFIED:20260406T171054Z
UID:10024698-1762167600-1762169400@norwinpubliclibrary.net
SUMMARY:Story Time
DESCRIPTION:Join us for stories\, songs and fun every Monday and Thursday at 11am. \nAll ages are welcome! \nNo registration is needed.
URL:https://norwinpubliclibrary.net/event/story-time-10/2025-11-03/
LOCATION:Norwin Children’s Library
CATEGORIES:Just4Kids,Library Programs,Storytime
ATTACH;FMTTYPE=image/jpeg:https://norwinpubliclibrary.net/wp-content/uploads/2023/11/storytimeMT.jpg
ORGANIZER;CN="Melanie Matthews":MAILTO:mmatthews@norwinpubliclibrary.net
END:VEVENT
BEGIN:VEVENT
DTSTART;TZID=America/New_York:20251103T110000
DTEND;TZID=America/New_York:20251103T113000
DTSTAMP:20260423T205748
CREATED:20251106T200344Z
LAST-MODIFIED:20251106T200438Z
UID:10024422-1762167600-1762169400@norwinpubliclibrary.net
SUMMARY:Story Time
DESCRIPTION:Join us for stories\, songs and fun every Monday and Thursday at 11am. \nAll ages are welcome! \nNo registration is needed.
URL:https://norwinpubliclibrary.net/event/preschool-story-time-4-3/
CATEGORIES:Just4Kids,Library Programs,Storytime
ATTACH;FMTTYPE=image/jpeg:https://norwinpubliclibrary.net/wp-content/uploads/2023/11/storytimeMT.jpg
END:VEVENT
BEGIN:VEVENT
DTSTART;TZID=America/New_York:20251030T110000
DTEND;TZID=America/New_York:20251030T113000
DTSTAMP:20260423T205748
CREATED:20251128T152704Z
LAST-MODIFIED:20260406T171054Z
UID:10024697-1761822000-1761823800@norwinpubliclibrary.net
SUMMARY:Story Time
DESCRIPTION:Join us for stories\, songs and fun every Monday and Thursday at 11am. \nAll ages are welcome! \nNo registration is needed.
URL:https://norwinpubliclibrary.net/event/story-time-10/2025-10-30/
LOCATION:Norwin Children’s Library
CATEGORIES:Just4Kids,Library Programs,Storytime
ATTACH;FMTTYPE=image/jpeg:https://norwinpubliclibrary.net/wp-content/uploads/2023/11/storytimeMT.jpg
ORGANIZER;CN="Melanie Matthews":MAILTO:mmatthews@norwinpubliclibrary.net
END:VEVENT
BEGIN:VEVENT
DTSTART;TZID=America/New_York:20251029T180000
DTEND;TZID=America/New_York:20251029T190000
DTSTAMP:20260423T205748
CREATED:20250925T202811Z
LAST-MODIFIED:20250925T202811Z
UID:10024488-1761760800-1761764400@norwinpubliclibrary.net
SUMMARY:Flight 93 Memorial Presentation
DESCRIPTION:On Tuesday morning\, September 11\, 2001\, the U.S. came under attack. \nBecause of the actions of the 40 passengers and crew aboard Flight 93\, the attack on the U.S. Capitol was thwarted. \nJoin us as a Park Ranger from the Flight 93 National Memorial details the history of that tragic day. \nHe will also highlight the Memorial that is a lasting tribute to the heroes who lost their lives.
URL:https://norwinpubliclibrary.net/event/flight-93-memorial-presentation/
LOCATION:Norwin Library Community Room\, 100 Caruthers Lane\, Irwin\, PA\, 15642\, United States
CATEGORIES:Adult Program,Educational,Library Programs
ATTACH;FMTTYPE=image/jpeg:https://norwinpubliclibrary.net/wp-content/uploads/2025/09/93MEM.jpg
END:VEVENT
BEGIN:VEVENT
DTSTART;TZID=America/New_York:20251028T180000
DTEND;TZID=America/New_York:20251028T190000
DTSTAMP:20260423T205748
CREATED:20250903T165344Z
LAST-MODIFIED:20250929T193738Z
UID:10024408-1761674400-1761678000@norwinpubliclibrary.net
SUMMARY:Halloween Story Walk
DESCRIPTION:This program is FULL.  \nIf you would like to be added to our Wait List please email the following information to mmatthews@norwinpubliclibrary.net If a spot opens up we will notify you: \nProgram Name \nKid’s Name \nParent’s Name \nContact Phone Number \nContact Email \nChild’s Grade
URL:https://norwinpubliclibrary.net/event/halloween-story-walk/
LOCATION:Norwin Library Community Room\, 100 Caruthers Lane\, Irwin\, PA\, 15642\, United States
CATEGORIES:Just4Kids,Library Programs,STEM,Storytime
ATTACH;FMTTYPE=image/jpeg:https://norwinpubliclibrary.net/wp-content/uploads/2025/09/5151148-vector-illustration-happy-halloween-trick-or-treat-enfants-promenade-autour-de-la-maison-toc-a-halloween-gratuit-vectoriel.jpg
ORGANIZER;CN="Melanie Matthews":MAILTO:mmatthews@norwinpubliclibrary.net
END:VEVENT
BEGIN:VEVENT
DTSTART;TZID=America/New_York:20251028T103000
DTEND;TZID=America/New_York:20251028T110000
DTSTAMP:20260423T205748
CREATED:20250724T201814Z
LAST-MODIFIED:20251128T203142Z
UID:10024360-1761647400-1761649200@norwinpubliclibrary.net
SUMMARY:Move and Groove
DESCRIPTION:Bring in your babies and toddlers as we engage in songs\, stories\, fingerplays\, motion\, and play time together. \nProgram designed for children ages 0 – 2.5. \nNo registration needed. \nPlease bring your child’s favorite blanket or pillow as we will be on the floor.
URL:https://norwinpubliclibrary.net/event/move-and-groove/2025-10-28/
LOCATION:Norwin Library Community Room\, 100 Caruthers Lane\, Irwin\, PA\, 15642\, United States
CATEGORIES:Just4Kids,Storytime
ATTACH;FMTTYPE=image/jpeg:https://norwinpubliclibrary.net/wp-content/uploads/2024/01/Baby-storytime.jpeg
ORGANIZER;CN="Melanie Matthews":MAILTO:mmatthews@norwinpubliclibrary.net
END:VEVENT
BEGIN:VEVENT
DTSTART;TZID=America/New_York:20251027T180000
DTEND;TZID=America/New_York:20251027T190000
DTSTAMP:20260423T205749
CREATED:20250903T164439Z
LAST-MODIFIED:20250903T164439Z
UID:10024406-1761588000-1761591600@norwinpubliclibrary.net
SUMMARY:Stranger Things Trivia
DESCRIPTION:Monday\, October 27th at  6pm \nGet ready for the final season by testing your team’s knowledge of the show. \nEach team must consist of the following: \n\n2-6 players\nAt least 1 child (aged 10-17 years old)\nAt least 1 adult (18+ years old)\n\nSmaller teams may be combined with others\, at library’s discretion. \nA Stranger Things prize will be rewarded to the winning team. \nRegistration is required here: https://forms.gle/JG5dZT2WFvErjuRU9
URL:https://norwinpubliclibrary.net/event/stranger-things-trivia/
LOCATION:Norwin Library Community Room\, 100 Caruthers Lane\, Irwin\, PA\, 15642\, United States
CATEGORIES:Just4Kids,Library Programs
ATTACH;FMTTYPE=image/jpeg:https://norwinpubliclibrary.net/wp-content/uploads/2025/09/u5tmm8aks9n41.jpg
ORGANIZER;CN="Melanie Matthews":MAILTO:mmatthews@norwinpubliclibrary.net
END:VEVENT
BEGIN:VEVENT
DTSTART;TZID=America/New_York:20251027T110000
DTEND;TZID=America/New_York:20251027T113000
DTSTAMP:20260423T205749
CREATED:20251128T152704Z
LAST-MODIFIED:20260406T171054Z
UID:10024696-1761562800-1761564600@norwinpubliclibrary.net
SUMMARY:Story Time
DESCRIPTION:Join us for stories\, songs and fun every Monday and Thursday at 11am. \nAll ages are welcome! \nNo registration is needed.
URL:https://norwinpubliclibrary.net/event/story-time-10/2025-10-27/
LOCATION:Norwin Children’s Library
CATEGORIES:Just4Kids,Library Programs,Storytime
ATTACH;FMTTYPE=image/jpeg:https://norwinpubliclibrary.net/wp-content/uploads/2023/11/storytimeMT.jpg
ORGANIZER;CN="Melanie Matthews":MAILTO:mmatthews@norwinpubliclibrary.net
END:VEVENT
BEGIN:VEVENT
DTSTART;TZID=America/New_York:20251023T110000
DTEND;TZID=America/New_York:20251023T113000
DTSTAMP:20260423T205749
CREATED:20251128T152704Z
LAST-MODIFIED:20260406T171054Z
UID:10024695-1761217200-1761219000@norwinpubliclibrary.net
SUMMARY:Story Time
DESCRIPTION:Join us for stories\, songs and fun every Monday and Thursday at 11am. \nAll ages are welcome! \nNo registration is needed.
URL:https://norwinpubliclibrary.net/event/story-time-10/2025-10-23/
LOCATION:Norwin Children’s Library
CATEGORIES:Just4Kids,Library Programs,Storytime
ATTACH;FMTTYPE=image/jpeg:https://norwinpubliclibrary.net/wp-content/uploads/2023/11/storytimeMT.jpg
ORGANIZER;CN="Melanie Matthews":MAILTO:mmatthews@norwinpubliclibrary.net
END:VEVENT
BEGIN:VEVENT
DTSTART;TZID=America/New_York:20251021T103000
DTEND;TZID=America/New_York:20251021T110000
DTSTAMP:20260423T205749
CREATED:20250724T201814Z
LAST-MODIFIED:20251128T203142Z
UID:10024359-1761042600-1761044400@norwinpubliclibrary.net
SUMMARY:Move and Groove
DESCRIPTION:Bring in your babies and toddlers as we engage in songs\, stories\, fingerplays\, motion\, and play time together. \nProgram designed for children ages 0 – 2.5. \nNo registration needed. \nPlease bring your child’s favorite blanket or pillow as we will be on the floor.
URL:https://norwinpubliclibrary.net/event/move-and-groove/2025-10-21/
LOCATION:Norwin Library Community Room\, 100 Caruthers Lane\, Irwin\, PA\, 15642\, United States
CATEGORIES:Just4Kids,Storytime
ATTACH;FMTTYPE=image/jpeg:https://norwinpubliclibrary.net/wp-content/uploads/2024/01/Baby-storytime.jpeg
ORGANIZER;CN="Melanie Matthews":MAILTO:mmatthews@norwinpubliclibrary.net
END:VEVENT
BEGIN:VEVENT
DTSTART;TZID=America/New_York:20251020T110000
DTEND;TZID=America/New_York:20251020T113000
DTSTAMP:20260423T205749
CREATED:20251128T152704Z
LAST-MODIFIED:20260406T171054Z
UID:10024694-1760958000-1760959800@norwinpubliclibrary.net
SUMMARY:Story Time
DESCRIPTION:Join us for stories\, songs and fun every Monday and Thursday at 11am. \nAll ages are welcome! \nNo registration is needed.
URL:https://norwinpubliclibrary.net/event/story-time-10/2025-10-20/
LOCATION:Norwin Children’s Library
CATEGORIES:Just4Kids,Library Programs,Storytime
ATTACH;FMTTYPE=image/jpeg:https://norwinpubliclibrary.net/wp-content/uploads/2023/11/storytimeMT.jpg
ORGANIZER;CN="Melanie Matthews":MAILTO:mmatthews@norwinpubliclibrary.net
END:VEVENT
BEGIN:VEVENT
DTSTART;TZID=America/New_York:20251018T110000
DTEND;TZID=America/New_York:20251018T120000
DTSTAMP:20260423T205749
CREATED:20250903T171527Z
LAST-MODIFIED:20250903T171527Z
UID:10024409-1760785200-1760788800@norwinpubliclibrary.net
SUMMARY:Pittsburgh Polka Party
DESCRIPTION:Saturday\, October 18 at 11 AM \n\nLEARN TO POLKA! (featuring live accordion music with Mary Smaligo) and decorate a Terrible Towel. \nEVENT FOR AGES 5 TO 18\, this is a Children’s Library program. \nAt least one adult will be required to stay with kids ages 8 and under. Adults who would like to stay with kids ages 9 to 18 are welcome as family fun will be had by all. \nRegistration is required as space is limited. Register here: https://forms.gle/SZnEhvhyWBQs7HVo9
URL:https://norwinpubliclibrary.net/event/pittsburgh-polka-party/
LOCATION:Norwin Library Community Room\, 100 Caruthers Lane\, Irwin\, PA\, 15642\, United States
CATEGORIES:Just4Kids,Library Programs
ATTACH;FMTTYPE=image/webp:https://norwinpubliclibrary.net/wp-content/uploads/2025/09/set-vector-illustrations-men-women-260nw-2300151875.webp
ORGANIZER;CN="Karly Kunkle":MAILTO:kkunkle@norwinpubliclibrary.net
END:VEVENT
BEGIN:VEVENT
DTSTART;TZID=America/New_York:20251017T180000
DTEND;TZID=America/New_York:20251017T200000
DTSTAMP:20260423T205749
CREATED:20250918T162219Z
LAST-MODIFIED:20250919T174927Z
UID:10024487-1760724000-1760731200@norwinpubliclibrary.net
SUMMARY:Mystery Night: Murder in a Christmas Carole
DESCRIPTION:It’s Christmas Eve and the party is in full swing\, but Jacob Marley’s ghost returns to declare that he didn’t die from natural causes.  He was murdered.  Help solve the crime before it ruins Christmas
URL:https://norwinpubliclibrary.net/event/mystery-night-murder-in-a-christmas-carole/
LOCATION:Norwin Library Community Room\, 100 Caruthers Lane\, Irwin\, PA\, 15642\, United States
CATEGORIES:Adult Program,Library Programs
ATTACH;FMTTYPE=image/png:https://norwinpubliclibrary.net/wp-content/uploads/2025/09/A-Victorian-style-slide.png
ORGANIZER;CN="Krista Brown":MAILTO:kbrown@norwinpubliclibrary.net
END:VEVENT
BEGIN:VEVENT
DTSTART;TZID=America/New_York:20251016T180000
DTEND;TZID=America/New_York:20251016T190000
DTSTAMP:20260423T205749
CREATED:20250909T234212Z
LAST-MODIFIED:20250913T151810Z
UID:10024486-1760637600-1760641200@norwinpubliclibrary.net
SUMMARY:Civil War Presentation - Story of George Sears Greene
DESCRIPTION:Local social studies teacher\, Mike Giorgianna\, will recount the story of George Sears Greene\, a Union officer who re-entered the army after working as a civilian civil engineer for 25 years prior to the outbreak of war in 1861. \n\n\nHe will focus on Greene’s life prior to the Civil War and the significant role he played at the battles of Antietam and Gettysburg.
URL:https://norwinpubliclibrary.net/event/civil-ware-presentation-story-of-george-sears-greene/
LOCATION:Norwin Library Community Room\, 100 Caruthers Lane\, Irwin\, PA\, 15642\, United States
CATEGORIES:Adult Program,History,Library Programs
ATTACH;FMTTYPE=image/jpeg:https://norwinpubliclibrary.net/wp-content/uploads/2025/09/georgesears.jpg
ORGANIZER;CN="Krista Brown":MAILTO:kbrown@norwinpubliclibrary.net
END:VEVENT
BEGIN:VEVENT
DTSTART;TZID=America/New_York:20251016T110000
DTEND;TZID=America/New_York:20251016T113000
DTSTAMP:20260423T205749
CREATED:20251128T152704Z
LAST-MODIFIED:20260406T171054Z
UID:10024693-1760612400-1760614200@norwinpubliclibrary.net
SUMMARY:Story Time
DESCRIPTION:Join us for stories\, songs and fun every Monday and Thursday at 11am. \nAll ages are welcome! \nNo registration is needed.
URL:https://norwinpubliclibrary.net/event/story-time-10/2025-10-16/
LOCATION:Norwin Children’s Library
CATEGORIES:Just4Kids,Library Programs,Storytime
ATTACH;FMTTYPE=image/jpeg:https://norwinpubliclibrary.net/wp-content/uploads/2023/11/storytimeMT.jpg
ORGANIZER;CN="Melanie Matthews":MAILTO:mmatthews@norwinpubliclibrary.net
END:VEVENT
BEGIN:VEVENT
DTSTART;TZID=America/New_York:20251014T140000
DTEND;TZID=America/New_York:20251014T150000
DTSTAMP:20260423T205749
CREATED:20250909T225302Z
LAST-MODIFIED:20251009T200508Z
UID:10024485-1760450400-1760454000@norwinpubliclibrary.net
SUMMARY:Thomas Edison Center Virtual Tour
DESCRIPTION:More than any other inventor in history\, Thomas Edison is responsible for the technologies that make modern life modern. \nBy the time of his death in 1931\, he held 1\,093 patents covering the creation or refinements of devices in telegraphy and telephony\, electric power generation and lighting\, sound recording\, motion pictures\, storage batteries\, and mining and cement technology. \nTake a Virtual Tour of the Thomas Edison Center at Menlo Park from the comfort of the Norwin Public Library. \n 
URL:https://norwinpubliclibrary.net/event/thomas-edison-center-virtual-tour/
LOCATION:Norwin Library Community Room\, 100 Caruthers Lane\, Irwin\, PA\, 15642\, United States
CATEGORIES:Adult Program,Educational,Library Programs
ATTACH;FMTTYPE=image/jpeg:https://norwinpubliclibrary.net/wp-content/uploads/2025/09/edison.jpg
ORGANIZER;CN="Krista Brown":MAILTO:kbrown@norwinpubliclibrary.net
END:VEVENT
BEGIN:VEVENT
DTSTART;TZID=America/New_York:20251014T103000
DTEND;TZID=America/New_York:20251014T110000
DTSTAMP:20260423T205749
CREATED:20250724T201814Z
LAST-MODIFIED:20251128T203142Z
UID:10024358-1760437800-1760439600@norwinpubliclibrary.net
SUMMARY:Move and Groove
DESCRIPTION:Bring in your babies and toddlers as we engage in songs\, stories\, fingerplays\, motion\, and play time together. \nProgram designed for children ages 0 – 2.5. \nNo registration needed. \nPlease bring your child’s favorite blanket or pillow as we will be on the floor.
URL:https://norwinpubliclibrary.net/event/move-and-groove/2025-10-14/
LOCATION:Norwin Library Community Room\, 100 Caruthers Lane\, Irwin\, PA\, 15642\, United States
CATEGORIES:Just4Kids,Storytime
ATTACH;FMTTYPE=image/jpeg:https://norwinpubliclibrary.net/wp-content/uploads/2024/01/Baby-storytime.jpeg
ORGANIZER;CN="Melanie Matthews":MAILTO:mmatthews@norwinpubliclibrary.net
END:VEVENT
BEGIN:VEVENT
DTSTART;TZID=America/New_York:20251013T110000
DTEND;TZID=America/New_York:20251013T113000
DTSTAMP:20260423T205749
CREATED:20251128T152704Z
LAST-MODIFIED:20260406T171054Z
UID:10024692-1760353200-1760355000@norwinpubliclibrary.net
SUMMARY:Story Time
DESCRIPTION:Join us for stories\, songs and fun every Monday and Thursday at 11am. \nAll ages are welcome! \nNo registration is needed.
URL:https://norwinpubliclibrary.net/event/story-time-10/2025-10-13/
LOCATION:Norwin Children’s Library
CATEGORIES:Just4Kids,Library Programs,Storytime
ATTACH;FMTTYPE=image/jpeg:https://norwinpubliclibrary.net/wp-content/uploads/2023/11/storytimeMT.jpg
ORGANIZER;CN="Melanie Matthews":MAILTO:mmatthews@norwinpubliclibrary.net
END:VEVENT
BEGIN:VEVENT
DTSTART;TZID=America/New_York:20251011T110000
DTEND;TZID=America/New_York:20251011T123000
DTSTAMP:20260423T205749
CREATED:20250903T163432Z
LAST-MODIFIED:20250903T163652Z
UID:10024405-1760180400-1760185800@norwinpubliclibrary.net
SUMMARY:NPL Chess Knights
DESCRIPTION:Saturday\, October 11th at 11am \nGrades K-12th—Parents of kids in K-4th grade are asked to stay. \nJoin us for open chess playing for K-12 graders and their families. There will be assistance from local players to teach you techniques and strategies. Basic chess knowledge is needed. \nRegistration is required\, space is limited. Please register for each kid attending here: https://forms.gle/dHMuo9Gd91gq6mdy9
URL:https://norwinpubliclibrary.net/event/https-forms-gle-8nygfi7qstt6ygem8/
LOCATION:Norwin Library Community Room\, 100 Caruthers Lane\, Irwin\, PA\, 15642\, United States
CATEGORIES:Just4Kids,Library Programs,STEM
ATTACH;FMTTYPE=image/avif:https://norwinpubliclibrary.net/wp-content/uploads/2024/12/chess-banner-with-pieces-white-pawn-queen-background-chess-playing-field-icons-figures-rectangular-web-banner-online-chess-colorful-chess-pieces-cartoon-style-vector-illustration_734900-241.avif
ORGANIZER;CN="Melanie Matthews":MAILTO:mmatthews@norwinpubliclibrary.net
END:VEVENT
BEGIN:VEVENT
DTSTART;TZID=America/New_York:20251009T180000
DTEND;TZID=America/New_York:20251009T190000
DTSTAMP:20260423T205749
CREATED:20250521T142013Z
LAST-MODIFIED:20250521T142013Z
UID:10024179-1760032800-1760036400@norwinpubliclibrary.net
SUMMARY:KnightCrawlers Horror Movie Discussion
DESCRIPTION:A Horror film discussion group. \nKnightCrawlers meets the second Thursday of each month. \nStop in the library or email Sue with any questions.
URL:https://norwinpubliclibrary.net/event/knightcrawlers-horror-movie-discussion-2/2025-10-09/
LOCATION:Norwin Public Library\, 100 Caruthers Lane\, Irwin\, PA\, 15642
CATEGORIES:Adult Program,Film Study,Library Programs
ATTACH;FMTTYPE=image/jpeg:https://norwinpubliclibrary.net/wp-content/uploads/2023/01/knightcrawlers-1-e1690490532810.jpg
ORGANIZER;CN="Sue Schultheis":MAILTO:sschultheis@norwinpubliclibrary.net
END:VEVENT
BEGIN:VEVENT
DTSTART;TZID=America/New_York:20251009T110000
DTEND;TZID=America/New_York:20251009T113000
DTSTAMP:20260423T205749
CREATED:20251128T152704Z
LAST-MODIFIED:20260406T171054Z
UID:10024691-1760007600-1760009400@norwinpubliclibrary.net
SUMMARY:Story Time
DESCRIPTION:Join us for stories\, songs and fun every Monday and Thursday at 11am. \nAll ages are welcome! \nNo registration is needed.
URL:https://norwinpubliclibrary.net/event/story-time-10/2025-10-09/
LOCATION:Norwin Children’s Library
CATEGORIES:Just4Kids,Library Programs,Storytime
ATTACH;FMTTYPE=image/jpeg:https://norwinpubliclibrary.net/wp-content/uploads/2023/11/storytimeMT.jpg
ORGANIZER;CN="Melanie Matthews":MAILTO:mmatthews@norwinpubliclibrary.net
END:VEVENT
BEGIN:VEVENT
DTSTART;TZID=America/New_York:20251008T180000
DTEND;TZID=America/New_York:20251008T190000
DTSTAMP:20260423T205749
CREATED:20250903T163148Z
LAST-MODIFIED:20250903T163148Z
UID:10024404-1759946400-1759950000@norwinpubliclibrary.net
SUMMARY:Tech Knights
DESCRIPTION:Wednesday\, October 8th at 6pm \nBring in your handheld devices to enjoy some open gaming time and engage with others card collection to look at or trade. Cars can be sports cards\, Pokémon cards\, movie/TV shows\, etc. \nThis session we will also be making a gamed themed Fuse Beads craft. \n1st graders and up! All parents are welcome to stay\, a parent of 1st-4th graders is asked to stay please. \nRegistration is required here: https://forms.gle/8NYGfi7QStT6YGem8
URL:https://norwinpubliclibrary.net/event/tech-knights-4/
LOCATION:Norwin Library Community Room\, 100 Caruthers Lane\, Irwin\, PA\, 15642\, United States
CATEGORIES:Just4Kids,Library Programs,STEM
ATTACH;FMTTYPE=image/jpeg:https://norwinpubliclibrary.net/wp-content/uploads/2024/08/Bundle_Hardware_1.0.jpg
ORGANIZER;CN="Melanie Matthews":MAILTO:mmatthews@norwinpubliclibrary.net
END:VEVENT
BEGIN:VEVENT
DTSTART;TZID=America/New_York:20251007T103000
DTEND;TZID=America/New_York:20251007T110000
DTSTAMP:20260423T205749
CREATED:20250724T201814Z
LAST-MODIFIED:20251128T203142Z
UID:10024357-1759833000-1759834800@norwinpubliclibrary.net
SUMMARY:Move and Groove
DESCRIPTION:Bring in your babies and toddlers as we engage in songs\, stories\, fingerplays\, motion\, and play time together. \nProgram designed for children ages 0 – 2.5. \nNo registration needed. \nPlease bring your child’s favorite blanket or pillow as we will be on the floor.
URL:https://norwinpubliclibrary.net/event/move-and-groove/2025-10-07/
LOCATION:Norwin Library Community Room\, 100 Caruthers Lane\, Irwin\, PA\, 15642\, United States
CATEGORIES:Just4Kids,Storytime
ATTACH;FMTTYPE=image/jpeg:https://norwinpubliclibrary.net/wp-content/uploads/2024/01/Baby-storytime.jpeg
ORGANIZER;CN="Melanie Matthews":MAILTO:mmatthews@norwinpubliclibrary.net
END:VEVENT
BEGIN:VEVENT
DTSTART;TZID=America/New_York:20251006T110000
DTEND;TZID=America/New_York:20251006T113000
DTSTAMP:20260423T205749
CREATED:20251128T152704Z
LAST-MODIFIED:20260406T171054Z
UID:10024690-1759748400-1759750200@norwinpubliclibrary.net
SUMMARY:Story Time
DESCRIPTION:Join us for stories\, songs and fun every Monday and Thursday at 11am. \nAll ages are welcome! \nNo registration is needed.
URL:https://norwinpubliclibrary.net/event/story-time-10/2025-10-06/
LOCATION:Norwin Children’s Library
CATEGORIES:Just4Kids,Library Programs,Storytime
ATTACH;FMTTYPE=image/jpeg:https://norwinpubliclibrary.net/wp-content/uploads/2023/11/storytimeMT.jpg
ORGANIZER;CN="Melanie Matthews":MAILTO:mmatthews@norwinpubliclibrary.net
END:VEVENT
BEGIN:VEVENT
DTSTART;TZID=America/New_York:20251004T140000
DTEND;TZID=America/New_York:20251004T150000
DTSTAMP:20260423T205749
CREATED:20250903T160008Z
LAST-MODIFIED:20250903T165540Z
UID:10024403-1759586400-1759590000@norwinpubliclibrary.net
SUMMARY:In My Swiftie Era
DESCRIPTION:Saturday\, October 4th at 2pm \nExplore all the Eras of Taylor Swift as we celebrate the release of her latest album. There will be several Swiftie themed activities for all aged fans to enjoy together. \nFeel free to come dressed in your Taylor Swift attire or in your favorite Eras design. \nAll ages welcome. Activities are hands on and geared towards Taylor Swift aged fans\, meaning tweens and teens. \nParents are welcome to stay and participate\, a parent of a child 8 years old or younger is asked to stay please. \nRegistration is required for each child coming to participate\, no matter the age. Please register here: https://forms.gle/WxhcR7vEEHzx7JBbA \nThis is a Children’s Library program. 
URL:https://norwinpubliclibrary.net/event/in-my-swiftie-era/
LOCATION:Norwin Library Community Room\, 100 Caruthers Lane\, Irwin\, PA\, 15642\, United States
CATEGORIES:Just4Kids,Library Programs
ATTACH;FMTTYPE=image/gif:https://norwinpubliclibrary.net/wp-content/uploads/2025/09/44346.gif
ORGANIZER;CN="Melanie Matthews":MAILTO:mmatthews@norwinpubliclibrary.net
END:VEVENT
BEGIN:VEVENT
DTSTART;TZID=America/New_York:20251002T173000
DTEND;TZID=America/New_York:20251002T183000
DTSTAMP:20260423T205749
CREATED:20250903T164704Z
LAST-MODIFIED:20250903T164704Z
UID:10024407-1759426200-1759429800@norwinpubliclibrary.net
SUMMARY:Block Party
DESCRIPTION:Thursday\, October 2nd at 5:30pm \nOpen play for littles aged 1-6 to come and create with their imagination with a variety of our toys. \nParents and older siblings stay & play! \nNo Registration needed.
URL:https://norwinpubliclibrary.net/event/block-party-12/
LOCATION:Norwin Library Community Room\, 100 Caruthers Lane\, Irwin\, PA\, 15642\, United States
CATEGORIES:Just4Kids,Library Programs,STEM
ATTACH;FMTTYPE=image/jpeg:https://norwinpubliclibrary.net/wp-content/uploads/2023/09/images.jpeg
ORGANIZER;CN="Melanie Matthews":MAILTO:mmatthews@norwinpubliclibrary.net
END:VEVENT
BEGIN:VEVENT
DTSTART;TZID=America/New_York:20251002T110000
DTEND;TZID=America/New_York:20251002T113000
DTSTAMP:20260423T205749
CREATED:20251128T152704Z
LAST-MODIFIED:20260406T171054Z
UID:10024689-1759402800-1759404600@norwinpubliclibrary.net
SUMMARY:Story Time
DESCRIPTION:Join us for stories\, songs and fun every Monday and Thursday at 11am. \nAll ages are welcome! \nNo registration is needed.
URL:https://norwinpubliclibrary.net/event/story-time-10/2025-10-02/
LOCATION:Norwin Children’s Library
CATEGORIES:Just4Kids,Library Programs,Storytime
ATTACH;FMTTYPE=image/jpeg:https://norwinpubliclibrary.net/wp-content/uploads/2023/11/storytimeMT.jpg
ORGANIZER;CN="Melanie Matthews":MAILTO:mmatthews@norwinpubliclibrary.net
END:VEVENT
BEGIN:VEVENT
DTSTART;TZID=America/New_York:20251001T183000
DTEND;TZID=America/New_York:20251001T193000
DTSTAMP:20260423T205749
CREATED:20250903T204040Z
LAST-MODIFIED:20250924T162907Z
UID:10024484-1759343400-1759347000@norwinpubliclibrary.net
SUMMARY:Pet Care with St. Frances Animal Hospital
DESCRIPTION:Our friends from St. Francis Animal Hospital will be stopping by the Norwin Public Library to give us some and tips and best practices when caring for your furry (or not so furry) friend.
URL:https://norwinpubliclibrary.net/event/pet-care-with-st-frances-animal-hospital/
LOCATION:Norwin Library Community Room\, 100 Caruthers Lane\, Irwin\, PA\, 15642\, United States
CATEGORIES:Adult Program,Educational,Library Programs
ATTACH;FMTTYPE=image/jpeg:https://norwinpubliclibrary.net/wp-content/uploads/2025/09/petcare.jpg
ORGANIZER;CN="Krista Brown":MAILTO:kbrown@norwinpubliclibrary.net
END:VEVENT
BEGIN:VEVENT
DTSTART;TZID=America/New_York:20250930T103000
DTEND;TZID=America/New_York:20250930T110000
DTSTAMP:20260423T205749
CREATED:20250724T201814Z
LAST-MODIFIED:20251128T203142Z
UID:10024356-1759228200-1759230000@norwinpubliclibrary.net
SUMMARY:Move and Groove
DESCRIPTION:Bring in your babies and toddlers as we engage in songs\, stories\, fingerplays\, motion\, and play time together. \nProgram designed for children ages 0 – 2.5. \nNo registration needed. \nPlease bring your child’s favorite blanket or pillow as we will be on the floor.
URL:https://norwinpubliclibrary.net/event/move-and-groove/2025-09-30/
LOCATION:Norwin Library Community Room\, 100 Caruthers Lane\, Irwin\, PA\, 15642\, United States
CATEGORIES:Just4Kids,Storytime
ATTACH;FMTTYPE=image/jpeg:https://norwinpubliclibrary.net/wp-content/uploads/2024/01/Baby-storytime.jpeg
ORGANIZER;CN="Melanie Matthews":MAILTO:mmatthews@norwinpubliclibrary.net
END:VEVENT
END:VCALENDAR