BEGIN:VCALENDAR
VERSION:2.0
PRODID:-//Norwin Public Library - ECPv6.15.20//NONSGML v1.0//EN
CALSCALE:GREGORIAN
METHOD:PUBLISH
X-WR-CALNAME:Norwin Public Library
X-ORIGINAL-URL:https://norwinpubliclibrary.net
X-WR-CALDESC:Events for Norwin Public Library
REFRESH-INTERVAL;VALUE=DURATION:PT1H
X-Robots-Tag:noindex
X-PUBLISHED-TTL:PT1H
BEGIN:VTIMEZONE
TZID:America/New_York
BEGIN:DAYLIGHT
TZOFFSETFROM:-0500
TZOFFSETTO:-0400
TZNAME:EDT
DTSTART:20250309T070000
END:DAYLIGHT
BEGIN:STANDARD
TZOFFSETFROM:-0400
TZOFFSETTO:-0500
TZNAME:EST
DTSTART:20251102T060000
END:STANDARD
BEGIN:DAYLIGHT
TZOFFSETFROM:-0500
TZOFFSETTO:-0400
TZNAME:EDT
DTSTART:20260308T070000
END:DAYLIGHT
BEGIN:STANDARD
TZOFFSETFROM:-0400
TZOFFSETTO:-0500
TZNAME:EST
DTSTART:20261101T060000
END:STANDARD
BEGIN:DAYLIGHT
TZOFFSETFROM:-0500
TZOFFSETTO:-0400
TZNAME:EDT
DTSTART:20270314T070000
END:DAYLIGHT
BEGIN:STANDARD
TZOFFSETFROM:-0400
TZOFFSETTO:-0500
TZNAME:EST
DTSTART:20271107T060000
END:STANDARD
END:VTIMEZONE
BEGIN:VEVENT
DTSTART;TZID=America/New_York:20260428T103000
DTEND;TZID=America/New_York:20260428T110000
DTSTAMP:20260421T140013
CREATED:20250724T201814Z
LAST-MODIFIED:20251128T203142Z
UID:10024386-1777372200-1777374000@norwinpubliclibrary.net
SUMMARY:Move and Groove
DESCRIPTION:Bring in your babies and toddlers as we engage in songs\, stories\, fingerplays\, motion\, and play time together. \nProgram designed for children ages 0 – 2.5. \nNo registration needed. \nPlease bring your child’s favorite blanket or pillow as we will be on the floor.
URL:https://norwinpubliclibrary.net/event/move-and-groove/2026-04-28/
LOCATION:Norwin Library Community Room\, 100 Caruthers Lane\, Irwin\, PA\, 15642\, United States
CATEGORIES:Just4Kids,Storytime
ATTACH;FMTTYPE=image/jpeg:https://norwinpubliclibrary.net/wp-content/uploads/2024/01/Baby-storytime.jpeg
ORGANIZER;CN="Melanie Matthews":MAILTO:mmatthews@norwinpubliclibrary.net
END:VEVENT
BEGIN:VEVENT
DTSTART;TZID=America/New_York:20260427T180000
DTEND;TZID=America/New_York:20260427T190000
DTSTAMP:20260421T140013
CREATED:20260312T183519Z
LAST-MODIFIED:20260401T184136Z
UID:10024657-1777312800-1777316400@norwinpubliclibrary.net
SUMMARY:Cooking Demonstration with Chef G!
DESCRIPTION:Join Chef Greg Nemchick for a cooking demonstration of Lomo Saltado\, a Chinese Peruvian stir-fry dish. \nChef G will guide you through each step\, show proper knife techniques and high-heat cooking methods.
URL:https://norwinpubliclibrary.net/event/cooking-demonstration-with-chef-g/
LOCATION:Norwin Library Community Room\, 100 Caruthers Lane\, Irwin\, PA\, 15642\, United States
CATEGORIES:Adult Program,Educational
ATTACH;FMTTYPE=image/jpeg:https://norwinpubliclibrary.net/wp-content/uploads/2026/03/chefG.jpg
ORGANIZER;CN="Krista Brown":MAILTO:kbrown@norwinpubliclibrary.net
END:VEVENT
BEGIN:VEVENT
DTSTART;TZID=America/New_York:20260427T110000
DTEND;TZID=America/New_York:20260427T113000
DTSTAMP:20260421T140013
CREATED:20251128T152704Z
LAST-MODIFIED:20260406T171054Z
UID:10024546-1777287600-1777289400@norwinpubliclibrary.net
SUMMARY:Story Time
DESCRIPTION:Join us for stories\, songs and fun every Monday and Thursday at 11am. \nAll ages are welcome! \nNo registration is needed.
URL:https://norwinpubliclibrary.net/event/story-time-10/2026-04-27/
LOCATION:Norwin Children’s Library
CATEGORIES:Just4Kids,Library Programs,Storytime
ATTACH;FMTTYPE=image/jpeg:https://norwinpubliclibrary.net/wp-content/uploads/2023/11/storytimeMT.jpg
ORGANIZER;CN="Melanie Matthews":MAILTO:mmatthews@norwinpubliclibrary.net
END:VEVENT
BEGIN:VEVENT
DTSTART;TZID=America/New_York:20260425T140000
DTEND;TZID=America/New_York:20260425T150000
DTSTAMP:20260421T140013
CREATED:20260228T155654Z
LAST-MODIFIED:20260228T155654Z
UID:10024648-1777125600-1777129200@norwinpubliclibrary.net
SUMMARY:Knight Writers
DESCRIPTION:April 25th at 2pm at the Norwin Public Library \nWith Westmoreland Writers Wolf Pack \nFor Ages 8-10 \nIn these session the children will learn a deeper understanding of the craft of storytelling. This knowledge will be put to use through prompt guided writing sprints encouraging each child to flex their creative muscles and put pen to paper creating a short written story. \nParticipants do not need to attend all 3 sessions (happening on 4/18\, 4/25 & 5/16)\, but it will be more beneficial if they can. \nSpace is very limited. Registration is required for each kid participating individually here: https://forms.gle/My2tQQywJNE7RwiE7
URL:https://norwinpubliclibrary.net/event/knight-writers-5/
LOCATION:Norwin Library Community Room\, 100 Caruthers Lane\, Irwin\, PA\, 15642\, United States
CATEGORIES:Educational,Just4Kids,Library Programs
ATTACH;FMTTYPE=image/webp:https://norwinpubliclibrary.net/wp-content/uploads/2025/12/writing-school-kids-text-banner-260nw-2001577175.webp
ORGANIZER;CN="Melanie Matthews":MAILTO:mmatthews@norwinpubliclibrary.net
END:VEVENT
BEGIN:VEVENT
DTSTART;TZID=America/New_York:20260425T100000
DTEND;TZID=America/New_York:20260425T160000
DTSTAMP:20260421T140013
CREATED:20260409T193513Z
LAST-MODIFIED:20260409T193513Z
UID:10024778-1777111200-1777132800@norwinpubliclibrary.net
SUMMARY:Book Sale Wednesday Apr 22nd & Saturday Apr 25th
DESCRIPTION:The Friends of the Norwin Library will be holding a book sale on Wednesday April 22nd from 10 am – 6 pm and Saturday\, April 25th from 10 am – 4 pm. \nThe book sale will be held in the Norwin Library lower level. Parking on the lower parking lot is advised.
URL:https://norwinpubliclibrary.net/event/book-sale-wednesday-apr-22nd-saturday-apr-25th/2026-04-25/
LOCATION:Norwin Library Lower Level\, 100 Caruthers Lane\, Irwin\, PA\, 15642\, United States
CATEGORIES:Book Sales,Friends of the Library
ATTACH;FMTTYPE=image/jpeg:https://norwinpubliclibrary.net/wp-content/uploads/2026/04/bsalewedsat.jpg
ORGANIZER;CN="Diana Falk":MAILTO:dfalk@norwinpubliclibrary.net
END:VEVENT
BEGIN:VEVENT
DTSTART;TZID=America/New_York:20260423T180000
DTEND;TZID=America/New_York:20260423T190000
DTSTAMP:20260421T140013
CREATED:20260128T150554Z
LAST-MODIFIED:20260418T191559Z
UID:10024638-1776967200-1776970800@norwinpubliclibrary.net
SUMMARY:Hannastown History!
DESCRIPTION:Did you know Hannastown was once the seat of government for Westmoreland County and the first courthouse was in a tavern?  \nHistorian and history teacher Mike Giorgianni gives us a bit of the astonishing history of Hannastown.
URL:https://norwinpubliclibrary.net/event/hannastown-history/
LOCATION:Norwin Library Community Room\, 100 Caruthers Lane\, Irwin\, PA\, 15642\, United States
CATEGORIES:Adult Program,Educational,History,Library Programs
ATTACH;FMTTYPE=image/jpeg:https://norwinpubliclibrary.net/wp-content/uploads/2026/01/hannastown.jpg
ORGANIZER;CN="Krista Brown":MAILTO:kbrown@norwinpubliclibrary.net
END:VEVENT
BEGIN:VEVENT
DTSTART;TZID=America/New_York:20260423T110000
DTEND;TZID=America/New_York:20260423T113000
DTSTAMP:20260421T140013
CREATED:20251128T152704Z
LAST-MODIFIED:20260406T171054Z
UID:10024545-1776942000-1776943800@norwinpubliclibrary.net
SUMMARY:Story Time
DESCRIPTION:Join us for stories\, songs and fun every Monday and Thursday at 11am. \nAll ages are welcome! \nNo registration is needed.
URL:https://norwinpubliclibrary.net/event/story-time-10/2026-04-23/
LOCATION:Norwin Children’s Library
CATEGORIES:Just4Kids,Library Programs,Storytime
ATTACH;FMTTYPE=image/jpeg:https://norwinpubliclibrary.net/wp-content/uploads/2023/11/storytimeMT.jpg
ORGANIZER;CN="Melanie Matthews":MAILTO:mmatthews@norwinpubliclibrary.net
END:VEVENT
BEGIN:VEVENT
DTSTART;TZID=America/New_York:20260422T133000
DTEND;TZID=America/New_York:20260422T143000
DTSTAMP:20260421T140013
CREATED:20260305T144557Z
LAST-MODIFIED:20260406T212256Z
UID:10024654-1776864600-1776868200@norwinpubliclibrary.net
SUMMARY:SPAM Museum - A Virtual Tour
DESCRIPTION:Come for a tour of the SPAM Museum. \nLocated in Minnesota\, Spambassadors (get it?) will guide us through the exhibits and teach us about the history of this iconic American product. \nDuring WWII\, over 100 million cans were sent overseas and kept American troops fed.
URL:https://norwinpubliclibrary.net/event/spam-museum-a-virtual-tour/
LOCATION:Norwin Library Community Room\, 100 Caruthers Lane\, Irwin\, PA\, 15642\, United States
CATEGORIES:Adult Program,Library Programs
ATTACH;FMTTYPE=image/jpeg:https://norwinpubliclibrary.net/wp-content/uploads/2024/08/Spam-1-conv.jpeg
ORGANIZER;CN="Krista Brown":MAILTO:kbrown@norwinpubliclibrary.net
END:VEVENT
BEGIN:VEVENT
DTSTART;TZID=America/New_York:20260422T100000
DTEND;TZID=America/New_York:20260422T180000
DTSTAMP:20260421T140013
CREATED:20260409T193513Z
LAST-MODIFIED:20260409T193513Z
UID:10024777-1776852000-1776880800@norwinpubliclibrary.net
SUMMARY:Book Sale Wednesday Apr 22nd & Saturday Apr 25th
DESCRIPTION:The Friends of the Norwin Library will be holding a book sale on Wednesday April 22nd from 10 am – 6 pm and Saturday\, April 25th from 10 am – 4 pm. \nThe book sale will be held in the Norwin Library lower level. Parking on the lower parking lot is advised.
URL:https://norwinpubliclibrary.net/event/book-sale-wednesday-apr-22nd-saturday-apr-25th/2026-04-22/
LOCATION:Norwin Library Lower Level\, 100 Caruthers Lane\, Irwin\, PA\, 15642\, United States
CATEGORIES:Book Sales,Friends of the Library
ATTACH;FMTTYPE=image/jpeg:https://norwinpubliclibrary.net/wp-content/uploads/2026/04/bsalewedsat.jpg
ORGANIZER;CN="Diana Falk":MAILTO:dfalk@norwinpubliclibrary.net
END:VEVENT
BEGIN:VEVENT
DTSTART;TZID=America/New_York:20260421T103000
DTEND;TZID=America/New_York:20260421T110000
DTSTAMP:20260421T140013
CREATED:20250724T201814Z
LAST-MODIFIED:20251128T203142Z
UID:10024385-1776767400-1776769200@norwinpubliclibrary.net
SUMMARY:Move and Groove
DESCRIPTION:Bring in your babies and toddlers as we engage in songs\, stories\, fingerplays\, motion\, and play time together. \nProgram designed for children ages 0 – 2.5. \nNo registration needed. \nPlease bring your child’s favorite blanket or pillow as we will be on the floor.
URL:https://norwinpubliclibrary.net/event/move-and-groove/2026-04-21/
LOCATION:Norwin Library Community Room\, 100 Caruthers Lane\, Irwin\, PA\, 15642\, United States
CATEGORIES:Just4Kids,Storytime
ATTACH;FMTTYPE=image/jpeg:https://norwinpubliclibrary.net/wp-content/uploads/2024/01/Baby-storytime.jpeg
ORGANIZER;CN="Melanie Matthews":MAILTO:mmatthews@norwinpubliclibrary.net
END:VEVENT
BEGIN:VEVENT
DTSTART;TZID=America/New_York:20260420T180000
DTEND;TZID=America/New_York:20260420T190000
DTSTAMP:20260421T140013
CREATED:20260228T160301Z
LAST-MODIFIED:20260228T160301Z
UID:10024651-1776708000-1776711600@norwinpubliclibrary.net
SUMMARY:Stuffies Night Out
DESCRIPTION:Monday\, AprIl 20th at 6pm  \nTheme: Down On The Farm \nBring in your favorite snuggly friend for a fun evening at the library. We will have fun games\, activities and time to read your favorite bedtime story. \nAll ages are welcome with activities and stories geared for Pre-K and up kids.\nFeel free to come dressed in your pajamas. \nRegistration is required for each kid participating individually below: https://forms.gle/RbkGvjig6fwuGztt7
URL:https://norwinpubliclibrary.net/event/stuffies-night-out-9/
LOCATION:Norwin Library Community Room\, 100 Caruthers Lane\, Irwin\, PA\, 15642\, United States
CATEGORIES:Educational,Just4Kids,Library Programs
ATTACH;FMTTYPE=image/jpeg:https://norwinpubliclibrary.net/wp-content/uploads/2026/02/adorable-piglets-sleeping-in-barn-straw-farm-animals-and-agriculture-photo.jpg
ORGANIZER;CN="Melanie Matthews":MAILTO:mmatthews@norwinpubliclibrary.net
END:VEVENT
BEGIN:VEVENT
DTSTART;TZID=America/New_York:20260420T110000
DTEND;TZID=America/New_York:20260420T113000
DTSTAMP:20260421T140013
CREATED:20251128T152704Z
LAST-MODIFIED:20260406T171054Z
UID:10024544-1776682800-1776684600@norwinpubliclibrary.net
SUMMARY:Story Time
DESCRIPTION:Join us for stories\, songs and fun every Monday and Thursday at 11am. \nAll ages are welcome! \nNo registration is needed.
URL:https://norwinpubliclibrary.net/event/story-time-10/2026-04-20/
LOCATION:Norwin Children’s Library
CATEGORIES:Just4Kids,Library Programs,Storytime
ATTACH;FMTTYPE=image/jpeg:https://norwinpubliclibrary.net/wp-content/uploads/2023/11/storytimeMT.jpg
ORGANIZER;CN="Melanie Matthews":MAILTO:mmatthews@norwinpubliclibrary.net
END:VEVENT
BEGIN:VEVENT
DTSTART;TZID=America/New_York:20260418T140000
DTEND;TZID=America/New_York:20260418T150000
DTSTAMP:20260421T140013
CREATED:20260228T155245Z
LAST-MODIFIED:20260228T155245Z
UID:10024647-1776520800-1776524400@norwinpubliclibrary.net
SUMMARY:Knight Writers
DESCRIPTION:April 18th at 2pm at the Norwin Public Library \nWith Westmoreland Writers Wolf Pack\n\n \n\nFor Ages 8-10 \nIn these session the children will learn a deeper understanding of the craft of storytelling. This knowledge will be put to use through prompt guided writing sprints encouraging each child to flex their creative muscles and put pen to paper creating a short written story. \nParticipants do not need to attend all 3 sessions (happening on 4/18\, 4/25 & 5/16)\, but it will be more beneficial if they can. \nSpace is very limited. Registration is required for each kid participating individually here: https://forms.gle/YYCHpGswJbhLxihx5
URL:https://norwinpubliclibrary.net/event/knight-writers-4/
LOCATION:Norwin Library Community Room\, 100 Caruthers Lane\, Irwin\, PA\, 15642\, United States
CATEGORIES:Educational,Just4Kids,Library Programs
ATTACH;FMTTYPE=image/webp:https://norwinpubliclibrary.net/wp-content/uploads/2025/12/writing-school-kids-text-banner-260nw-2001577175.webp
ORGANIZER;CN="Melanie Matthews":MAILTO:mmatthews@norwinpubliclibrary.net
END:VEVENT
BEGIN:VEVENT
DTSTART;TZID=America/New_York:20260418T110000
DTEND;TZID=America/New_York:20260418T120000
DTSTAMP:20260421T140013
CREATED:20260228T160033Z
LAST-MODIFIED:20260228T160033Z
UID:10024650-1776510000-1776513600@norwinpubliclibrary.net
SUMMARY:NPL Chess Knights
DESCRIPTION:Saturday\, April 18th at 11am  \nGrades K-12th \nJoin us for open chess playing for K-12 graders and their families. There will be volunteers present to answer your chess questions. \n\nBasic chess knowledge is needed. This is our last session until the fall.\n \nRegistration is required for each kid participating individually below: https://forms.gle/qQXaeodAcNc69NtX7
URL:https://norwinpubliclibrary.net/event/npl-chess-knights-5/
LOCATION:Norwin Library Community Room\, 100 Caruthers Lane\, Irwin\, PA\, 15642\, United States
CATEGORIES:Just4Kids,Library Programs,STEM,Teens,Tweens
ATTACH;FMTTYPE=image/webp:https://norwinpubliclibrary.net/wp-content/uploads/2025/12/chess-banner-chess-tournament-poster-international-chess-day-illustration-ai-generated-chess-banner-chess-383331139.webp
ORGANIZER;CN="Melanie Matthews":MAILTO:mmatthews@norwinpubliclibrary.net
END:VEVENT
BEGIN:VEVENT
DTSTART;TZID=America/New_York:20260416T180000
DTEND;TZID=America/New_York:20260416T190000
DTSTAMP:20260421T140013
CREATED:20260228T154947Z
LAST-MODIFIED:20260228T154947Z
UID:10024646-1776362400-1776366000@norwinpubliclibrary.net
SUMMARY:Who Are Our Native Bees?
DESCRIPTION:Thursday\, April 16th at 6pm  \nJoin PA Naturalist as we learn about who the native bees are to the area and why we need to save them. This program will be presented with a craft and interactive puppet show. It is sure to be a BUZZZZING good time. \n\n\nProgram is for ages 5-12. Space is limited. \nRegistration is required for each kid participating individually here: https://forms.gle/yHgK9cWGjWV6ZWag9
URL:https://norwinpubliclibrary.net/event/who-are-our-native-bees/
LOCATION:Norwin Library Community Room\, 100 Caruthers Lane\, Irwin\, PA\, 15642\, United States
CATEGORIES:Just4Kids,Library Programs,STEM
ATTACH;FMTTYPE=image/jpeg:https://norwinpubliclibrary.net/wp-content/uploads/2026/02/bees_banner.jpg
ORGANIZER;CN="Melanie Matthews":MAILTO:mmatthews@norwinpubliclibrary.net
END:VEVENT
BEGIN:VEVENT
DTSTART;TZID=America/New_York:20260416T110000
DTEND;TZID=America/New_York:20260416T113000
DTSTAMP:20260421T140013
CREATED:20251128T152704Z
LAST-MODIFIED:20260406T171054Z
UID:10024543-1776337200-1776339000@norwinpubliclibrary.net
SUMMARY:Story Time
DESCRIPTION:Join us for stories\, songs and fun every Monday and Thursday at 11am. \nAll ages are welcome! \nNo registration is needed.
URL:https://norwinpubliclibrary.net/event/story-time-10/2026-04-16/
LOCATION:Norwin Children’s Library
CATEGORIES:Just4Kids,Library Programs,Storytime
ATTACH;FMTTYPE=image/jpeg:https://norwinpubliclibrary.net/wp-content/uploads/2023/11/storytimeMT.jpg
ORGANIZER;CN="Melanie Matthews":MAILTO:mmatthews@norwinpubliclibrary.net
END:VEVENT
BEGIN:VEVENT
DTSTART;TZID=America/New_York:20260414T103000
DTEND;TZID=America/New_York:20260414T110000
DTSTAMP:20260421T140013
CREATED:20250724T201814Z
LAST-MODIFIED:20251128T203142Z
UID:10024384-1776162600-1776164400@norwinpubliclibrary.net
SUMMARY:Move and Groove
DESCRIPTION:Bring in your babies and toddlers as we engage in songs\, stories\, fingerplays\, motion\, and play time together. \nProgram designed for children ages 0 – 2.5. \nNo registration needed. \nPlease bring your child’s favorite blanket or pillow as we will be on the floor.
URL:https://norwinpubliclibrary.net/event/move-and-groove/2026-04-14/
LOCATION:Norwin Library Community Room\, 100 Caruthers Lane\, Irwin\, PA\, 15642\, United States
CATEGORIES:Just4Kids,Storytime
ATTACH;FMTTYPE=image/jpeg:https://norwinpubliclibrary.net/wp-content/uploads/2024/01/Baby-storytime.jpeg
ORGANIZER;CN="Melanie Matthews":MAILTO:mmatthews@norwinpubliclibrary.net
END:VEVENT
BEGIN:VEVENT
DTSTART;TZID=America/New_York:20260413T110000
DTEND;TZID=America/New_York:20260413T113000
DTSTAMP:20260421T140013
CREATED:20251128T152704Z
LAST-MODIFIED:20260406T171054Z
UID:10024542-1776078000-1776079800@norwinpubliclibrary.net
SUMMARY:Story Time
DESCRIPTION:Join us for stories\, songs and fun every Monday and Thursday at 11am. \nAll ages are welcome! \nNo registration is needed.
URL:https://norwinpubliclibrary.net/event/story-time-10/2026-04-13/
LOCATION:Norwin Children’s Library
CATEGORIES:Just4Kids,Library Programs,Storytime
ATTACH;FMTTYPE=image/jpeg:https://norwinpubliclibrary.net/wp-content/uploads/2023/11/storytimeMT.jpg
ORGANIZER;CN="Melanie Matthews":MAILTO:mmatthews@norwinpubliclibrary.net
END:VEVENT
BEGIN:VEVENT
DTSTART;TZID=America/New_York:20260409T180000
DTEND;TZID=America/New_York:20260409T190000
DTSTAMP:20260421T140013
CREATED:20260312T221815Z
LAST-MODIFIED:20260312T221952Z
UID:10024185-1775757600-1775761200@norwinpubliclibrary.net
SUMMARY:KnightCrawlers Horror Movie Discussion
DESCRIPTION:A Horror film discussion group. \nKnightCrawlers meets the second Thursday of each month. \nStop in the library or email Sue with any questions.
URL:https://norwinpubliclibrary.net/event/knightcrawlers-horror-movie-discussion-2-2/2026-04-09/
LOCATION:Norwin Public Library\, 100 Caruthers Lane\, Irwin\, PA\, 15642
CATEGORIES:Adult Program,Film Study,Library Programs
ATTACH;FMTTYPE=image/jpeg:https://norwinpubliclibrary.net/wp-content/uploads/2023/01/knightcrawlers-1-e1690490532810.jpg
ORGANIZER;CN="Sue Schultheis":MAILTO:sschultheis@norwinpubliclibrary.net
END:VEVENT
BEGIN:VEVENT
DTSTART;TZID=America/New_York:20260409T110000
DTEND;TZID=America/New_York:20260409T113000
DTSTAMP:20260421T140013
CREATED:20251128T152704Z
LAST-MODIFIED:20260406T171054Z
UID:10024541-1775732400-1775734200@norwinpubliclibrary.net
SUMMARY:Story Time
DESCRIPTION:Join us for stories\, songs and fun every Monday and Thursday at 11am. \nAll ages are welcome! \nNo registration is needed.
URL:https://norwinpubliclibrary.net/event/story-time-10/2026-04-09/
LOCATION:Norwin Children’s Library
CATEGORIES:Just4Kids,Library Programs,Storytime
ATTACH;FMTTYPE=image/jpeg:https://norwinpubliclibrary.net/wp-content/uploads/2023/11/storytimeMT.jpg
ORGANIZER;CN="Melanie Matthews":MAILTO:mmatthews@norwinpubliclibrary.net
END:VEVENT
BEGIN:VEVENT
DTSTART;TZID=America/New_York:20260407T103000
DTEND;TZID=America/New_York:20260407T110000
DTSTAMP:20260421T140013
CREATED:20250724T201814Z
LAST-MODIFIED:20251128T203142Z
UID:10024383-1775557800-1775559600@norwinpubliclibrary.net
SUMMARY:Move and Groove
DESCRIPTION:Bring in your babies and toddlers as we engage in songs\, stories\, fingerplays\, motion\, and play time together. \nProgram designed for children ages 0 – 2.5. \nNo registration needed. \nPlease bring your child’s favorite blanket or pillow as we will be on the floor.
URL:https://norwinpubliclibrary.net/event/move-and-groove/2026-04-07/
LOCATION:Norwin Library Community Room\, 100 Caruthers Lane\, Irwin\, PA\, 15642\, United States
CATEGORIES:Just4Kids,Storytime
ATTACH;FMTTYPE=image/jpeg:https://norwinpubliclibrary.net/wp-content/uploads/2024/01/Baby-storytime.jpeg
ORGANIZER;CN="Melanie Matthews":MAILTO:mmatthews@norwinpubliclibrary.net
END:VEVENT
BEGIN:VEVENT
DTSTART;TZID=America/New_York:20260406T110000
DTEND;TZID=America/New_York:20260406T120000
DTSTAMP:20260421T140013
CREATED:20260304T185538Z
LAST-MODIFIED:20260322T122155Z
UID:10024653-1775473200-1775476800@norwinpubliclibrary.net
SUMMARY:Sgt. Bauer & Ceco
DESCRIPTION:This program is full. Thank you. \n  \nMonday\, April 6th at 11am \n\nJoin the library as we welcome Sergeant Bauer and her K-9 partner\, Ceco. We will be having a special Story Time with the Children’s Library\, followed by our special guests. There will be a great time to laugh and learn with Ceco. \nThis special Story Time does require registration to attend. \nRegistration is required for each kid participating individually here\, no matter the age: https://forms.gle/furYjEpHUZhtCYiP8
URL:https://norwinpubliclibrary.net/event/sgt-bauer-ceco/
LOCATION:Norwin Library Community Room\, 100 Caruthers Lane\, Irwin\, PA\, 15642\, United States
CATEGORIES:Just4Kids,Library Programs,Storytime
ATTACH;FMTTYPE=image/jpeg:https://norwinpubliclibrary.net/wp-content/uploads/2026/03/622910492_1229378802658337_4045946486050195622_n.jpg
ORGANIZER;CN="Melanie Matthews":MAILTO:mmatthews@norwinpubliclibrary.net
END:VEVENT
BEGIN:VEVENT
DTSTART;TZID=America/New_York:20260406T110000
DTEND;TZID=America/New_York:20260406T113000
DTSTAMP:20260421T140013
CREATED:20251128T152704Z
LAST-MODIFIED:20260406T171054Z
UID:10024540-1775473200-1775475000@norwinpubliclibrary.net
SUMMARY:Story Time
DESCRIPTION:Join us for stories\, songs and fun every Monday and Thursday at 11am. \nAll ages are welcome! \nNo registration is needed.
URL:https://norwinpubliclibrary.net/event/story-time-10/2026-04-06/
LOCATION:Norwin Children’s Library
CATEGORIES:Just4Kids,Library Programs,Storytime
ATTACH;FMTTYPE=image/jpeg:https://norwinpubliclibrary.net/wp-content/uploads/2023/11/storytimeMT.jpg
ORGANIZER;CN="Melanie Matthews":MAILTO:mmatthews@norwinpubliclibrary.net
END:VEVENT
BEGIN:VEVENT
DTSTART;TZID=America/New_York:20260402T110000
DTEND;TZID=America/New_York:20260402T113000
DTSTAMP:20260421T140013
CREATED:20251128T152704Z
LAST-MODIFIED:20260406T171054Z
UID:10024539-1775127600-1775129400@norwinpubliclibrary.net
SUMMARY:Story Time
DESCRIPTION:Join us for stories\, songs and fun every Monday and Thursday at 11am. \nAll ages are welcome! \nNo registration is needed.
URL:https://norwinpubliclibrary.net/event/story-time-10/2026-04-02/
LOCATION:Norwin Children’s Library
CATEGORIES:Just4Kids,Library Programs,Storytime
ATTACH;FMTTYPE=image/jpeg:https://norwinpubliclibrary.net/wp-content/uploads/2023/11/storytimeMT.jpg
ORGANIZER;CN="Melanie Matthews":MAILTO:mmatthews@norwinpubliclibrary.net
END:VEVENT
BEGIN:VEVENT
DTSTART;TZID=America/New_York:20260331T103000
DTEND;TZID=America/New_York:20260331T110000
DTSTAMP:20260421T140013
CREATED:20250724T201814Z
LAST-MODIFIED:20251128T203142Z
UID:10024382-1774953000-1774954800@norwinpubliclibrary.net
SUMMARY:Move and Groove
DESCRIPTION:Bring in your babies and toddlers as we engage in songs\, stories\, fingerplays\, motion\, and play time together. \nProgram designed for children ages 0 – 2.5. \nNo registration needed. \nPlease bring your child’s favorite blanket or pillow as we will be on the floor.
URL:https://norwinpubliclibrary.net/event/move-and-groove/2026-03-31/
LOCATION:Norwin Library Community Room\, 100 Caruthers Lane\, Irwin\, PA\, 15642\, United States
CATEGORIES:Just4Kids,Storytime
ATTACH;FMTTYPE=image/jpeg:https://norwinpubliclibrary.net/wp-content/uploads/2024/01/Baby-storytime.jpeg
ORGANIZER;CN="Melanie Matthews":MAILTO:mmatthews@norwinpubliclibrary.net
END:VEVENT
BEGIN:VEVENT
DTSTART;TZID=America/New_York:20260330T110000
DTEND;TZID=America/New_York:20260330T113000
DTSTAMP:20260421T140013
CREATED:20251128T152704Z
LAST-MODIFIED:20260406T171054Z
UID:10024538-1774868400-1774870200@norwinpubliclibrary.net
SUMMARY:Story Time
DESCRIPTION:Join us for stories\, songs and fun every Monday and Thursday at 11am. \nAll ages are welcome! \nNo registration is needed.
URL:https://norwinpubliclibrary.net/event/story-time-10/2026-03-30/
LOCATION:Norwin Children’s Library
CATEGORIES:Just4Kids,Library Programs,Storytime
ATTACH;FMTTYPE=image/jpeg:https://norwinpubliclibrary.net/wp-content/uploads/2023/11/storytimeMT.jpg
ORGANIZER;CN="Melanie Matthews":MAILTO:mmatthews@norwinpubliclibrary.net
END:VEVENT
BEGIN:VEVENT
DTSTART;TZID=America/New_York:20260326T183000
DTEND;TZID=America/New_York:20260326T193000
DTSTAMP:20260421T140013
CREATED:20260107T201013Z
LAST-MODIFIED:20260228T154945Z
UID:10024628-1774549800-1774553400@norwinpubliclibrary.net
SUMMARY:United States Trivia Night
DESCRIPTION:Do you have what it takes to answer 50 questions about U.S. history? This is a team competition with teams of 5. Bring your team or we’ll match you up.
URL:https://norwinpubliclibrary.net/event/united-states-trivia-night/
LOCATION:Norwin Library Community Room\, 100 Caruthers Lane\, Irwin\, PA\, 15642\, United States
CATEGORIES:Adult Program,Library Programs,Trivia Night!
ATTACH;FMTTYPE=image/jpeg:https://norwinpubliclibrary.net/wp-content/uploads/2026/01/ustrivia.jpg
ORGANIZER;CN="Krista Brown":MAILTO:kbrown@norwinpubliclibrary.net
END:VEVENT
BEGIN:VEVENT
DTSTART;TZID=America/New_York:20260326T110000
DTEND;TZID=America/New_York:20260326T113000
DTSTAMP:20260421T140013
CREATED:20251128T152704Z
LAST-MODIFIED:20260406T171054Z
UID:10024537-1774522800-1774524600@norwinpubliclibrary.net
SUMMARY:Story Time
DESCRIPTION:Join us for stories\, songs and fun every Monday and Thursday at 11am. \nAll ages are welcome! \nNo registration is needed.
URL:https://norwinpubliclibrary.net/event/story-time-10/2026-03-26/
LOCATION:Norwin Children’s Library
CATEGORIES:Just4Kids,Library Programs,Storytime
ATTACH;FMTTYPE=image/jpeg:https://norwinpubliclibrary.net/wp-content/uploads/2023/11/storytimeMT.jpg
ORGANIZER;CN="Melanie Matthews":MAILTO:mmatthews@norwinpubliclibrary.net
END:VEVENT
BEGIN:VEVENT
DTSTART;TZID=America/New_York:20260325T173000
DTEND;TZID=America/New_York:20260325T183000
DTSTAMP:20260421T140013
CREATED:20260127T194801Z
LAST-MODIFIED:20260127T194801Z
UID:10024634-1774459800-1774463400@norwinpubliclibrary.net
SUMMARY:Evening Move and Groove
DESCRIPTION:Wed.\, March 25th at 5:30 pm \nPlease bring in your babies and toddlers as we engage in songs\, stories\, fingerplays\, motion\, and play time together. \nThe program is designed for children ages 0-3. No registration needed. \nPlease bring your child’s favorite blanket or pillow\, as we will be on the floor.
URL:https://norwinpubliclibrary.net/event/evening-move-and-groove-3/
LOCATION:Norwin Library Community Room\, 100 Caruthers Lane\, Irwin\, PA\, 15642\, United States
CATEGORIES:Just4Kids,Library Programs,Storytime
ATTACH;FMTTYPE=image/jpeg:https://norwinpubliclibrary.net/wp-content/uploads/2025/04/YTAyZDA2ZTMtOGY4Ny00YTkzLTlhNWYtYmJkYjVmOTg4MjMx_sleeping-with-stuffed-animal-4.jpg
ORGANIZER;CN="Melanie Matthews":MAILTO:mmatthews@norwinpubliclibrary.net
END:VEVENT
BEGIN:VEVENT
DTSTART;TZID=America/New_York:20260324T180000
DTEND;TZID=America/New_York:20260324T180000
DTSTAMP:20260421T140013
CREATED:20260203T152256Z
LAST-MODIFIED:20260309T221346Z
UID:10024642-1774375200-1774375200@norwinpubliclibrary.net
SUMMARY:An Intro To American Sign Language
DESCRIPTION:Tuesday\, March 24\, 2026 6pm \nCome and learn some of the basics of American Sign Language (ASL)! This program will be led by an interpreter coordinator from the Center for Hearing and Deaf Services\, Inc. of Westmoreland County!\n\nGRADES 6-12 only\, space is limited.\n\nRegistration is required for each teen participating individually here: https://forms.gle/GcMPp4SmPZUJPEQG9
URL:https://norwinpubliclibrary.net/event/an-intro-to-american-sign-language/
LOCATION:Norwin Library Community Room\, 100 Caruthers Lane\, Irwin\, PA\, 15642\, United States
CATEGORIES:Educational,Library Programs,Teens
ATTACH;FMTTYPE=image/webp:https://norwinpubliclibrary.net/wp-content/uploads/2026/02/HDSLogos3-640w.webp
ORGANIZER;CN="Melanie Matthews":MAILTO:mmatthews@norwinpubliclibrary.net
END:VEVENT
END:VCALENDAR