BEGIN:VCALENDAR
VERSION:2.0
PRODID:-//Norwin Public Library - ECPv6.15.20//NONSGML v1.0//EN
CALSCALE:GREGORIAN
METHOD:PUBLISH
X-ORIGINAL-URL:https://norwinpubliclibrary.net
X-WR-CALDESC:Events for Norwin Public Library
REFRESH-INTERVAL;VALUE=DURATION:PT1H
X-Robots-Tag:noindex
X-PUBLISHED-TTL:PT1H
BEGIN:VTIMEZONE
TZID:America/New_York
BEGIN:DAYLIGHT
TZOFFSETFROM:-0500
TZOFFSETTO:-0400
TZNAME:EDT
DTSTART:20250309T070000
END:DAYLIGHT
BEGIN:STANDARD
TZOFFSETFROM:-0400
TZOFFSETTO:-0500
TZNAME:EST
DTSTART:20251102T060000
END:STANDARD
BEGIN:DAYLIGHT
TZOFFSETFROM:-0500
TZOFFSETTO:-0400
TZNAME:EDT
DTSTART:20260308T070000
END:DAYLIGHT
BEGIN:STANDARD
TZOFFSETFROM:-0400
TZOFFSETTO:-0500
TZNAME:EST
DTSTART:20261101T060000
END:STANDARD
BEGIN:DAYLIGHT
TZOFFSETFROM:-0500
TZOFFSETTO:-0400
TZNAME:EDT
DTSTART:20270314T070000
END:DAYLIGHT
BEGIN:STANDARD
TZOFFSETFROM:-0400
TZOFFSETTO:-0500
TZNAME:EST
DTSTART:20271107T060000
END:STANDARD
END:VTIMEZONE
BEGIN:VEVENT
DTSTART;TZID=America/New_York:20260721T103000
DTEND;TZID=America/New_York:20260721T110000
DTSTAMP:20260420T110453
CREATED:20260406T171935Z
LAST-MODIFIED:20260406T171935Z
UID:10024772-1784629800-1784631600@norwinpubliclibrary.net
SUMMARY:Summer Time Move and Groove
DESCRIPTION:Join us every Tuesday at 10:30 am from June 9th to July 28th \nBring in your babies and toddlers as we engage in songs\, stories\, fingerplays\, motion\, and play time together. Please bring your child’s favorite blanket or pillow\, as we will be on the floor. \nProgram designed for children ages 0-3. \nNo registration needed.
URL:https://norwinpubliclibrary.net/event/summer-time-move-and-groove/2026-07-21/
LOCATION:Norwin Library Community Room\, 100 Caruthers Lane\, Irwin\, PA\, 15642\, United States
CATEGORIES:Just4Kids,Library Programs,Storytime,Summer Reading
ATTACH;FMTTYPE=image/jpeg:https://norwinpubliclibrary.net/wp-content/uploads/2024/01/Baby-storytime.jpeg
ORGANIZER;CN="Melanie Matthews":MAILTO:mmatthews@norwinpubliclibrary.net
END:VEVENT
BEGIN:VEVENT
DTSTART;TZID=America/New_York:20260723T110000
DTEND;TZID=America/New_York:20260723T113000
DTSTAMP:20260420T110453
CREATED:20260406T171414Z
LAST-MODIFIED:20260406T171453Z
UID:10024712-1784804400-1784806200@norwinpubliclibrary.net
SUMMARY:Summer Story Time
DESCRIPTION:Thursday at 11 AM from June 11th-July 30th. \nEnjoy some stories\, songs\, and activities all summer long. \nFor all ages\, with activities geared for those in Pre-K through Kindergarten. \nNo registration needed.
URL:https://norwinpubliclibrary.net/event/summer-story-time-3/2026-07-23/
LOCATION:Norwin Library Community Room\, 100 Caruthers Lane\, Irwin\, PA\, 15642\, United States
CATEGORIES:Just4Kids,Library Programs,Storytime,Summer Reading
ATTACH;FMTTYPE=image/jpeg:https://norwinpubliclibrary.net/wp-content/uploads/2025/04/summer2.jpg
ORGANIZER;CN="Melanie Matthews":MAILTO:mmatthews@norwinpubliclibrary.net
END:VEVENT
BEGIN:VEVENT
DTSTART;TZID=America/New_York:20260728T103000
DTEND;TZID=America/New_York:20260728T110000
DTSTAMP:20260420T110453
CREATED:20260406T171935Z
LAST-MODIFIED:20260406T171935Z
UID:10024773-1785234600-1785236400@norwinpubliclibrary.net
SUMMARY:Summer Time Move and Groove
DESCRIPTION:Join us every Tuesday at 10:30 am from June 9th to July 28th \nBring in your babies and toddlers as we engage in songs\, stories\, fingerplays\, motion\, and play time together. Please bring your child’s favorite blanket or pillow\, as we will be on the floor. \nProgram designed for children ages 0-3. \nNo registration needed.
URL:https://norwinpubliclibrary.net/event/summer-time-move-and-groove/2026-07-28/
LOCATION:Norwin Library Community Room\, 100 Caruthers Lane\, Irwin\, PA\, 15642\, United States
CATEGORIES:Just4Kids,Library Programs,Storytime,Summer Reading
ATTACH;FMTTYPE=image/jpeg:https://norwinpubliclibrary.net/wp-content/uploads/2024/01/Baby-storytime.jpeg
ORGANIZER;CN="Melanie Matthews":MAILTO:mmatthews@norwinpubliclibrary.net
END:VEVENT
BEGIN:VEVENT
DTSTART;TZID=America/New_York:20260730T110000
DTEND;TZID=America/New_York:20260730T113000
DTSTAMP:20260420T110453
CREATED:20260406T171414Z
LAST-MODIFIED:20260406T171453Z
UID:10024713-1785409200-1785411000@norwinpubliclibrary.net
SUMMARY:Summer Story Time
DESCRIPTION:Thursday at 11 AM from June 11th-July 30th. \nEnjoy some stories\, songs\, and activities all summer long. \nFor all ages\, with activities geared for those in Pre-K through Kindergarten. \nNo registration needed.
URL:https://norwinpubliclibrary.net/event/summer-story-time-3/2026-07-30/
LOCATION:Norwin Library Community Room\, 100 Caruthers Lane\, Irwin\, PA\, 15642\, United States
CATEGORIES:Just4Kids,Library Programs,Storytime,Summer Reading
ATTACH;FMTTYPE=image/jpeg:https://norwinpubliclibrary.net/wp-content/uploads/2025/04/summer2.jpg
ORGANIZER;CN="Melanie Matthews":MAILTO:mmatthews@norwinpubliclibrary.net
END:VEVENT
END:VCALENDAR