BEGIN:VCALENDAR
VERSION:2.0
PRODID:-//Norwin Public Library - ECPv6.15.20//NONSGML v1.0//EN
CALSCALE:GREGORIAN
METHOD:PUBLISH
X-WR-CALNAME:Norwin Public Library
X-ORIGINAL-URL:https://norwinpubliclibrary.net
X-WR-CALDESC:Events for Norwin Public Library
REFRESH-INTERVAL;VALUE=DURATION:PT1H
X-Robots-Tag:noindex
X-PUBLISHED-TTL:PT1H
BEGIN:VTIMEZONE
TZID:America/New_York
BEGIN:DAYLIGHT
TZOFFSETFROM:-0500
TZOFFSETTO:-0400
TZNAME:EDT
DTSTART:20240310T070000
END:DAYLIGHT
BEGIN:STANDARD
TZOFFSETFROM:-0400
TZOFFSETTO:-0500
TZNAME:EST
DTSTART:20241103T060000
END:STANDARD
BEGIN:DAYLIGHT
TZOFFSETFROM:-0500
TZOFFSETTO:-0400
TZNAME:EDT
DTSTART:20250309T070000
END:DAYLIGHT
BEGIN:STANDARD
TZOFFSETFROM:-0400
TZOFFSETTO:-0500
TZNAME:EST
DTSTART:20251102T060000
END:STANDARD
BEGIN:DAYLIGHT
TZOFFSETFROM:-0500
TZOFFSETTO:-0400
TZNAME:EDT
DTSTART:20260308T070000
END:DAYLIGHT
BEGIN:STANDARD
TZOFFSETFROM:-0400
TZOFFSETTO:-0500
TZNAME:EST
DTSTART:20261101T060000
END:STANDARD
END:VTIMEZONE
BEGIN:VEVENT
DTSTART;TZID=America/New_York:20250613T140000
DTEND;TZID=America/New_York:20250613T150000
DTSTAMP:20260422T025141
CREATED:20250519T140152Z
LAST-MODIFIED:20250519T140152Z
UID:10023846-1749823200-1749826800@norwinpubliclibrary.net
SUMMARY:Youth Summer Reading Program: Henna Art
DESCRIPTION:THIS PROGRAM AND GENERAL YOUTH SUMMER READING REGISTRATION IS REQUIRED TO ATTEND. BE SURE YOUR KID IS REGISTERED FOR THE YOUTH SUMMER READING PROGRAM AT https://forms.gle/7qsxV9UV6W6ecd8Z7 \nCome learn about the history and tradition of  henna art while we sample several multicultural snacks. A local henna tattoo artist will be here to draw a temporary henna design  onto you. \nFOR PARTICIPANTS ENTERING 7th-12th GRADE ONLY.  \nRegister each child for HENNA ART on the link here: https://forms.gle/nbttnCjDp4uEvsdL8 \n 
URL:https://norwinpubliclibrary.net/event/youth-summer-reading-program-henna-art/
LOCATION:Norwin Children’s Library
CATEGORIES:Just4Kids,Library Programs,Summer Reading
ATTACH;FMTTYPE=image/jpeg:https://norwinpubliclibrary.net/wp-content/uploads/2025/04/2025_ColorOurWorld_logo.jpg
ORGANIZER;CN="Karly Kunkle":MAILTO:kkunkle@norwinpubliclibrary.net
END:VEVENT
END:VCALENDAR