BEGIN:VCALENDAR
VERSION:2.0
PRODID:-//Norwin Public Library - ECPv6.15.20//NONSGML v1.0//EN
CALSCALE:GREGORIAN
METHOD:PUBLISH
X-WR-CALNAME:Norwin Public Library
X-ORIGINAL-URL:https://norwinpubliclibrary.net
X-WR-CALDESC:Events for Norwin Public Library
REFRESH-INTERVAL;VALUE=DURATION:PT1H
X-Robots-Tag:noindex
X-PUBLISHED-TTL:PT1H
BEGIN:VTIMEZONE
TZID:America/New_York
BEGIN:DAYLIGHT
TZOFFSETFROM:-0500
TZOFFSETTO:-0400
TZNAME:EDT
DTSTART:20240310T070000
END:DAYLIGHT
BEGIN:STANDARD
TZOFFSETFROM:-0400
TZOFFSETTO:-0500
TZNAME:EST
DTSTART:20241103T060000
END:STANDARD
BEGIN:DAYLIGHT
TZOFFSETFROM:-0500
TZOFFSETTO:-0400
TZNAME:EDT
DTSTART:20250309T070000
END:DAYLIGHT
BEGIN:STANDARD
TZOFFSETFROM:-0400
TZOFFSETTO:-0500
TZNAME:EST
DTSTART:20251102T060000
END:STANDARD
BEGIN:DAYLIGHT
TZOFFSETFROM:-0500
TZOFFSETTO:-0400
TZNAME:EDT
DTSTART:20260308T070000
END:DAYLIGHT
BEGIN:STANDARD
TZOFFSETFROM:-0400
TZOFFSETTO:-0500
TZNAME:EST
DTSTART:20261101T060000
END:STANDARD
END:VTIMEZONE
BEGIN:VEVENT
DTSTART;TZID=America/New_York:20250802T110000
DTEND;TZID=America/New_York:20250802T130000
DTSTAMP:20260421T135353
CREATED:20250616T134636Z
LAST-MODIFIED:20250616T134636Z
UID:10024125-1754132400-1754139600@norwinpubliclibrary.net
SUMMARY:Youth Summer Reading Program: NPL Art Gala
DESCRIPTION:THIS PROGRAM AND GENERAL YOUTH SUMMER READING REGISTRATION IS REQUIRED TO ATTEND. BE SURE YOUR KID IS REGISTERED FOR THE YOUTH SUMMER READING PROGRAM AT https://forms.gle/7qsxV9UV6W6ecd8Z7 \nCome dressed in your best to see art on display that children in our summer reading program have been working on all summer long. \nToday at 1PM is the last chance to turn in  tickets for summer reading prizes.  \nALL AGES WELCOME. \nPlease register the whole family participating in NPL ART GALA program here: https://forms.gle/QuHYcXNym4ztrpBN8
URL:https://norwinpubliclibrary.net/event/youth-summer-reading-program-npl-art-gala/
LOCATION:Norwin Children’s Library
CATEGORIES:Just4Kids,Library Programs,Summer Reading
ATTACH;FMTTYPE=image/jpeg:https://norwinpubliclibrary.net/wp-content/uploads/2025/04/2025_ColorOurWorld_logo.jpg
ORGANIZER;CN="Karly Kunkle":MAILTO:kkunkle@norwinpubliclibrary.net
END:VEVENT
END:VCALENDAR