BEGIN:VCALENDAR
VERSION:2.0
PRODID:-//Norwin Public Library - ECPv6.15.20//NONSGML v1.0//EN
CALSCALE:GREGORIAN
METHOD:PUBLISH
X-ORIGINAL-URL:https://norwinpubliclibrary.net
X-WR-CALDESC:Events for Norwin Public Library
REFRESH-INTERVAL;VALUE=DURATION:PT1H
X-Robots-Tag:noindex
X-PUBLISHED-TTL:PT1H
BEGIN:VTIMEZONE
TZID:America/New_York
BEGIN:DAYLIGHT
TZOFFSETFROM:-0500
TZOFFSETTO:-0400
TZNAME:EDT
DTSTART:20240310T070000
END:DAYLIGHT
BEGIN:STANDARD
TZOFFSETFROM:-0400
TZOFFSETTO:-0500
TZNAME:EST
DTSTART:20241103T060000
END:STANDARD
BEGIN:DAYLIGHT
TZOFFSETFROM:-0500
TZOFFSETTO:-0400
TZNAME:EDT
DTSTART:20250309T070000
END:DAYLIGHT
BEGIN:STANDARD
TZOFFSETFROM:-0400
TZOFFSETTO:-0500
TZNAME:EST
DTSTART:20251102T060000
END:STANDARD
BEGIN:DAYLIGHT
TZOFFSETFROM:-0500
TZOFFSETTO:-0400
TZNAME:EDT
DTSTART:20260308T070000
END:DAYLIGHT
BEGIN:STANDARD
TZOFFSETFROM:-0400
TZOFFSETTO:-0500
TZNAME:EST
DTSTART:20261101T060000
END:STANDARD
END:VTIMEZONE
BEGIN:VEVENT
DTSTART;TZID=America/New_York:20250705T110000
DTEND;TZID=America/New_York:20250705T120000
DTSTAMP:20260421T184745
CREATED:20250625T183155Z
LAST-MODIFIED:20250625T183155Z
UID:10024342-1751713200-1751716800@norwinpubliclibrary.net
SUMMARY:Youth Summer Reading Program: Speed Painter Cody Sabol Wait List
DESCRIPTION:THIS PROGRAM AND GENERAL YOUTH SUMMER READING REGISTRATION IS REQUIRED TO ATTEND. BE SURE YOUR KID IS REGISTERED FOR THE YOUTH SUMMER READING PROGRAM AT https://forms.gle/7qsxV9UV6W6ecd8Z7 \nIf weather permits\, we hope to open this program to our WAIT LIST sign ups. Please register if you would like to be added to the WAIT LIST. We will contact you on Thursday\, July 3rd IF weather permits for us to be outdoors. \nCody Sabol\, a nationally recognized speed painter\, will astound our audience by creating a beautiful painting in minutes with just his fingers! We are proud to have this Norwin graduate share his talents with us. \nAll Ages Welcome! \nRegistration for Wait List is HERE: https://forms.gle/ELUC7m9Qf66hY1HJ9 \n 
URL:https://norwinpubliclibrary.net/event/youth-summer-reading-program-speed-painter-cody-sabol-wait-list/
LOCATION:Norwin Library Community Room\, 100 Caruthers Lane\, Irwin\, PA\, 15642\, United States
CATEGORIES:Just4Kids,Library Programs,Summer Reading
ATTACH;FMTTYPE=image/jpeg:https://norwinpubliclibrary.net/wp-content/uploads/2025/06/th.jpg
ORGANIZER;CN="Karly Kunkle":MAILTO:kkunkle@norwinpubliclibrary.net
END:VEVENT
BEGIN:VEVENT
DTSTART;TZID=America/New_York:20250707T110000
DTEND;TZID=America/New_York:20250707T120000
DTSTAMP:20260421T184745
CREATED:20250616T135233Z
LAST-MODIFIED:20250616T135233Z
UID:10024115-1751886000-1751889600@norwinpubliclibrary.net
SUMMARY:Youth Summer Reading Program: The Art of Photography
DESCRIPTION:THIS PROGRAM AND GENERAL YOUTH SUMMER READING REGISTRATION IS REQUIRED TO ATTEND. BE SURE YOUR KID IS REGISTERED FOR THE YOUTH SUMMER READING PROGRAM AT https://forms.gle/7qsxV9UV6W6ecd8Z7 \nKayla Kowatch\, a local photographer\, will be sharing photography tips and tricks that she has learned over her years of experience. Help us capture beautiful moments on camera inside and outside of the library. \nFOR PARTICIPANTS ENTERING 7th-12th GRADE ONLY. \nPlease register for each kid participating in THE ART OF PHOTOGRAPHY program here: https://forms.gle/BuoZCEciYe8Sh5YQ9
URL:https://norwinpubliclibrary.net/event/youth-summer-reading-program-the-art-of-photography/
LOCATION:Norwin Children’s Library
CATEGORIES:Just4Kids,Library Programs,Summer Reading
ATTACH;FMTTYPE=image/jpeg:https://norwinpubliclibrary.net/wp-content/uploads/2025/04/2025_ColorOurWorld_logo.jpg
ORGANIZER;CN="Karly Kunkle":MAILTO:kkunkle@norwinpubliclibrary.net
END:VEVENT
BEGIN:VEVENT
DTSTART;TZID=America/New_York:20250709T180000
DTEND;TZID=America/New_York:20250709T190000
DTSTAMP:20260421T184745
CREATED:20250616T135203Z
LAST-MODIFIED:20250616T135203Z
UID:10024116-1752084000-1752087600@norwinpubliclibrary.net
SUMMARY:Youth Summer Reading Program: Junior Workout Wednesday
DESCRIPTION:Join us for the first ‘Workout Wednesday’ of the summer.  Mike Yaremko\, Youth Exercise Specialist\, will be leading our group cardio fitness class. \nFOR PARTICIPANTS ENTERING KINDERGARTEN-6TH GRADE ONLY. \nPlease register for each kid participating in JUNIOR WORKOUT WEDNESDAY program here: https://forms.gle/pnXFEAW8gWixj6Z89 \nPlease DO NOT register your child if you already came to the same program on 6/11/25. We want to be able to offer this program to as many kids possible. \n  \n 
URL:https://norwinpubliclibrary.net/event/youth-summer-reading-program-junior-workout-wednesday-2/
LOCATION:Norwin Children’s Library
CATEGORIES:Just4Kids,Library Programs,Summer Reading
ATTACH;FMTTYPE=image/jpeg:https://norwinpubliclibrary.net/wp-content/uploads/2025/04/2025_ColorOurWorld_logo.jpg
ORGANIZER;CN="Karly Kunkle":MAILTO:kkunkle@norwinpubliclibrary.net
END:VEVENT
BEGIN:VEVENT
DTSTART;TZID=America/New_York:20250711T110000
DTEND;TZID=America/New_York:20250711T120000
DTSTAMP:20260421T184745
CREATED:20250616T135131Z
LAST-MODIFIED:20250616T135131Z
UID:10024117-1752231600-1752235200@norwinpubliclibrary.net
SUMMARY:Youth Summer Reading Program: Pittsburgh Ballet Theatre
DESCRIPTION:THIS PROGRAM AND GENERAL YOUTH SUMMER READING REGISTRATION IS REQUIRED TO ATTEND. BE SURE YOUR KID IS REGISTERED FOR THE YOUTH SUMMER READING PROGRAM AT https://forms.gle/7qsxV9UV6W6ecd8Z7 \nJoin us as we ‘Dance the Story’ with The Pittsburgh Ballet Theatre. Ballet instructors will be reading a ballet themed story\, showing off  their costumes\, and even teaching us a dance or two. \nEVENT FOR PARTICIPANTS ENTERING KINDERGARTEN-6th GRADE ONLY. \nPlease register for each kid participating in PITTSBURGH BALLET THEATRE program here: https://forms.gle/VQUZYqYRSbL7Nx5Y7 \n 
URL:https://norwinpubliclibrary.net/event/youth-summer-reading-program-pittsburgh-ballet-theatre/
LOCATION:Norwin Children’s Library
CATEGORIES:Just4Kids,Library Programs,Summer Reading
ATTACH;FMTTYPE=image/jpeg:https://norwinpubliclibrary.net/wp-content/uploads/2025/04/2025_ColorOurWorld_logo.jpg
ORGANIZER;CN="Karly Kunkle":MAILTO:kkunkle@norwinpubliclibrary.net
END:VEVENT
BEGIN:VEVENT
DTSTART;TZID=America/New_York:20250715T173000
DTEND;TZID=America/New_York:20250715T193000
DTSTAMP:20260421T184745
CREATED:20250616T135109Z
LAST-MODIFIED:20250616T135109Z
UID:10024118-1752600600-1752607800@norwinpubliclibrary.net
SUMMARY:Youth Summer Reading Program: Steel City Gamerz
DESCRIPTION:THIS PROGRAM AND GENERAL YOUTH SUMMER READING REGISTRATION IS REQUIRED TO ATTEND. BE SURE YOUR KID IS REGISTERED FOR THE YOUTH SUMMER READING PROGRAM AT https://forms.gle/7qsxV9UV6W6ecd8Z7 \nPittsburgh’s ultimate mobile gaming van will be  making a stop at the library! Gamers will have the opportunity to enter the van and play a variety of popular Everyone/E10 Xbox\, Wii\, PlayStation\, and Nintendo Switch video games. \nEVENT FOR PARTICIPANTS AGES 10 to 18 ONLY. \nPlease register each kid participating in your desired time slot for STEEL CITY GAMERZ here: \nTime Slot 5:30PM-6:00PM https://forms.gle/J4QJBkVeG5ZC2rna6 \nTime Slot 6:00pm-6:30PM https://forms.gle/c9emBP7wXP6aiEnX8 \nTime Slot 6:30-7:00PM https://forms.gle/s6RRR1WGwmfkUWBX6 \nTime Slot 7:00PM-7:30PM https://forms.gle/NuWbsGTM4hxkPHUu9 \nSign up child for only one time slot that evening. We want to be able to offer this program to as many kids possible.
URL:https://norwinpubliclibrary.net/event/youth-summer-reading-program-steel-city-gamerz/
LOCATION:Norwin Children’s Library
CATEGORIES:Just4Kids,Library Programs,Summer Reading
ATTACH;FMTTYPE=image/jpeg:https://norwinpubliclibrary.net/wp-content/uploads/2025/04/2025_ColorOurWorld_logo.jpg
ORGANIZER;CN="Karly Kunkle":MAILTO:kkunkle@norwinpubliclibrary.net
END:VEVENT
BEGIN:VEVENT
DTSTART;TZID=America/New_York:20250719T110000
DTEND;TZID=America/New_York:20250719T140000
DTSTAMP:20260421T184745
CREATED:20250616T135036Z
LAST-MODIFIED:20250623T153516Z
UID:10024119-1752922800-1752933600@norwinpubliclibrary.net
SUMMARY:Youth Summer Reading Program: Union Project Pottery
DESCRIPTION:THIS PROGRAM AND GENERAL YOUTH SUMMER READING REGISTRATION IS REQUIRED TO ATTEND. BE SURE YOUR KID IS REGISTERED FOR THE YOUTH SUMMER READING PROGRAM AT https://forms.gle/7qsxV9UV6W6ecd8Z7 \nSaturday\, July 19th from 11 AM to 2 PM—WAIT LIST \nWe are hoping for beautiful weather for this day that we can invite more people off our WAIT LIST. If you would like to join the Wait List\, please fill out the form below. We will contact you on Friday\, July 18th IF weather permits. \nPittsburgh based Union Project’s Wheel Mobile will be bringing an interactive pottery wheel demonstration to us at the library.  All youth attending will receive a piece of pottery to take home with them. \nIf contacted to join us\, you can stop by anytime from 11 AM-2 PM. Please wait for that contact confirmation. \nALL AGES UP TO 18 YEARS OLD WELCOME. \nPlease register the whole family participating in UNION PROJECT POTTERY WAIT LIST program here: https://forms.gle/257u5Cw8drdc5dTVA
URL:https://norwinpubliclibrary.net/event/youth-summer-reading-program-union-project-pottery/
LOCATION:Norwin Children’s Library
CATEGORIES:Just4Kids,Library Programs,Summer Reading
ATTACH;FMTTYPE=image/jpeg:https://norwinpubliclibrary.net/wp-content/uploads/2025/04/2025_ColorOurWorld_logo.jpg
ORGANIZER;CN="Karly Kunkle":MAILTO:kkunkle@norwinpubliclibrary.net
END:VEVENT
BEGIN:VEVENT
DTSTART;TZID=America/New_York:20250721T180000
DTEND;TZID=America/New_York:20250721T190000
DTSTAMP:20260421T184745
CREATED:20250616T135008Z
LAST-MODIFIED:20250616T135008Z
UID:10024120-1753120800-1753124400@norwinpubliclibrary.net
SUMMARY:Youth Summer Reading Program: The Art Of Calligraphy
DESCRIPTION:THIS PROGRAM AND GENERAL YOUTH SUMMER READING REGISTRATION IS REQUIRED TO ATTEND. BE SURE YOUR KID IS REGISTERED FOR THE YOUTH SUMMER READING PROGRAM AT https://forms.gle/7qsxV9UV6W6ecd8Z7 \nKandee Lojas will be teaching us about the history of calligraphy\, followed by time to create and experiment with calligraphy ink and pens. \nFOR PARTICIPANTS ENTERING 7th-12th GRADE ONLY. \nPlease register for each kid participating in THE ART OF CALLIGRAPHY program here: https://forms.gle/mNxy32Et8rmV59cP7
URL:https://norwinpubliclibrary.net/event/youth-summer-reading-program-the-art-of-calligraphy/
LOCATION:Norwin Children’s Library
CATEGORIES:Just4Kids,Library Programs,Summer Reading
ATTACH;FMTTYPE=image/jpeg:https://norwinpubliclibrary.net/wp-content/uploads/2025/04/2025_ColorOurWorld_logo.jpg
ORGANIZER;CN="Karly Kunkle":MAILTO:kkunkle@norwinpubliclibrary.net
END:VEVENT
BEGIN:VEVENT
DTSTART;TZID=America/New_York:20250725T140000
DTEND;TZID=America/New_York:20250725T150000
DTSTAMP:20260421T184745
CREATED:20250616T134842Z
LAST-MODIFIED:20250616T160801Z
UID:10024122-1753452000-1753455600@norwinpubliclibrary.net
SUMMARY:Youth Summer Reading Program: Intro To Sewing
DESCRIPTION:THIS PROGRAM AND GENERAL YOUTH SUMMER READING REGISTRATION IS REQUIRED TO ATTEND. BE SURE YOUR KID IS REGISTERED FOR THE YOUTH SUMMER READING PROGRAM AT https://forms.gle/7qsxV9UV6W6ecd8Z7 \nInterested in learning to sew\, or getting better at it? The entering Kindergarten through sixth grade group will be creating sew and stick stuffed animals \nFOR PARTICIPANTS ENTERING KINDERGARTEN-12th GRADE ONLY. \nPlease register for each kid participating in INTRO TO SEWING program by age group here: \nGrades K-6 https://forms.gle/CBz94vguEuHqgedf9 \nGrades 7-12 https://forms.gle/menzPwLG49xSSteX8 \n 
URL:https://norwinpubliclibrary.net/event/youth-summer-reading-program-intro-to-sewing/
LOCATION:Norwin Children’s Library
CATEGORIES:Just4Kids,Library Programs,Summer Reading
ATTACH;FMTTYPE=image/jpeg:https://norwinpubliclibrary.net/wp-content/uploads/2025/04/2025_ColorOurWorld_logo.jpg
ORGANIZER;CN="Karly Kunkle":MAILTO:kkunkle@norwinpubliclibrary.net
END:VEVENT
BEGIN:VEVENT
DTSTART;TZID=America/New_York:20250730T110000
DTEND;TZID=America/New_York:20250730T140000
DTSTAMP:20260421T184745
CREATED:20250616T134718Z
LAST-MODIFIED:20250616T134718Z
UID:10024124-1753873200-1753884000@norwinpubliclibrary.net
SUMMARY:Youth Summer Reading Program: Westmoreland Museum of American Art
DESCRIPTION:THIS PROGRAM AND GENERAL YOUTH SUMMER READING REGISTRATION IS REQUIRED TO ATTEND. BE SURE YOUR KID IS REGISTERED FOR THE YOUTH SUMMER READING PROGRAM AT https://forms.gle/7qsxV9UV6W6ecd8Z7 \nPlease provide your own transportation and meet the Norwin Public Library staff at the Westmoreland Museum of American Art in Greensburg to see what is currently on display and complete an interactive scavenger hunt. \nALL AGES WELCOME. \nPlease register for the whole family participating in WESTMORELAND MUSEUM OF AMERICAN ART program here: https://forms.gle/DYhb5rSJMFRzyAuN7 \n 
URL:https://norwinpubliclibrary.net/event/youth-summer-reading-program-westmoreland-museum-of-american-art/
LOCATION:Norwin Children’s Library
CATEGORIES:Just4Kids,Library Programs,Summer Reading
ATTACH;FMTTYPE=image/jpeg:https://norwinpubliclibrary.net/wp-content/uploads/2025/04/2025_ColorOurWorld_logo.jpg
ORGANIZER;CN="Karly Kunkle":MAILTO:kkunkle@norwinpubliclibrary.net
END:VEVENT
END:VCALENDAR