BEGIN:VCALENDAR
VERSION:2.0
PRODID:-//Norwin Public Library - ECPv6.15.20//NONSGML v1.0//EN
CALSCALE:GREGORIAN
METHOD:PUBLISH
X-ORIGINAL-URL:https://norwinpubliclibrary.net
X-WR-CALDESC:Events for Norwin Public Library
REFRESH-INTERVAL;VALUE=DURATION:PT1H
X-Robots-Tag:noindex
X-PUBLISHED-TTL:PT1H
BEGIN:VTIMEZONE
TZID:America/New_York
BEGIN:DAYLIGHT
TZOFFSETFROM:-0500
TZOFFSETTO:-0400
TZNAME:EDT
DTSTART:20230312T070000
END:DAYLIGHT
BEGIN:STANDARD
TZOFFSETFROM:-0400
TZOFFSETTO:-0500
TZNAME:EST
DTSTART:20231105T060000
END:STANDARD
BEGIN:DAYLIGHT
TZOFFSETFROM:-0500
TZOFFSETTO:-0400
TZNAME:EDT
DTSTART:20240310T070000
END:DAYLIGHT
BEGIN:STANDARD
TZOFFSETFROM:-0400
TZOFFSETTO:-0500
TZNAME:EST
DTSTART:20241103T060000
END:STANDARD
BEGIN:DAYLIGHT
TZOFFSETFROM:-0500
TZOFFSETTO:-0400
TZNAME:EDT
DTSTART:20250309T070000
END:DAYLIGHT
BEGIN:STANDARD
TZOFFSETFROM:-0400
TZOFFSETTO:-0500
TZNAME:EST
DTSTART:20251102T060000
END:STANDARD
END:VTIMEZONE
BEGIN:VEVENT
DTSTART;TZID=America/New_York:20240610T110000
DTEND;TZID=America/New_York:20240610T140000
DTSTAMP:20260423T233321
CREATED:20240520T140007Z
LAST-MODIFIED:20240520T140441Z
UID:10003380-1718017200-1718028000@norwinpubliclibrary.net
SUMMARY:Summer Reading Kick Off!
DESCRIPTION:Local artist Bob Weaver will be doing a live art demonstration. Afterward\, we will have sidewalk chalk for you to get creative. Bring a blanket to sit outdoors and enjoy a good book! \nAll ages welcome. While supplies last. \nFill out form here: https://forms.gle/FSqRWBjZgpFqCxwy9  \nIf you have multiple kids attending\, fill out a form for each kid please.
URL:https://norwinpubliclibrary.net/event/summer-reading-kick-off/
LOCATION:Norwin Library Community Room\, 100 Caruthers Lane\, Irwin\, PA\, 15642\, United States
CATEGORIES:Just4Kids,Library Programs,Summer Reading
ATTACH;FMTTYPE=image/jpeg:https://norwinpubliclibrary.net/wp-content/uploads/2024/04/CSLP_Teen_Slogan_English_Horizontal.jpg
ORGANIZER;CN="Karly Kunkle":MAILTO:kkunkle@norwinpubliclibrary.net
END:VEVENT
BEGIN:VEVENT
DTSTART;TZID=America/New_York:20240612T110000
DTEND;TZID=America/New_York:20240612T150000
DTSTAMP:20260423T233321
CREATED:20240520T140026Z
LAST-MODIFIED:20240520T140528Z
UID:10003381-1718190000-1718204400@norwinpubliclibrary.net
SUMMARY:Carnegie Museum of Natural History
DESCRIPTION:The museum will come to us at the library for an open house style event! \nAll ages welcome. \nPlease fill out the form here: https://forms.gle/wAyKeDWkrYFxicby9 \nIf you have multiple kids attending\, fill form our for each kid please.
URL:https://norwinpubliclibrary.net/event/carnegie-museum-of-natural-history/
LOCATION:Norwin Library Community Room\, 100 Caruthers Lane\, Irwin\, PA\, 15642\, United States
CATEGORIES:Just4Kids,Library Programs,STEM,Summer Reading
ATTACH;FMTTYPE=image/jpeg:https://norwinpubliclibrary.net/wp-content/uploads/2024/04/CSLP_Teen_Slogan_English_Horizontal.jpg
ORGANIZER;CN="Karly Kunkle":MAILTO:kkunkle@norwinpubliclibrary.net
END:VEVENT
BEGIN:VEVENT
DTSTART;TZID=America/New_York:20240614T110000
DTEND;TZID=America/New_York:20240614T120000
DTSTAMP:20260423T233321
CREATED:20240520T140017Z
LAST-MODIFIED:20240521T221351Z
UID:10003382-1718362800-1718366400@norwinpubliclibrary.net
SUMMARY:Tech Knights
DESCRIPTION:Bring in your handheld devices to enjoy some open gaming time\, as well as your Pokémon card collection to look at or trade with others. \nEvent for children entering 2nd grade and up only. \nPlease register here: https://forms.gle/QVJEUbPvuVjkRvcd6 \nIf you have multiple kids attending\, fill form our for each kid please.
URL:https://norwinpubliclibrary.net/event/tech-knights/
LOCATION:Norwin Library Community Room\, 100 Caruthers Lane\, Irwin\, PA\, 15642\, United States
CATEGORIES:Just4Kids,Library Programs,Summer Reading
ATTACH;FMTTYPE=image/jpeg:https://norwinpubliclibrary.net/wp-content/uploads/2024/04/CSLP_Teen_Slogan_English_Horizontal.jpg
ORGANIZER;CN="Karly Kunkle":MAILTO:kkunkle@norwinpubliclibrary.net
END:VEVENT
BEGIN:VEVENT
DTSTART;TZID=America/New_York:20240617T180000
DTEND;TZID=America/New_York:20240617T190000
DTSTAMP:20260423T233321
CREATED:20240520T140029Z
LAST-MODIFIED:20240520T140641Z
UID:10003383-1718647200-1718650800@norwinpubliclibrary.net
SUMMARY:International Candy Tasting
DESCRIPTION:Come sample sweet treats from around the world. \nEvent for children entering 5th grade and up. \nPlease register here:https://forms.gle/drTQgCxpjN3QYdqS8 \nIf you have multiple kids attending\, fill form our for each kid please.
URL:https://norwinpubliclibrary.net/event/international-candy-tasting/
LOCATION:Norwin Library Community Room\, 100 Caruthers Lane\, Irwin\, PA\, 15642\, United States
CATEGORIES:Just4Kids,Library Programs,Summer Reading,Teens,Tweens
ATTACH;FMTTYPE=image/jpeg:https://norwinpubliclibrary.net/wp-content/uploads/2024/04/CSLP_Teen_Slogan_English_Horizontal.jpg
ORGANIZER;CN="Karly Kunkle":MAILTO:kkunkle@norwinpubliclibrary.net
END:VEVENT
BEGIN:VEVENT
DTSTART;TZID=America/New_York:20240619T180000
DTEND;TZID=America/New_York:20240619T190000
DTSTAMP:20260423T233321
CREATED:20240520T140036Z
LAST-MODIFIED:20240520T140704Z
UID:10003384-1718820000-1718823600@norwinpubliclibrary.net
SUMMARY:Traveler Shopping Night Market
DESCRIPTION:Teach your children financial responsibility by ‘shopping’ with our NPL bucks.\n\nEvent for children entering Kindergarten and up.\n\n\nPlease register here: https://forms.gle/To95Pqzi7w2axSTB6\n\nIf you have multiple kids attending\, fill form our for each kid please.
URL:https://norwinpubliclibrary.net/event/traveler-shopping-night-market/
LOCATION:Norwin Library Community Room\, 100 Caruthers Lane\, Irwin\, PA\, 15642\, United States
CATEGORIES:Just4Kids,Library Programs,Summer Reading
ATTACH;FMTTYPE=image/jpeg:https://norwinpubliclibrary.net/wp-content/uploads/2024/04/CSLP_Teen_Slogan_English_Horizontal.jpg
ORGANIZER;CN="Karly Kunkle":MAILTO:kkunkle@norwinpubliclibrary.net
END:VEVENT
BEGIN:VEVENT
DTSTART;TZID=America/New_York:20240626T110000
DTEND;TZID=America/New_York:20240626T120000
DTSTAMP:20260423T233321
CREATED:20240520T140041Z
LAST-MODIFIED:20240520T140815Z
UID:10003385-1719399600-1719403200@norwinpubliclibrary.net
SUMMARY:Carnegie Science Center - Science of Hockey
DESCRIPTION:Learn the science behind the game of hockey. From reaction time to ice quality\, science and math demonstrations will allow us to get our team ready for the Stanley cup! \nEvent for children entering Second grade and up. \nPlease register here: https://forms.gle/Sq3vAADWVTn4x9GJ8 \nIf you have multiple kids attending\, fill form our for each kid please.
URL:https://norwinpubliclibrary.net/event/carnegie-science-center-science-of-hockey/
LOCATION:Norwin Library Community Room\, 100 Caruthers Lane\, Irwin\, PA\, 15642\, United States
CATEGORIES:Just4Kids,Library Programs,Summer Reading
ATTACH;FMTTYPE=image/jpeg:https://norwinpubliclibrary.net/wp-content/uploads/2024/04/CSLP_Teen_Slogan_English_Horizontal.jpg
ORGANIZER;CN="Karly Kunkle":MAILTO:kkunkle@norwinpubliclibrary.net
END:VEVENT
BEGIN:VEVENT
DTSTART;TZID=America/New_York:20240628T110000
DTEND;TZID=America/New_York:20240628T120000
DTSTAMP:20260423T233321
CREATED:20240520T140045Z
LAST-MODIFIED:20240520T140751Z
UID:10003386-1719572400-1719576000@norwinpubliclibrary.net
SUMMARY:Read to a Therapy Dog
DESCRIPTION:Your child will build confidence by reading aloud to a therapy dog. \nEvent for children entering First grade and up. \nPlease register: https://forms.gle/1fcLHwUTcWL4JNno8 \nIf you have multiple kids attending\, fill form our for each kid please.
URL:https://norwinpubliclibrary.net/event/read-to-a-therapy-dog-3/
LOCATION:Norwin Library Community Room\, 100 Caruthers Lane\, Irwin\, PA\, 15642\, United States
CATEGORIES:Just4Kids,Library Programs,Summer Reading
ATTACH;FMTTYPE=image/jpeg:https://norwinpubliclibrary.net/wp-content/uploads/2024/04/CSLP_Teen_Slogan_English_Horizontal.jpg
ORGANIZER;CN="Karly Kunkle":MAILTO:kkunkle@norwinpubliclibrary.net
END:VEVENT
BEGIN:VEVENT
DTSTART;TZID=America/New_York:20240629T110000
DTEND;TZID=America/New_York:20240629T123000
DTSTAMP:20260423T233321
CREATED:20240520T140022Z
LAST-MODIFIED:20240520T140905Z
UID:10003387-1719658800-1719664200@norwinpubliclibrary.net
SUMMARY:Camping at NPL
DESCRIPTION:Bring the whole family to enjoy an afternoon full of smores\, campfire songs\, a scavenger hunt\, and several outdoor games. Bring a sleeping bag to be entered in a competition!\n\n\nAll ages welcome! While supplies last. \nPlease register here: https://forms.gle/nMvHHJVTjkj8MUXXA \nIf you have multiple kids attending\, fill form our for each kid please.
URL:https://norwinpubliclibrary.net/event/camping-at-npl/
LOCATION:Norwin Library Community Room\, 100 Caruthers Lane\, Irwin\, PA\, 15642\, United States
CATEGORIES:Just4Kids,Library Programs,Summer Reading
ATTACH;FMTTYPE=image/jpeg:https://norwinpubliclibrary.net/wp-content/uploads/2024/04/CSLP_Teen_Slogan_English_Horizontal.jpg
ORGANIZER;CN="Karly Kunkle":MAILTO:kkunkle@norwinpubliclibrary.net
END:VEVENT
END:VCALENDAR