BEGIN:VCALENDAR
VERSION:2.0
PRODID:-//Norwin Public Library - ECPv6.15.20//NONSGML v1.0//EN
CALSCALE:GREGORIAN
METHOD:PUBLISH
X-WR-CALNAME:Norwin Public Library
X-ORIGINAL-URL:https://norwinpubliclibrary.net
X-WR-CALDESC:Events for Norwin Public Library
REFRESH-INTERVAL;VALUE=DURATION:PT1H
X-Robots-Tag:noindex
X-PUBLISHED-TTL:PT1H
BEGIN:VTIMEZONE
TZID:America/New_York
BEGIN:DAYLIGHT
TZOFFSETFROM:-0500
TZOFFSETTO:-0400
TZNAME:EDT
DTSTART:20230312T070000
END:DAYLIGHT
BEGIN:STANDARD
TZOFFSETFROM:-0400
TZOFFSETTO:-0500
TZNAME:EST
DTSTART:20231105T060000
END:STANDARD
BEGIN:DAYLIGHT
TZOFFSETFROM:-0500
TZOFFSETTO:-0400
TZNAME:EDT
DTSTART:20240310T070000
END:DAYLIGHT
BEGIN:STANDARD
TZOFFSETFROM:-0400
TZOFFSETTO:-0500
TZNAME:EST
DTSTART:20241103T060000
END:STANDARD
BEGIN:DAYLIGHT
TZOFFSETFROM:-0500
TZOFFSETTO:-0400
TZNAME:EDT
DTSTART:20250309T070000
END:DAYLIGHT
BEGIN:STANDARD
TZOFFSETFROM:-0400
TZOFFSETTO:-0500
TZNAME:EST
DTSTART:20251102T060000
END:STANDARD
BEGIN:DAYLIGHT
TZOFFSETFROM:-0500
TZOFFSETTO:-0400
TZNAME:EDT
DTSTART:20260308T070000
END:DAYLIGHT
BEGIN:STANDARD
TZOFFSETFROM:-0400
TZOFFSETTO:-0500
TZNAME:EST
DTSTART:20261101T060000
END:STANDARD
END:VTIMEZONE
BEGIN:VEVENT
DTSTART;TZID=America/New_York:20251110T180000
DTEND;TZID=America/New_York:20251110T190000
DTSTAMP:20260420T200122
CREATED:20251023T160249Z
LAST-MODIFIED:20251023T160249Z
UID:10024496-1762797600-1762801200@norwinpubliclibrary.net
SUMMARY:Origami Workshop: Christmas Trees!
DESCRIPTION:Learn to make origami Christmas Trees and more. Everything will be made from discarded book pages. \nAges 16 and over.
URL:https://norwinpubliclibrary.net/event/origami-workshop-christmas-trees/
LOCATION:Norwin Library Community Room\, 100 Caruthers Lane\, Irwin\, PA\, 15642\, United States
CATEGORIES:Adult Program,Educational,Origami
ATTACH;FMTTYPE=image/jpeg:https://norwinpubliclibrary.net/wp-content/uploads/2024/11/origami_tree.jpg
ORGANIZER;CN="Krista Brown":MAILTO:kbrown@norwinpubliclibrary.net
END:VEVENT
BEGIN:VEVENT
DTSTART;TZID=America/New_York:20250927T140000
DTEND;TZID=America/New_York:20250927T150000
DTSTAMP:20260420T200122
CREATED:20250903T195856Z
LAST-MODIFIED:20250904T184822Z
UID:10024483-1758981600-1758985200@norwinpubliclibrary.net
SUMMARY:Origami Class - Vase and Flowers
DESCRIPTION:Learn to make origami flowers and a book vase. \nSpaces are limited.  Ages 16 and over. \nRegistrater here!
URL:https://norwinpubliclibrary.net/event/origami-class-vase-and-flowers/
LOCATION:Norwin Library Community Room\, 100 Caruthers Lane\, Irwin\, PA\, 15642\, United States
CATEGORIES:Library Programs,Origami
ATTACH;FMTTYPE=image/jpeg:https://norwinpubliclibrary.net/wp-content/uploads/2025/09/origami_vase7.jpg
ORGANIZER;CN="Krista Brown":MAILTO:kbrown@norwinpubliclibrary.net
END:VEVENT
BEGIN:VEVENT
DTSTART;TZID=America/New_York:20250628T140000
DTEND;TZID=America/New_York:20250628T150000
DTSTAMP:20260420T200122
CREATED:20250520T172012Z
LAST-MODIFIED:20250520T172012Z
UID:10024173-1751119200-1751122800@norwinpubliclibrary.net
SUMMARY:Origami Class
DESCRIPTION:Learn how to make an origami book vase.  Books will be provided.  Ages 16 and over.
URL:https://norwinpubliclibrary.net/event/origami-class-2/
LOCATION:Norwin Library Community Room\, 100 Caruthers Lane\, Irwin\, PA\, 15642\, United States
CATEGORIES:Adult Program,Library Programs,Origami
ATTACH;FMTTYPE=image/jpeg:https://norwinpubliclibrary.net/wp-content/uploads/2025/05/origami_vase28.jpg
ORGANIZER;CN="Krista Brown":MAILTO:kbrown@norwinpubliclibrary.net
END:VEVENT
BEGIN:VEVENT
DTSTART;TZID=America/New_York:20241123T140000
DTEND;TZID=America/New_York:20241123T150000
DTSTAMP:20260420T200122
CREATED:20241107T004636Z
LAST-MODIFIED:20241112T195322Z
UID:10003553-1732370400-1732374000@norwinpubliclibrary.net
SUMMARY:Christmas Tree Origami
DESCRIPTION:Learn to make Christmas trees all from the pages from books.  Ages 16 and over.
URL:https://norwinpubliclibrary.net/event/christmas-tree-origami/
LOCATION:Norwin Library Community Room\, 100 Caruthers Lane\, Irwin\, PA\, 15642\, United States
CATEGORIES:Adult Program,Origami
ATTACH;FMTTYPE=image/jpeg:https://norwinpubliclibrary.net/wp-content/uploads/2024/11/origami_tree.jpg
ORGANIZER;CN="Krista Brown":MAILTO:kbrown@norwinpubliclibrary.net
END:VEVENT
BEGIN:VEVENT
DTSTART;TZID=America/New_York:20240224T130000
DTEND;TZID=America/New_York:20240224T140000
DTSTAMP:20260420T200122
CREATED:20240131T174714Z
LAST-MODIFIED:20240131T174714Z
UID:10002252-1708779600-1708783200@norwinpubliclibrary.net
SUMMARY:Flower Origami Class
DESCRIPTION:Learn to make 3 different flowers\, all from the pages of old books. \nAges 14 and over. \nThe program is free\, but registration is required. Please register here\, space is limited.
URL:https://norwinpubliclibrary.net/event/flower-origami-class/
LOCATION:Norwin Library Community Room\, 100 Caruthers Lane\, Irwin\, PA\, 15642\, United States
CATEGORIES:Adult Program,Origami
ATTACH;FMTTYPE=image/jpeg:https://norwinpubliclibrary.net/wp-content/uploads/2023/05/how-to-make-origami-tulip.jpg.jpeg
ORGANIZER;CN="Krista Brown":MAILTO:kbrown@norwinpubliclibrary.net
END:VEVENT
END:VCALENDAR