BEGIN:VCALENDAR
VERSION:2.0
PRODID:-//Norwin Public Library - ECPv6.15.20//NONSGML v1.0//EN
CALSCALE:GREGORIAN
METHOD:PUBLISH
X-ORIGINAL-URL:https://norwinpubliclibrary.net
X-WR-CALDESC:Events for Norwin Public Library
REFRESH-INTERVAL;VALUE=DURATION:PT1H
X-Robots-Tag:noindex
X-PUBLISHED-TTL:PT1H
BEGIN:VTIMEZONE
TZID:America/New_York
BEGIN:DAYLIGHT
TZOFFSETFROM:-0500
TZOFFSETTO:-0400
TZNAME:EDT
DTSTART:20240310T070000
END:DAYLIGHT
BEGIN:STANDARD
TZOFFSETFROM:-0400
TZOFFSETTO:-0500
TZNAME:EST
DTSTART:20241103T060000
END:STANDARD
BEGIN:DAYLIGHT
TZOFFSETFROM:-0500
TZOFFSETTO:-0400
TZNAME:EDT
DTSTART:20250309T070000
END:DAYLIGHT
BEGIN:STANDARD
TZOFFSETFROM:-0400
TZOFFSETTO:-0500
TZNAME:EST
DTSTART:20251102T060000
END:STANDARD
BEGIN:DAYLIGHT
TZOFFSETFROM:-0500
TZOFFSETTO:-0400
TZNAME:EDT
DTSTART:20260308T070000
END:DAYLIGHT
BEGIN:STANDARD
TZOFFSETFROM:-0400
TZOFFSETTO:-0500
TZNAME:EST
DTSTART:20261101T060000
END:STANDARD
END:VTIMEZONE
BEGIN:VEVENT
DTSTART;TZID=America/New_York:20250927T140000
DTEND;TZID=America/New_York:20250927T150000
DTSTAMP:20260421T220912
CREATED:20250903T195856Z
LAST-MODIFIED:20250904T184822Z
UID:10024483-1758981600-1758985200@norwinpubliclibrary.net
SUMMARY:Origami Class - Vase and Flowers
DESCRIPTION:Learn to make origami flowers and a book vase. \nSpaces are limited.  Ages 16 and over. \nRegistrater here!
URL:https://norwinpubliclibrary.net/event/origami-class-vase-and-flowers/
LOCATION:Norwin Library Community Room\, 100 Caruthers Lane\, Irwin\, PA\, 15642\, United States
CATEGORIES:Library Programs,Origami
ATTACH;FMTTYPE=image/jpeg:https://norwinpubliclibrary.net/wp-content/uploads/2025/09/origami_vase7.jpg
ORGANIZER;CN="Krista Brown":MAILTO:kbrown@norwinpubliclibrary.net
END:VEVENT
END:VCALENDAR