BEGIN:VCALENDAR
VERSION:2.0
PRODID:-//Norwin Public Library - ECPv6.15.20//NONSGML v1.0//EN
CALSCALE:GREGORIAN
METHOD:PUBLISH
X-ORIGINAL-URL:https://norwinpubliclibrary.net
X-WR-CALDESC:Events for Norwin Public Library
REFRESH-INTERVAL;VALUE=DURATION:PT1H
X-Robots-Tag:noindex
X-PUBLISHED-TTL:PT1H
BEGIN:VTIMEZONE
TZID:America/New_York
BEGIN:DAYLIGHT
TZOFFSETFROM:-0500
TZOFFSETTO:-0400
TZNAME:EDT
DTSTART:20210314T070000
END:DAYLIGHT
BEGIN:STANDARD
TZOFFSETFROM:-0400
TZOFFSETTO:-0500
TZNAME:EST
DTSTART:20211107T060000
END:STANDARD
BEGIN:DAYLIGHT
TZOFFSETFROM:-0500
TZOFFSETTO:-0400
TZNAME:EDT
DTSTART:20220313T070000
END:DAYLIGHT
BEGIN:STANDARD
TZOFFSETFROM:-0400
TZOFFSETTO:-0500
TZNAME:EST
DTSTART:20221106T060000
END:STANDARD
BEGIN:DAYLIGHT
TZOFFSETFROM:-0500
TZOFFSETTO:-0400
TZNAME:EDT
DTSTART:20230312T070000
END:DAYLIGHT
BEGIN:STANDARD
TZOFFSETFROM:-0400
TZOFFSETTO:-0500
TZNAME:EST
DTSTART:20231105T060000
END:STANDARD
BEGIN:DAYLIGHT
TZOFFSETFROM:-0500
TZOFFSETTO:-0400
TZNAME:EDT
DTSTART:20240310T070000
END:DAYLIGHT
BEGIN:STANDARD
TZOFFSETFROM:-0400
TZOFFSETTO:-0500
TZNAME:EST
DTSTART:20241103T060000
END:STANDARD
BEGIN:DAYLIGHT
TZOFFSETFROM:-0500
TZOFFSETTO:-0400
TZNAME:EDT
DTSTART:20250309T070000
END:DAYLIGHT
BEGIN:STANDARD
TZOFFSETFROM:-0400
TZOFFSETTO:-0500
TZNAME:EST
DTSTART:20251102T060000
END:STANDARD
BEGIN:DAYLIGHT
TZOFFSETFROM:-0500
TZOFFSETTO:-0400
TZNAME:EDT
DTSTART:20260308T070000
END:DAYLIGHT
BEGIN:STANDARD
TZOFFSETFROM:-0400
TZOFFSETTO:-0500
TZNAME:EST
DTSTART:20261101T060000
END:STANDARD
BEGIN:DAYLIGHT
TZOFFSETFROM:-0500
TZOFFSETTO:-0400
TZNAME:EDT
DTSTART:20270314T070000
END:DAYLIGHT
BEGIN:STANDARD
TZOFFSETFROM:-0400
TZOFFSETTO:-0500
TZNAME:EST
DTSTART:20271107T060000
END:STANDARD
END:VTIMEZONE
BEGIN:VEVENT
DTSTART;TZID=America/New_York:20260311T100000
DTEND;TZID=America/New_York:20260311T180000
DTSTAMP:20260419T221432
CREATED:20260309T175715Z
LAST-MODIFIED:20260309T175805Z
UID:10024655-1773223200-1773252000@norwinpubliclibrary.net
SUMMARY:Book Sale Wednesday\, March 11th
DESCRIPTION:The Friends of the Norwin Library will be holding a book sale on Wednesday\, March 11th from 10 AM to 6 PM. Please park on the lower level of the building.
URL:https://norwinpubliclibrary.net/event/book-sale-wednesday-march11th/
LOCATION:Norwin Library Lower Level\, 100 Caruthers Lane\, Irwin\, PA\, 15642\, United States
CATEGORIES:Book Sales
ATTACH;FMTTYPE=image/jpeg:https://norwinpubliclibrary.net/wp-content/uploads/2026/03/booksale_mar.jpg
END:VEVENT
BEGIN:VEVENT
DTSTART;TZID=America/New_York:20251112T100000
DTEND;TZID=America/New_York:20251112T180000
DTSTAMP:20260419T221432
CREATED:20251029T204336Z
LAST-MODIFIED:20251029T204336Z
UID:10024499-1762941600-1762970400@norwinpubliclibrary.net
SUMMARY:Book Sale November 12th!
DESCRIPTION:The Friends of the Norwin Public Library are hosting a used book sale on Wednesday\, November 12th from 10:00am-6:00pm. \nA wide variety of gently used books will be individually priced for sale. \nPlease park in the lower lot and enter through the back door.
URL:https://norwinpubliclibrary.net/event/book-sale-november-12th/
LOCATION:Norwin Library Lower Level\, 100 Caruthers Lane\, Irwin\, PA\, 15642\, United States
CATEGORIES:Book Sales,Friends of the Library
ATTACH;FMTTYPE=image/jpeg:https://norwinpubliclibrary.net/wp-content/uploads/2025/10/booksale_nov.jpg
ORGANIZER;CN="Diana Falk":MAILTO:dfalk@norwinpubliclibrary.net
END:VEVENT
BEGIN:VEVENT
DTSTART;TZID=America/New_York:20240828T100000
DTEND;TZID=America/New_York:20240828T193000
DTSTAMP:20260419T221432
CREATED:20240424T192247Z
LAST-MODIFIED:20240424T192247Z
UID:10003378-1724839200-1724873400@norwinpubliclibrary.net
SUMMARY:Book Sale! 10 AM - 7:30 PM
DESCRIPTION:
URL:https://norwinpubliclibrary.net/event/book-sale-10-am-730-pm-2/
LOCATION:Norwin Library Lower Level\, 100 Caruthers Lane\, Irwin\, PA\, 15642\, United States
CATEGORIES:Book Sales,Friends of the Library
ATTACH;FMTTYPE=image/jpeg:https://norwinpubliclibrary.net/wp-content/uploads/2024/04/booksale_notime.jpg
END:VEVENT
BEGIN:VEVENT
DTSTART;TZID=America/New_York:20240626T100000
DTEND;TZID=America/New_York:20240629T163000
DTSTAMP:20260419T221432
CREATED:20240424T162629Z
LAST-MODIFIED:20240507T133359Z
UID:10003375-1719396000-1719678600@norwinpubliclibrary.net
SUMMARY:Buy the Bag Book Sale
DESCRIPTION:  \nThe Friends of the Norwin Public Library are holding their annual “Buy the Bag” book sale. \nWednesday\, June 26th: 10 AM – 7:30 PM \nThursday\, June 27th: 10 AM – 7:30 PM \nFriday June 28th: 10 AM – 4:30 PM \nSaturday\, June 29th: 10 AM – 4:30 PM \nThere will be a special Friends of the Library Members Preview on: \nTuesday\, June 25th: 4 PM – 7:30 PM
URL:https://norwinpubliclibrary.net/event/buy-the-bag-book-sale-2/
LOCATION:Norwin Library Lower Level\, 100 Caruthers Lane\, Irwin\, PA\, 15642\, United States
CATEGORIES:Book Sales,Friends of the Library
ATTACH;FMTTYPE=image/gif:https://norwinpubliclibrary.net/wp-content/uploads/2023/08/buythebag-e1717541865179.gif
END:VEVENT
BEGIN:VEVENT
DTSTART;TZID=America/New_York:20240515T100000
DTEND;TZID=America/New_York:20240515T193000
DTSTAMP:20260419T221432
CREATED:20240424T162010Z
LAST-MODIFIED:20240424T162010Z
UID:10003374-1715767200-1715801400@norwinpubliclibrary.net
SUMMARY:Book Sale 10 AM - 7:30 PM
DESCRIPTION:
URL:https://norwinpubliclibrary.net/event/book-sale-10-am-730-pm/
LOCATION:Norwin Library Lower Level\, 100 Caruthers Lane\, Irwin\, PA\, 15642\, United States
CATEGORIES:Book Sales,Friends of the Library
ATTACH;FMTTYPE=image/jpeg:https://norwinpubliclibrary.net/wp-content/uploads/2024/04/booksale_notime.jpg
END:VEVENT
BEGIN:VEVENT
DTSTART;TZID=America/New_York:20240427T110000
DTEND;TZID=America/New_York:20240427T160000
DTSTAMP:20260419T221432
CREATED:20240318T172105Z
LAST-MODIFIED:20240318T172105Z
UID:10002307-1714215600-1714233600@norwinpubliclibrary.net
SUMMARY:Local Author Book Fair
DESCRIPTION:The Norwin Public Library will be hosting local authors. Subjects range from children’s books\, young adult\, poetry\, novels\, inspirational and more! \n100% of the sales goes directly to the author. \nNo registration needed. Join us anytime from 11am-4pm. \n 
URL:https://norwinpubliclibrary.net/event/local-author-book-fair-2/
LOCATION:Norwin Library Community Room\, 100 Caruthers Lane\, Irwin\, PA\, 15642\, United States
CATEGORIES:Adult Program,Author Visit,Book Sales,Library Programs
ATTACH;FMTTYPE=image/webp:https://norwinpubliclibrary.net/wp-content/uploads/2024/03/local-author_0.jpg.webp
ORGANIZER;CN="Krista Brown":MAILTO:kbrown@norwinpubliclibrary.net
END:VEVENT
BEGIN:VEVENT
DTSTART;TZID=America/New_York:20240417T100000
DTEND;TZID=America/New_York:20240417T193000
DTSTAMP:20260419T221432
CREATED:20240314T163654Z
LAST-MODIFIED:20240314T165040Z
UID:10002303-1713348000-1713382200@norwinpubliclibrary.net
SUMMARY:Friends Book Sale
DESCRIPTION:In the library lower level. Please park in the lower lot.
URL:https://norwinpubliclibrary.net/event/friends-book-sale-2/
LOCATION:Norwin Library Lower Level\, 100 Caruthers Lane\, Irwin\, PA\, 15642\, United States
CATEGORIES:Book Sales,Friends of the Library
ATTACH;FMTTYPE=image/jpeg:https://norwinpubliclibrary.net/wp-content/uploads/2024/03/booksale_apr.jpg
END:VEVENT
BEGIN:VEVENT
DTSTART;TZID=America/New_York:20240313T100000
DTEND;TZID=America/New_York:20240313T193000
DTSTAMP:20260419T221432
CREATED:20240206T214505Z
LAST-MODIFIED:20240206T214505Z
UID:10002260-1710324000-1710358200@norwinpubliclibrary.net
SUMMARY:Book Sale!
DESCRIPTION:Individually priced books. The sale will take place in the library basement. You may enter through the lower entrance.
URL:https://norwinpubliclibrary.net/event/book-sale-4/
LOCATION:Norwin Library Lower Level\, 100 Caruthers Lane\, Irwin\, PA\, 15642\, United States
CATEGORIES:Book Sales
ATTACH;FMTTYPE=image/jpeg:https://norwinpubliclibrary.net/wp-content/uploads/2024/02/booksale-1.jpg
END:VEVENT
BEGIN:VEVENT
DTSTART;TZID=America/New_York:20240214T100000
DTEND;TZID=America/New_York:20240214T193000
DTSTAMP:20260419T221432
CREATED:20240206T213755Z
LAST-MODIFIED:20240206T213755Z
UID:10002259-1707904800-1707939000@norwinpubliclibrary.net
SUMMARY:Book Sale
DESCRIPTION:Books individually priced. Sale will take place in the lower level of the library.
URL:https://norwinpubliclibrary.net/event/book-sale-3/
LOCATION:Norwin Library Lower Level\, 100 Caruthers Lane\, Irwin\, PA\, 15642\, United States
CATEGORIES:Book Sales
ATTACH;FMTTYPE=image/jpeg:https://norwinpubliclibrary.net/wp-content/uploads/2024/02/booksale.jpg
END:VEVENT
BEGIN:VEVENT
DTSTART;TZID=America/New_York:20240202T100000
DTEND;TZID=America/New_York:20240202T163000
DTSTAMP:20260419T221432
CREATED:20240109T175928Z
LAST-MODIFIED:20240109T175928Z
UID:10001977-1706868000-1706891400@norwinpubliclibrary.net
SUMMARY:Friends of the Library Book Sale!
DESCRIPTION:The next Friends of the Norwin Library book sale will be held in the library basement on February 2nd from 10am – 4:30pm. \n 
URL:https://norwinpubliclibrary.net/event/friends-of-the-library-book-sale-3/
LOCATION:PA
CATEGORIES:Book Sales,Friends of the Library
ATTACH;FMTTYPE=image/jpeg:https://norwinpubliclibrary.net/wp-content/uploads/2024/01/booksale_feb.jpg
END:VEVENT
BEGIN:VEVENT
DTSTART;TZID=America/New_York:20231124T100000
DTEND;TZID=America/New_York:20231221T170000
DTSTAMP:20260419T221432
CREATED:20231121T172228Z
LAST-MODIFIED:20231121T172228Z
UID:10000914-1700820000-1703178000@norwinpubliclibrary.net
SUMMARY:Holiday Basket Sale - Friends of the Library
DESCRIPTION:The Friends of the Norwin Public Library will be holding their annual Holiday Basket Sale from Friday\, November 24th until Thursday\, December 21st. \nThe baskets are created and designed by the Friends of the Norwin Public Library and contain donated books\, puzzles\, and other themed products that will make the perfect gift for the book and library lover in your life. \nThe sale will be held upstairs in the main library next to the circulation desk.
URL:https://norwinpubliclibrary.net/event/holiday-basket-sale-friends-of-the-library/
LOCATION:Norwin Public Library\, 100 Caruthers Lane\, Irwin\, PA\, 15642
CATEGORIES:Book Sales,Friends of the Library
ATTACH;FMTTYPE=image/jpeg:https://norwinpubliclibrary.net/wp-content/uploads/2023/11/Holiday-basket-sale.jpg
END:VEVENT
BEGIN:VEVENT
DTSTART;TZID=America/New_York:20230923T110000
DTEND;TZID=America/New_York:20230923T160000
DTSTAMP:20260419T221432
CREATED:20230809T231302Z
LAST-MODIFIED:20230810T202517Z
UID:10000257-1695466800-1695484800@norwinpubliclibrary.net
SUMMARY:Local Author Book Fair
DESCRIPTION:.Join us for our local author book fair. \nWe will have sixteen local authors with book topics ranging from novels\, children’s books\, poetry\, inspirational\, young adult and more. \nPlease stop by and support our authors.  100% of the profits will go to the authors.
URL:https://norwinpubliclibrary.net/event/local-author-book-fair/
LOCATION:Norwin Library Community Room\, 100 Caruthers Lane\, Irwin\, PA\, 15642\, United States
CATEGORIES:Book Sales,Library Programs
ATTACH;FMTTYPE=image/gif:https://norwinpubliclibrary.net/wp-content/uploads/2023/08/localauthor.gif
ORGANIZER;CN="Krista Brown":MAILTO:kbrown@norwinpubliclibrary.net
END:VEVENT
BEGIN:VEVENT
DTSTART;TZID=America/New_York:20230916T100000
DTEND;TZID=America/New_York:20230916T170000
DTSTAMP:20260419T221432
CREATED:20230822T174958Z
LAST-MODIFIED:20230822T174958Z
UID:10000324-1694858400-1694883600@norwinpubliclibrary.net
SUMMARY:Buy the Bag Book Sale!
DESCRIPTION:The Friends of the Library are holding their famous Brown Bag Sale:\n\nWednesday September 13th 10:00am-6:00pm\nThursday September 14th   10:00am-6:00pm\nFriday September 15th 10:00am -5:00pm\nSaturday September 16th 10:00am -5:00pm.\n\nThere will be a special preview sale for members of the Friends of the Library on Tuesday\, September 12th from 4:00-8:00pm.\n\nPlease park in the lower lot.  All proceeds benefit the Norwin Public Library.
URL:https://norwinpubliclibrary.net/event/buy-the-bag-book-sale/2023-09-16/
LOCATION:Norwin Library Lower Level\, 100 Caruthers Lane\, Irwin\, PA\, 15642\, United States
CATEGORIES:Book Sales,Friends of the Library
ATTACH;FMTTYPE=image/gif:https://norwinpubliclibrary.net/wp-content/uploads/2023/08/buythebag-e1717541865179.gif
END:VEVENT
BEGIN:VEVENT
DTSTART;TZID=America/New_York:20230915T100000
DTEND;TZID=America/New_York:20230915T170000
DTSTAMP:20260419T221432
CREATED:20230822T174958Z
LAST-MODIFIED:20230822T174958Z
UID:10000323-1694772000-1694797200@norwinpubliclibrary.net
SUMMARY:Buy the Bag Book Sale!
DESCRIPTION:The Friends of the Library are holding their famous Brown Bag Sale:\n\nWednesday September 13th 10:00am-6:00pm\nThursday September 14th   10:00am-6:00pm\nFriday September 15th 10:00am -5:00pm\nSaturday September 16th 10:00am -5:00pm.\n\nThere will be a special preview sale for members of the Friends of the Library on Tuesday\, September 12th from 4:00-8:00pm.\n\nPlease park in the lower lot.  All proceeds benefit the Norwin Public Library.
URL:https://norwinpubliclibrary.net/event/buy-the-bag-book-sale/2023-09-15/
LOCATION:Norwin Library Lower Level\, 100 Caruthers Lane\, Irwin\, PA\, 15642\, United States
CATEGORIES:Book Sales,Friends of the Library
ATTACH;FMTTYPE=image/gif:https://norwinpubliclibrary.net/wp-content/uploads/2023/08/buythebag-e1717541865179.gif
END:VEVENT
BEGIN:VEVENT
DTSTART;TZID=America/New_York:20230914T100000
DTEND;TZID=America/New_York:20230914T180000
DTSTAMP:20260419T221432
CREATED:20230822T174958Z
LAST-MODIFIED:20230822T174958Z
UID:10000322-1694685600-1694714400@norwinpubliclibrary.net
SUMMARY:Buy the Bag Book Sale!
DESCRIPTION:The Friends of the Library are holding their famous Brown Bag Sale:\n\nWednesday September 13th 10:00am-6:00pm\nThursday September 14th   10:00am-6:00pm\nFriday September 15th 10:00am -5:00pm\nSaturday September 16th 10:00am -5:00pm.\n\nThere will be a special preview sale for members of the Friends of the Library on Tuesday\, September 12th from 4:00-8:00pm.\n\nPlease park in the lower lot.  All proceeds benefit the Norwin Public Library.
URL:https://norwinpubliclibrary.net/event/buy-the-bag-book-sale/2023-09-14/
LOCATION:Norwin Library Lower Level\, 100 Caruthers Lane\, Irwin\, PA\, 15642\, United States
CATEGORIES:Book Sales,Friends of the Library
ATTACH;FMTTYPE=image/gif:https://norwinpubliclibrary.net/wp-content/uploads/2023/08/buythebag-e1717541865179.gif
END:VEVENT
BEGIN:VEVENT
DTSTART;TZID=America/New_York:20230913T100000
DTEND;TZID=America/New_York:20230913T180000
DTSTAMP:20260419T221432
CREATED:20230822T174958Z
LAST-MODIFIED:20230822T174958Z
UID:10000321-1694599200-1694628000@norwinpubliclibrary.net
SUMMARY:Buy the Bag Book Sale!
DESCRIPTION:The Friends of the Library are holding their famous Brown Bag Sale:\n\nWednesday September 13th 10:00am-6:00pm\nThursday September 14th   10:00am-6:00pm\nFriday September 15th 10:00am -5:00pm\nSaturday September 16th 10:00am -5:00pm.\n\nThere will be a special preview sale for members of the Friends of the Library on Tuesday\, September 12th from 4:00-8:00pm.\n\nPlease park in the lower lot.  All proceeds benefit the Norwin Public Library.
URL:https://norwinpubliclibrary.net/event/buy-the-bag-book-sale/2023-09-13/
LOCATION:Norwin Library Lower Level\, 100 Caruthers Lane\, Irwin\, PA\, 15642\, United States
CATEGORIES:Book Sales,Friends of the Library
ATTACH;FMTTYPE=image/gif:https://norwinpubliclibrary.net/wp-content/uploads/2023/08/buythebag-e1717541865179.gif
END:VEVENT
BEGIN:VEVENT
DTSTART;TZID=America/New_York:20230823T100000
DTEND;TZID=America/New_York:20230823T180000
DTSTAMP:20260419T221432
CREATED:20230818T140739Z
LAST-MODIFIED:20230818T141002Z
UID:10000320-1692784800-1692813600@norwinpubliclibrary.net
SUMMARY:Friends Book Sale!
DESCRIPTION:Join us for a Friends of the Library Used Book Sale! \nAll proceeds will benefit the Norwin Public Library!
URL:https://norwinpubliclibrary.net/event/friends-book-sale/
LOCATION:Norwin Library Lower Level\, 100 Caruthers Lane\, Irwin\, PA\, 15642\, United States
CATEGORIES:Book Sales,Friends of the Library
ATTACH;FMTTYPE=image/jpeg:https://norwinpubliclibrary.net/wp-content/uploads/2023/03/booksale106.jpg
ORGANIZER;CN="Diana Falk":MAILTO:dfalk@norwinpubliclibrary.net
END:VEVENT
BEGIN:VEVENT
DTSTART;TZID=America/New_York:20230202T100000
DTEND;TZID=America/New_York:20230202T180000
DTSTAMP:20260419T221432
CREATED:20230118T201636Z
LAST-MODIFIED:20230118T201636Z
UID:10000101-1675332000-1675360800@norwinpubliclibrary.net
SUMMARY:Book Sale!
DESCRIPTION:The Friends of the Norwin Public Library will host a used book sale on Thursday\, February 2\,2023 from 10:00am-6:00pm in the lower level of the Library.
URL:https://norwinpubliclibrary.net/event/book-sale/
LOCATION:Norwin Library Lower Level\, 100 Caruthers Lane\, Irwin\, PA\, 15642\, United States
CATEGORIES:Book Sales,Friends of the Library
ATTACH;FMTTYPE=image/jpeg:https://norwinpubliclibrary.net/wp-content/uploads/2022/08/booksaletable-scaled-e1674072968247.jpg
END:VEVENT
BEGIN:VEVENT
DTSTART;TZID=America/New_York:20220914T100000
DTEND;TZID=America/New_York:20220917T180000
DTSTAMP:20260419T221432
CREATED:20220727T230253Z
LAST-MODIFIED:20220831T140704Z
UID:10000003-1663149600-1663437600@norwinpubliclibrary.net
SUMMARY:Friends of the Library Book Sale!
DESCRIPTION:Book Sale held in library basement. Enter from Bottom Parking Lot. From 10am to 6pm daily. \nThis is a Buy-The-Bag event. Buy one of our grocery-style paper bags for $5 and fill it with as many books as will fit! \nStop in for some great bargains!
URL:https://norwinpubliclibrary.net/event/friends-of-the-library-book-sale/
LOCATION:Norwin Public Library\, 100 Caruthers Lane\, Irwin\, PA\, 15642
CATEGORIES:Book Sales,Friends of the Library
ATTACH;FMTTYPE=image/jpeg:https://norwinpubliclibrary.net/wp-content/uploads/2022/08/booksaletable-scaled-e1674072968247.jpg
END:VEVENT
END:VCALENDAR