BEGIN:VCALENDAR
VERSION:2.0
PRODID:-//Norwin Public Library - ECPv6.15.20//NONSGML v1.0//EN
CALSCALE:GREGORIAN
METHOD:PUBLISH
X-WR-CALNAME:Norwin Public Library
X-ORIGINAL-URL:https://norwinpubliclibrary.net
X-WR-CALDESC:Events for Norwin Public Library
REFRESH-INTERVAL;VALUE=DURATION:PT1H
X-Robots-Tag:noindex
X-PUBLISHED-TTL:PT1H
BEGIN:VTIMEZONE
TZID:America/New_York
BEGIN:DAYLIGHT
TZOFFSETFROM:-0500
TZOFFSETTO:-0400
TZNAME:EDT
DTSTART:20220313T070000
END:DAYLIGHT
BEGIN:STANDARD
TZOFFSETFROM:-0400
TZOFFSETTO:-0500
TZNAME:EST
DTSTART:20221106T060000
END:STANDARD
BEGIN:DAYLIGHT
TZOFFSETFROM:-0500
TZOFFSETTO:-0400
TZNAME:EDT
DTSTART:20230312T070000
END:DAYLIGHT
BEGIN:STANDARD
TZOFFSETFROM:-0400
TZOFFSETTO:-0500
TZNAME:EST
DTSTART:20231105T060000
END:STANDARD
BEGIN:DAYLIGHT
TZOFFSETFROM:-0500
TZOFFSETTO:-0400
TZNAME:EDT
DTSTART:20240310T070000
END:DAYLIGHT
BEGIN:STANDARD
TZOFFSETFROM:-0400
TZOFFSETTO:-0500
TZNAME:EST
DTSTART:20241103T060000
END:STANDARD
END:VTIMEZONE
BEGIN:VEVENT
DTSTART;TZID=America/New_York:20231124T100000
DTEND;TZID=America/New_York:20231221T170000
DTSTAMP:20260424T071125
CREATED:20231121T172228Z
LAST-MODIFIED:20231121T172228Z
UID:10000914-1700820000-1703178000@norwinpubliclibrary.net
SUMMARY:Holiday Basket Sale - Friends of the Library
DESCRIPTION:The Friends of the Norwin Public Library will be holding their annual Holiday Basket Sale from Friday\, November 24th until Thursday\, December 21st. \nThe baskets are created and designed by the Friends of the Norwin Public Library and contain donated books\, puzzles\, and other themed products that will make the perfect gift for the book and library lover in your life. \nThe sale will be held upstairs in the main library next to the circulation desk.
URL:https://norwinpubliclibrary.net/event/holiday-basket-sale-friends-of-the-library/
LOCATION:Norwin Public Library\, 100 Caruthers Lane\, Irwin\, PA\, 15642
CATEGORIES:Book Sales,Friends of the Library
ATTACH;FMTTYPE=image/jpeg:https://norwinpubliclibrary.net/wp-content/uploads/2023/11/Holiday-basket-sale.jpg
END:VEVENT
END:VCALENDAR