BEGIN:VCALENDAR
VERSION:2.0
PRODID:-//Norwin Public Library - ECPv6.15.20//NONSGML v1.0//EN
CALSCALE:GREGORIAN
METHOD:PUBLISH
X-ORIGINAL-URL:https://norwinpubliclibrary.net
X-WR-CALDESC:Events for Norwin Public Library
REFRESH-INTERVAL;VALUE=DURATION:PT1H
X-Robots-Tag:noindex
X-PUBLISHED-TTL:PT1H
BEGIN:VTIMEZONE
TZID:America/New_York
BEGIN:DAYLIGHT
TZOFFSETFROM:-0500
TZOFFSETTO:-0400
TZNAME:EDT
DTSTART:20220313T070000
END:DAYLIGHT
BEGIN:STANDARD
TZOFFSETFROM:-0400
TZOFFSETTO:-0500
TZNAME:EST
DTSTART:20221106T060000
END:STANDARD
BEGIN:DAYLIGHT
TZOFFSETFROM:-0500
TZOFFSETTO:-0400
TZNAME:EDT
DTSTART:20230312T070000
END:DAYLIGHT
BEGIN:STANDARD
TZOFFSETFROM:-0400
TZOFFSETTO:-0500
TZNAME:EST
DTSTART:20231105T060000
END:STANDARD
BEGIN:DAYLIGHT
TZOFFSETFROM:-0500
TZOFFSETTO:-0400
TZNAME:EDT
DTSTART:20240310T070000
END:DAYLIGHT
BEGIN:STANDARD
TZOFFSETFROM:-0400
TZOFFSETTO:-0500
TZNAME:EST
DTSTART:20241103T060000
END:STANDARD
BEGIN:DAYLIGHT
TZOFFSETFROM:-0500
TZOFFSETTO:-0400
TZNAME:EDT
DTSTART:20250309T070000
END:DAYLIGHT
BEGIN:STANDARD
TZOFFSETFROM:-0400
TZOFFSETTO:-0500
TZNAME:EST
DTSTART:20251102T060000
END:STANDARD
BEGIN:DAYLIGHT
TZOFFSETFROM:-0500
TZOFFSETTO:-0400
TZNAME:EDT
DTSTART:20260308T070000
END:DAYLIGHT
BEGIN:STANDARD
TZOFFSETFROM:-0400
TZOFFSETTO:-0500
TZNAME:EST
DTSTART:20261101T060000
END:STANDARD
END:VTIMEZONE
BEGIN:VEVENT
DTSTART;TZID=America/New_York:20250414T163000
DTEND;TZID=America/New_York:20250414T173000
DTSTAMP:20260420T221553
CREATED:20250318T172632Z
LAST-MODIFIED:20250318T172655Z
UID:10023840-1744648200-1744651800@norwinpubliclibrary.net
SUMMARY:Norwin Library Annual Meeting
DESCRIPTION:The Annual Meeting of the Board of Trustees for the Norwin Public Library
URL:https://norwinpubliclibrary.net/event/norwin-library-annual-meeting/
LOCATION:Norwin Public Library\, 100 Caruthers Lane\, Irwin\, PA\, 15642
CATEGORIES:Board of Trustees
ATTACH;FMTTYPE=image/jpeg:https://norwinpubliclibrary.net/wp-content/uploads/2025/02/trustees2025.jpg
ORGANIZER;CN="Diana Falk":MAILTO:dfalk@norwinpubliclibrary.net
END:VEVENT
BEGIN:VEVENT
DTSTART;TZID=America/New_York:20241209T163000
DTEND;TZID=America/New_York:20241209T173000
DTSTAMP:20260420T221553
CREATED:20230615T191111Z
LAST-MODIFIED:20240103T154946Z
UID:10001970-1733761800-1733765400@norwinpubliclibrary.net
SUMMARY:Board of Trustees Meeting
DESCRIPTION:Public Meeting of the Norwin Library Board of Trustees
URL:https://norwinpubliclibrary.net/event/board-of-trustees-meeting-7/2024-12-09/
LOCATION:Norwin Library Community Room\, 100 Caruthers Lane\, Irwin\, PA\, 15642\, United States
CATEGORIES:Board of Trustees
ORGANIZER;CN="Diana Falk":MAILTO:dfalk@norwinpubliclibrary.net
END:VEVENT
BEGIN:VEVENT
DTSTART;TZID=America/New_York:20241014T163000
DTEND;TZID=America/New_York:20241014T173000
DTSTAMP:20260420T221553
CREATED:20230615T191111Z
LAST-MODIFIED:20240103T154946Z
UID:10001969-1728923400-1728927000@norwinpubliclibrary.net
SUMMARY:Board of Trustees Meeting
DESCRIPTION:Public Meeting of the Norwin Library Board of Trustees
URL:https://norwinpubliclibrary.net/event/board-of-trustees-meeting-7/2024-10-14/
LOCATION:Norwin Library Community Room\, 100 Caruthers Lane\, Irwin\, PA\, 15642\, United States
CATEGORIES:Board of Trustees
ORGANIZER;CN="Diana Falk":MAILTO:dfalk@norwinpubliclibrary.net
END:VEVENT
BEGIN:VEVENT
DTSTART;TZID=America/New_York:20240812T163000
DTEND;TZID=America/New_York:20240812T173000
DTSTAMP:20260420T221553
CREATED:20230615T191111Z
LAST-MODIFIED:20240103T154946Z
UID:10001968-1723480200-1723483800@norwinpubliclibrary.net
SUMMARY:Board of Trustees Meeting
DESCRIPTION:Public Meeting of the Norwin Library Board of Trustees
URL:https://norwinpubliclibrary.net/event/board-of-trustees-meeting-7/2024-08-12/
LOCATION:Norwin Library Community Room\, 100 Caruthers Lane\, Irwin\, PA\, 15642\, United States
CATEGORIES:Board of Trustees
ORGANIZER;CN="Diana Falk":MAILTO:dfalk@norwinpubliclibrary.net
END:VEVENT
BEGIN:VEVENT
DTSTART;TZID=America/New_York:20240610T163000
DTEND;TZID=America/New_York:20240610T173000
DTSTAMP:20260420T221553
CREATED:20230615T191111Z
LAST-MODIFIED:20240103T154946Z
UID:10001967-1718037000-1718040600@norwinpubliclibrary.net
SUMMARY:Board of Trustees Meeting
DESCRIPTION:Public Meeting of the Norwin Library Board of Trustees
URL:https://norwinpubliclibrary.net/event/board-of-trustees-meeting-7/2024-06-10/
LOCATION:Norwin Library Community Room\, 100 Caruthers Lane\, Irwin\, PA\, 15642\, United States
CATEGORIES:Board of Trustees
ORGANIZER;CN="Diana Falk":MAILTO:dfalk@norwinpubliclibrary.net
END:VEVENT
BEGIN:VEVENT
DTSTART;TZID=America/New_York:20240408T150000
DTEND;TZID=America/New_York:20240408T163000
DTSTAMP:20260420T221553
CREATED:20221213T165148Z
LAST-MODIFIED:20240320T122049Z
UID:10000061-1712588400-1712593800@norwinpubliclibrary.net
SUMMARY:Board of Trustees Annual Meeting
DESCRIPTION:The ANNUAL MEETING of Norwin Public Library Board of Trustees and Friends of the Norwin Public Library. \nPlease join us for the peak of the eclipse at 3:15pm. Meeting to follow. \nLight Refreshments will be served. \nRegistration is requested.
URL:https://norwinpubliclibrary.net/event/board-of-trustees-meeting-2/
LOCATION:Norwin Library Community Room\, 100 Caruthers Lane\, Irwin\, PA\, 15642\, United States
CATEGORIES:Board of Trustees
ORGANIZER;CN="Diana Falk":MAILTO:dfalk@norwinpubliclibrary.net
END:VEVENT
BEGIN:VEVENT
DTSTART;TZID=America/New_York:20240212T163000
DTEND;TZID=America/New_York:20240212T173000
DTSTAMP:20260420T221553
CREATED:20230615T191111Z
LAST-MODIFIED:20240103T154946Z
UID:10001966-1707755400-1707759000@norwinpubliclibrary.net
SUMMARY:Board of Trustees Meeting
DESCRIPTION:Public Meeting of the Norwin Library Board of Trustees
URL:https://norwinpubliclibrary.net/event/board-of-trustees-meeting-7/2024-02-12/
LOCATION:Norwin Library Community Room\, 100 Caruthers Lane\, Irwin\, PA\, 15642\, United States
CATEGORIES:Board of Trustees
ORGANIZER;CN="Diana Falk":MAILTO:dfalk@norwinpubliclibrary.net
END:VEVENT
BEGIN:VEVENT
DTSTART;TZID=America/New_York:20231211T163000
DTEND;TZID=America/New_York:20231211T173000
DTSTAMP:20260420T221553
CREATED:20230615T191111Z
LAST-MODIFIED:20240103T154946Z
UID:10000209-1702312200-1702315800@norwinpubliclibrary.net
SUMMARY:Board of Trustees Meeting
DESCRIPTION:Public Meeting of the Norwin Library Board of Trustees
URL:https://norwinpubliclibrary.net/event/board-of-trustees-meeting-7/2023-12-11/
LOCATION:Norwin Library Community Room\, 100 Caruthers Lane\, Irwin\, PA\, 15642\, United States
CATEGORIES:Board of Trustees
ORGANIZER;CN="Diana Falk":MAILTO:dfalk@norwinpubliclibrary.net
END:VEVENT
BEGIN:VEVENT
DTSTART;TZID=America/New_York:20230617T173000
DTEND;TZID=America/New_York:20230617T183000
DTSTAMP:20260420T221553
CREATED:20221213T165315Z
LAST-MODIFIED:20240220T164315Z
UID:10000062-1687023000-1687026600@norwinpubliclibrary.net
SUMMARY:Board of Trustees Meeting
DESCRIPTION:Public Meeting of the Norwin Library Board of Trustees
URL:https://norwinpubliclibrary.net/event/board-of-trustees-meeting-3/
LOCATION:Norwin Library Community Room\, 100 Caruthers Lane\, Irwin\, PA\, 15642\, United States
CATEGORIES:Board of Trustees
ORGANIZER;CN="Diana Falk":MAILTO:dfalk@norwinpubliclibrary.net
END:VEVENT
END:VCALENDAR