BEGIN:VCALENDAR
VERSION:2.0
PRODID:-//Norwin Public Library - ECPv6.15.20//NONSGML v1.0//EN
CALSCALE:GREGORIAN
METHOD:PUBLISH
X-WR-CALNAME:Norwin Public Library
X-ORIGINAL-URL:https://norwinpubliclibrary.net
X-WR-CALDESC:Events for Norwin Public Library
REFRESH-INTERVAL;VALUE=DURATION:PT1H
X-Robots-Tag:noindex
X-PUBLISHED-TTL:PT1H
BEGIN:VTIMEZONE
TZID:America/New_York
BEGIN:DAYLIGHT
TZOFFSETFROM:-0500
TZOFFSETTO:-0400
TZNAME:EDT
DTSTART:20230312T070000
END:DAYLIGHT
BEGIN:STANDARD
TZOFFSETFROM:-0400
TZOFFSETTO:-0500
TZNAME:EST
DTSTART:20231105T060000
END:STANDARD
BEGIN:DAYLIGHT
TZOFFSETFROM:-0500
TZOFFSETTO:-0400
TZNAME:EDT
DTSTART:20240310T070000
END:DAYLIGHT
BEGIN:STANDARD
TZOFFSETFROM:-0400
TZOFFSETTO:-0500
TZNAME:EST
DTSTART:20241103T060000
END:STANDARD
BEGIN:DAYLIGHT
TZOFFSETFROM:-0500
TZOFFSETTO:-0400
TZNAME:EDT
DTSTART:20250309T070000
END:DAYLIGHT
BEGIN:STANDARD
TZOFFSETFROM:-0400
TZOFFSETTO:-0500
TZNAME:EST
DTSTART:20251102T060000
END:STANDARD
END:VTIMEZONE
BEGIN:VEVENT
DTSTART;TZID=America/New_York:20241209T163000
DTEND;TZID=America/New_York:20241209T173000
DTSTAMP:20260423T191341
CREATED:20230615T191111Z
LAST-MODIFIED:20240103T154946Z
UID:10001970-1733761800-1733765400@norwinpubliclibrary.net
SUMMARY:Board of Trustees Meeting
DESCRIPTION:Public Meeting of the Norwin Library Board of Trustees
URL:https://norwinpubliclibrary.net/event/board-of-trustees-meeting-7/2024-12-09/
LOCATION:Norwin Library Community Room\, 100 Caruthers Lane\, Irwin\, PA\, 15642\, United States
CATEGORIES:Board of Trustees
ORGANIZER;CN="Diana Falk":MAILTO:dfalk@norwinpubliclibrary.net
END:VEVENT
END:VCALENDAR